From mboxrd@z Thu Jan  1 00:00:00 1970
Return-Path: <test-report-bounces@dpdk.org>
Received: from mails.dpdk.org (mails.dpdk.org [217.70.189.124])
	by inbox.dpdk.org (Postfix) with ESMTP id 27E6A464F2
	for <public@inbox.dpdk.org>; Thu,  3 Apr 2025 10:56:05 +0200 (CEST)
Received: from mails.dpdk.org (localhost [127.0.0.1])
	by mails.dpdk.org (Postfix) with ESMTP id 224E64060C;
	Thu,  3 Apr 2025 10:56:05 +0200 (CEST)
Received: from mail-io1-f97.google.com (mail-io1-f97.google.com
 [209.85.166.97]) by mails.dpdk.org (Postfix) with ESMTP id 2F4724060A
 for <test-report@dpdk.org>; Thu,  3 Apr 2025 10:56:03 +0200 (CEST)
Received: by mail-io1-f97.google.com with SMTP id
 ca18e2360f4ac-85e73562577so51285839f.0
 for <test-report@dpdk.org>; Thu, 03 Apr 2025 01:56:03 -0700 (PDT)
DKIM-Signature: v=1; a=rsa-sha256; c=relaxed/relaxed;
 d=iol.unh.edu; s=unh-iol; t=1743670562; x=1744275362; darn=dpdk.org;
 h=references:in-reply-to:cc:to:from:subject:message-id:date:from:to
 :cc:subject:date:message-id:reply-to;
 bh=SX1GAvJQ6MXKL3yUJQUwZD4nPb0TRZdvRp6r8ysi904=;
 b=Dyj9qDJVACyGvwbraVpUoZri6aDLtR4CCQ96Ne2ADQdUOeeje2+S92bxsQBUTvcCqR
 VFcSIiP4SOmIpRuBe2Hz6LMGlkgWXx3xp0nMUit3UiayGQtoculY4PNZHLRQSaoJSetL
 xfqYxCs3ufxTBvWVAF0aJAVDlZNXoqAYw58gA=
X-Google-DKIM-Signature: v=1; a=rsa-sha256; c=relaxed/relaxed;
 d=1e100.net; s=20230601; t=1743670562; x=1744275362;
 h=references:in-reply-to:cc:to:from:subject:message-id:date
 :x-gm-message-state:from:to:cc:subject:date:message-id:reply-to;
 bh=SX1GAvJQ6MXKL3yUJQUwZD4nPb0TRZdvRp6r8ysi904=;
 b=ja3qQsq2pVCcUL6zZHiki+4L9jEg7aQn/U/SpwWSH3VFffGtzdStipPjS3qlMs3OQ7
 EQuElyW+DE6kJQyuD5RkCZ2abt4n9vcs1pYnMjoyaf+oddrWxkwjaOGv1CH59XRYQZPi
 45a2j8+ISxuTQPU+8rTd9Y9ymXw/YDmXqxU48KSz7TZCRDI+Kk4PaBiB0J7vUzrOsCrC
 hDxtzw0/aXkWvmZKsHkK2s4HYx7RcGumikjiIsU4xTJT3U2fIgmf2jtujdhC6b4A3L8Q
 8j+sLggDvgZAxZIy3Hqz2eAgDUXA8InaOWrZWwnZEDMbTAyFTrJL9K/7GvjPaRoanHQR
 Zo5w==
X-Gm-Message-State: AOJu0YwE1Fa4x3e1hV9TkdmraSE9N6cDQUKh7g4yXT5jzdZJRP9eA/Ze
 ospEgPLTtVBth723dxevnUYiUvXQmspv48miiXEVksIt7F6No9PtNO4O4uuPnVWhtuH7z3zigco
 k3RuW/IlgCGU1SIkio3fGvKtsKW2WkZTSubUT9F6t
X-Gm-Gg: ASbGnctWHNStY8JqoKb6Oyny5i/cSRXrwRwGXiXmYFnxKmhaH2lgGtPTHzUE2DUxesc
 4Ne+GSlwWaFtyirSfLyCTeP2tdg/ykQeyGreMfinCCkUEVkAnWOncv6OlsvBabGxfAICGMl43tY
 QRbUeyHr3ymxRKwDvASiUu5bojogzRpyM5u/TPG7rqy2DEsu8HKeVrhaMKMmV9kUSiU40i0lKxf
 CjfJj7VzCLDN0y5NZPy78jWaYjjyTCxFbVnxJFwM9PKfZiuj9X/mFVRCKwyO1g3vF7joqsJK/D6
 2bIKdHfix4XG1G2jJBrkF6wz8h9lM/WlvJS2WT8c
X-Google-Smtp-Source: AGHT+IHnzYSf7ZfyXHPU04jE3KqybDW8gf8VcyuwtCaKA7bEf2iBgnsqPFSbnDOA+M2VakAY2A1UdOKIzy6V
X-Received: by 2002:a05:6602:370d:b0:85b:46d7:1899 with SMTP id
 ca18e2360f4ac-86110d2251emr172953939f.9.1743670562491; 
 Thu, 03 Apr 2025 01:56:02 -0700 (PDT)
Received: from postal.iol.unh.edu (postal.iol.unh.edu. [132.177.123.84])
 by smtp-relay.gmail.com with ESMTPS id
 8926c6da1cb9f-4f4b5d2fb8bsm340776173.48.2025.04.03.01.56.02
 (version=TLS1_2 cipher=ECDHE-ECDSA-AES128-GCM-SHA256 bits=128/128);
 Thu, 03 Apr 2025 01:56:02 -0700 (PDT)
X-Relaying-Domain: iol.unh.edu
Date: Thu, 03 Apr 2025 01:56:02 -0700 (PDT)
Message-ID: <67ee4d22.050a0220.33e326.20f6SMTPIN_ADDED_MISSING@mx.google.com>
Received: from [172.21.0.8] (unknown [172.18.0.240])
 by postal.iol.unh.edu (Postfix) with ESMTP id BB6CF6052471;
 Thu,  3 Apr 2025 04:55:59 -0400 (EDT)
Subject: |SUCCESS| pw152746-152747 [PATCH] [2/2] dts: update dpdk-devbind scr
From: dpdklab@iol.unh.edu
To: Test Report <test-report@dpdk.org>
Cc: dpdk-test-reports@iol.unh.edu
In-Reply-To: <20250403023059.1762841-3-probb@iol.unh.edu>
References: <20250403023059.1762841-3-probb@iol.unh.edu>
Content-Type: text/plain
X-BeenThere: test-report@dpdk.org
X-Mailman-Version: 2.1.29
Precedence: list
List-Id: automatic DPDK test reports <test-report.dpdk.org>
List-Unsubscribe: <https://mails.dpdk.org/options/test-report>,
 <mailto:test-report-request@dpdk.org?subject=unsubscribe>
List-Archive: <http://mails.dpdk.org/archives/test-report/>
List-Post: <mailto:test-report@dpdk.org>
List-Help: <mailto:test-report-request@dpdk.org?subject=help>
List-Subscribe: <https://mails.dpdk.org/listinfo/test-report>,
 <mailto:test-report-request@dpdk.org?subject=subscribe>
Errors-To: test-report-bounces@dpdk.org

Test-Label: iol-sample-apps-testing
Test-Status: SUCCESS
http://dpdk.org/patch/152747

_Testing PASS_

Submitter: Patrick Robb <probb@iol.unh.edu>
Date: Thursday, April 03 2025 02:30:59 
DPDK git baseline: Repo:dpdk
  Branch: master
  CommitID:7246d0a80cb79a04e1334393ef507aa4ef7accd9

152746-152747 --> testing pass

Upstream job id: ACVP-FIPS-testing#9437

Test environment and result as below:

+--------------------+----------------------+----------------------+
|    Environment     | compressdev_zlib_pmd | dpdk_fips_validation |
+====================+======================+======================+
| Ubuntu 22.04 (ARM) | PASS                 | SKIPPED              |
+--------------------+----------------------+----------------------+
| Ubuntu 22.04       | PASS                 | SKIPPED              |
+--------------------+----------------------+----------------------+
| Ubuntu 20.04       | SKIPPED              | PASS                 |
+--------------------+----------------------+----------------------+


Ubuntu 22.04 (ARM)
	Kernel: 5.15.0-97-generic
	Compiler: gcc gcc (Ubuntu 11.4.0-1ubuntu1~22.04) 11.4.0

Ubuntu 22.04
	Kernel: 5.15.0-100-generic
	Compiler: gcc gcc (Ubuntu 11.4.0-1ubuntu1~22.04) 11.4.0

Ubuntu 20.04
	Kernel: Depends on container host
	Compiler: gcc (Ubuntu 9.4.0-1ubuntu1~20.04.2) 9.4.0

To view detailed results, visit:
https://lab.dpdk.org/results/dashboard/patchsets/32936/

UNH-IOL DPDK Community Lab

To manage your email subscriptions, visit: 
https://lab.dpdk.org/results/dashboard/preferences/subscriptions/