From mboxrd@z Thu Jan  1 00:00:00 1970
Return-Path: <test-report-bounces@dpdk.org>
Received: from mails.dpdk.org (mails.dpdk.org [217.70.189.124])
	by inbox.dpdk.org (Postfix) with ESMTP id 4D02B464F6
	for <public@inbox.dpdk.org>; Thu,  3 Apr 2025 18:35:17 +0200 (CEST)
Received: from mails.dpdk.org (localhost [127.0.0.1])
	by mails.dpdk.org (Postfix) with ESMTP id 2400B402DF;
	Thu,  3 Apr 2025 18:35:17 +0200 (CEST)
Received: from mail-qt1-f228.google.com (mail-qt1-f228.google.com
 [209.85.160.228])
 by mails.dpdk.org (Postfix) with ESMTP id 40CB1402CB
 for <test-report@dpdk.org>; Thu,  3 Apr 2025 18:35:16 +0200 (CEST)
Received: by mail-qt1-f228.google.com with SMTP id
 d75a77b69052e-476a304a8edso10212171cf.3
 for <test-report@dpdk.org>; Thu, 03 Apr 2025 09:35:16 -0700 (PDT)
DKIM-Signature: v=1; a=rsa-sha256; c=relaxed/relaxed;
 d=iol.unh.edu; s=unh-iol; t=1743698115; x=1744302915; darn=dpdk.org;
 h=references:in-reply-to:cc:to:from:subject:message-id:date:from:to
 :cc:subject:date:message-id:reply-to;
 bh=sRu6ooyHGNpKGmr5zNYNg2NCKfqFmE1Bx1tzhSZdHjA=;
 b=EU5RgqyasLk4mTphWYWNxNHjhuSAnnXihdUG80RwFcPqyZ2KnQ9ftN70hm8FJfkwpU
 ajTh0uKSY4JJvaQ5Urp83sCbcM8DTU+mVM1MkoDu7xl8RMdtyutIDjJyIom3uQseV/H2
 FdCmymJPJqzGIFSLh5XY6u8M6rxJzxsVFYsaw=
X-Google-DKIM-Signature: v=1; a=rsa-sha256; c=relaxed/relaxed;
 d=1e100.net; s=20230601; t=1743698115; x=1744302915;
 h=references:in-reply-to:cc:to:from:subject:message-id:date
 :x-gm-message-state:from:to:cc:subject:date:message-id:reply-to;
 bh=sRu6ooyHGNpKGmr5zNYNg2NCKfqFmE1Bx1tzhSZdHjA=;
 b=aohyLVukwjsWtON3JCJOalKelCCjaR5YOs/nfHg1+mj3mAfqiI+A+BY5QXaji8nPFy
 Y62SQoBynqjyU/0AdsyjsF+K1VYNAtAtjFbgF15FuyUyymyotep5GfI+N4jB+jaPxsTK
 AiqgAZ/+140BuTX6dexjN8v4hAIG7+jqMVNepaLT3Jo2NvQQHvheJs6OuWgNvBJuoe5D
 s/dKVL4dRrTLbsjDhLJeLunUuaqQQhTiKSZaiTNojiJsWRUssHmyz4DU30oV9grLLLL+
 zBYuooj/K1Upaf5Z1litGEpLsXiPSzQZrfYvZwvR2Mp5PYocF3lBuaq/190+YgXntYQP
 87PA==
X-Gm-Message-State: AOJu0YwdQWzXnqbT/WwnYK+PajwsIb1JlF4gggQj91+cMFRQQVDmgFp9
 /7fyBwTPcT8YO3XmDf/qjxswP8lYzqQ4sEIDemUdPkg2g541RRzRfinRPCaBsECh205VU8uCK9e
 Ev4QNNjRK/2nwjZpk3LFwWNtKdb6UhfgbaQ10FWy9
X-Gm-Gg: ASbGnctDeHWYy9c2HG3k/9d4vBP0cXSp6t68MnebyYWEYrPLBZPkH8BV9TCD8RLeG4d
 SJwICKz8nV5JupdP4M0DNqVr5LgLvgHllPaXRKihzziN7TzBO2dhkP76vvkwATotge0ovbHtxYY
 1w4sqjTczF7Bh7vbwgxBQ4VSYjVVHGmRhA6aoWqR+Qb6HNdREO/qLBqPZ9mB0HVCaPpVHoGaph9
 QgxxLHwUYuwkDM5xHDt19hE176wjZ+rB6KhgcVMAG+P/6fyxEJaBQQMkVmD6YzbvwGQQMWd2T03
 QL8cOlP1m6soBU0W3vQ9RcBqv0zwcnXLeIlcD6Bt
X-Google-Smtp-Source: AGHT+IGk0ONQtV/Hr41l7njpcHj0qXkrLYQJfk/caZafjX29tWT9jUUy4aWHTCIq6cufoGTOeAvY+gXV9uMn
X-Received: by 2002:a05:622a:1916:b0:476:7112:4add with SMTP id
 d75a77b69052e-47924946c84mr1766031cf.18.1743698115552; 
 Thu, 03 Apr 2025 09:35:15 -0700 (PDT)
Received: from postal.iol.unh.edu (postal.iol.unh.edu. [132.177.123.84])
 by smtp-relay.gmail.com with ESMTPS id
 d75a77b69052e-4791b0882e3sm2940921cf.14.2025.04.03.09.35.15
 (version=TLS1_2 cipher=ECDHE-ECDSA-AES128-GCM-SHA256 bits=128/128);
 Thu, 03 Apr 2025 09:35:15 -0700 (PDT)
X-Relaying-Domain: iol.unh.edu
Date: Thu, 03 Apr 2025 09:35:15 -0700 (PDT)
Message-ID: <67eeb8c3.c80a0220.15cd58.30bcSMTPIN_ADDED_MISSING@mx.google.com>
Received: from [172.17.0.4] (unknown [172.18.0.217])
 by postal.iol.unh.edu (Postfix) with ESMTP id 489E56052471;
 Thu,  3 Apr 2025 12:35:15 -0400 (EDT)
Subject: |SUCCESS| pw152756-152759 [PATCH] [v6,4/4] net/idpf: use common Tx f
From: dpdklab@iol.unh.edu
To: Test Report <test-report@dpdk.org>
Cc: dpdk-test-reports@iol.unh.edu
In-Reply-To: <20250403112429.2741138-5-shaiq.wani@intel.com>
References: <20250403112429.2741138-5-shaiq.wani@intel.com>
Content-Type: text/plain
X-BeenThere: test-report@dpdk.org
X-Mailman-Version: 2.1.29
Precedence: list
List-Id: automatic DPDK test reports <test-report.dpdk.org>
List-Unsubscribe: <https://mails.dpdk.org/options/test-report>,
 <mailto:test-report-request@dpdk.org?subject=unsubscribe>
List-Archive: <http://mails.dpdk.org/archives/test-report/>
List-Post: <mailto:test-report@dpdk.org>
List-Help: <mailto:test-report-request@dpdk.org?subject=help>
List-Subscribe: <https://mails.dpdk.org/listinfo/test-report>,
 <mailto:test-report-request@dpdk.org?subject=subscribe>
Errors-To: test-report-bounces@dpdk.org

Test-Label: iol-compile-arm64-testing
Test-Status: SUCCESS
http://dpdk.org/patch/152759

_Testing PASS_

Submitter: Shaiq Wani <shaiq.wani@intel.com>
Date: Thursday, April 03 2025 11:24:29 
DPDK git baseline: Repo:dpdk
  Branch: master
  CommitID:032c9338cb8c2642d929fd8c05ee627770754b7d

152756-152759 --> testing pass

Upstream job id: Generic-DPDK-Compile-Meson#377266

Test environment and result as below:

+----------------------------------------+--------------------+
|              Environment               | dpdk_meson_compile |
+========================================+====================+
| RHEL9 (ARM)                            | PASS               |
+----------------------------------------+--------------------+
| Ubuntu 20.04 ARM GCC Cross Compile     | PASS               |
+----------------------------------------+--------------------+
| Fedora 40 (ARM)                        | PASS               |
+----------------------------------------+--------------------+
| Debian 12 with MUSDK                   | PASS               |
+----------------------------------------+--------------------+
| Fedora 40 (ARM Clang)                  | PASS               |
+----------------------------------------+--------------------+
| Ubuntu 20.04 (ARM)                     | PASS               |
+----------------------------------------+--------------------+
| Fedora 41 (ARM)                        | PASS               |
+----------------------------------------+--------------------+
| Ubuntu 22.04 (ARM)                     | PASS               |
+----------------------------------------+--------------------+
| Fedora 41 (ARM Clang)                  | PASS               |
+----------------------------------------+--------------------+
| Ubuntu 24.04 (ARM)                     | PASS               |
+----------------------------------------+--------------------+
| CentOS Stream 9 (ARM)                  | PASS               |
+----------------------------------------+--------------------+
| CentOS Stream 10 (ARM)                 | PASS               |
+----------------------------------------+--------------------+
| Debian 12 (arm)                        | PASS               |
+----------------------------------------+--------------------+
| Ubuntu 20.04 aarch32 GCC Cross Compile | PASS               |
+----------------------------------------+--------------------+
| Ubuntu 20.04 ARM Clang Cross Compile   | PASS               |
+----------------------------------------+--------------------+
| Ubuntu 20.04 ARM SVE                   | PASS               |
+----------------------------------------+--------------------+


RHEL9 (ARM)
	Kernel: Depends on container host
	Compiler: gcc 11.5.0 20240719 (Red Hat 11.5.0-2)

Ubuntu 20.04 ARM GCC Cross Compile
	Kernel: Depends on container host
	Compiler: aarch64-linux-gnu-gcc (Ubuntu 9.4.0-1ubuntu1~20.04.2) 9.4.0

Fedora 40 (ARM)
	Kernel: Depends on container host
	Compiler: gcc 14.2.1 20240912 (Red Hat 14.2.1-3)

Debian 12 with MUSDK
	Kernel: Depends on container host
	Compiler: gcc (Debian 12.2.0-14) 12.2.0

Fedora 40 (ARM Clang)
	Kernel: Depends on container host
	Compiler: clang 18.1.8 (Fedora 18.1.8-1.fc40)

Ubuntu 20.04 (ARM)
	Kernel: Depends on container host
	Compiler: gcc (Ubuntu 9.4.0-1ubuntu1~20.04.2) 9.4.0

Fedora 41 (ARM)
	Kernel: Depends on container host
	Compiler: gcc 14.2.1 20240912 (Red Hat 14.2.1-3)

Ubuntu 22.04 (ARM)
	Kernel: Depends on container host
	Compiler: gcc (Ubuntu 11.4.0-1ubuntu1~22.04) 11.4.0

Fedora 41 (ARM Clang)
	Kernel: Depends on container host
	Compiler: clang 19.1.5 (Fedora 19.1.5-1.fc41)

Ubuntu 24.04 (ARM)
	Kernel: Depends on container host
	Compiler: gcc (Ubuntu 13.3.0-6ubuntu2~24.04) 13.3.0

CentOS Stream 9 (ARM)
	Kernel: Depends on container host
	Compiler: gcc 11.5.0 20240719 (Red Hat 11.5.0-2)

CentOS Stream 10 (ARM)
	Kernel: Depends on container host
	Compiler: gcc 14.2.1 20241104 (Red Hat 14.2.1-6)

Debian 12 (arm)
	Kernel: Depends on container host
	Compiler: gcc (Debian 12.2.0-14) 12.2.0

Ubuntu 20.04 aarch32 GCC Cross Compile
	Kernel: Depends on container host
	Compiler: gcc 9.4.0

Ubuntu 20.04 ARM Clang Cross Compile
	Kernel: Depends on container host
	Compiler: clang 10.0.0-4ubuntu1

Ubuntu 20.04 ARM SVE
	Kernel: Depends on container host
	Compiler: gcc (Ubuntu 10.5.0-1ubuntu1~20.04) 10.5.0

To view detailed results, visit:
https://lab.dpdk.org/results/dashboard/patchsets/32941/

UNH-IOL DPDK Community Lab

To manage your email subscriptions, visit: 
https://lab.dpdk.org/results/dashboard/preferences/subscriptions/