From mboxrd@z Thu Jan  1 00:00:00 1970
Return-Path: <test-report-bounces@dpdk.org>
Received: from mails.dpdk.org (mails.dpdk.org [217.70.189.124])
	by inbox.dpdk.org (Postfix) with ESMTP id D8986464F6
	for <public@inbox.dpdk.org>; Thu,  3 Apr 2025 18:41:49 +0200 (CEST)
Received: from mails.dpdk.org (localhost [127.0.0.1])
	by mails.dpdk.org (Postfix) with ESMTP id B5EB7402DF;
	Thu,  3 Apr 2025 18:41:49 +0200 (CEST)
Received: from mail-yw1-f227.google.com (mail-yw1-f227.google.com
 [209.85.128.227])
 by mails.dpdk.org (Postfix) with ESMTP id 4635D402CB
 for <test-report@dpdk.org>; Thu,  3 Apr 2025 18:41:48 +0200 (CEST)
Received: by mail-yw1-f227.google.com with SMTP id
 00721157ae682-6feb229b716so11564197b3.3
 for <test-report@dpdk.org>; Thu, 03 Apr 2025 09:41:48 -0700 (PDT)
DKIM-Signature: v=1; a=rsa-sha256; c=relaxed/relaxed;
 d=iol.unh.edu; s=unh-iol; t=1743698507; x=1744303307; darn=dpdk.org;
 h=references:in-reply-to:cc:to:from:subject:message-id:date:from:to
 :cc:subject:date:message-id:reply-to;
 bh=XHCqPqCSsuR3HTOsoT4RnJ+qC86Nddv9Q544PhXJb8o=;
 b=EEZqoar29r6hPX+WkkXcDwlLExarCFVRMB+1grDnOa6yLTQ+Hmv0D7Kd/lQNQFGKsE
 zZaQxK4UUnBlvVBe00a2DsNcKs378QA8wvi0qjIA3xX88TLE0QfjvDkMrg4p4v+jaR6h
 HsV4Kzw+UhApolu3wS3om5JBc42rzRF5TnaiI=
X-Google-DKIM-Signature: v=1; a=rsa-sha256; c=relaxed/relaxed;
 d=1e100.net; s=20230601; t=1743698507; x=1744303307;
 h=references:in-reply-to:cc:to:from:subject:message-id:date
 :x-gm-message-state:from:to:cc:subject:date:message-id:reply-to;
 bh=XHCqPqCSsuR3HTOsoT4RnJ+qC86Nddv9Q544PhXJb8o=;
 b=N5291XjHHORHuFN+jV8afZbSeFKK3qGeMlF7ls5h2/6vN/durdVtkLp7tYlBtE3Phb
 uXxvT5yHobMocTp2HQaCNyRGbmDM81vM9xw6RQy0CEgXK5/wpGYaVsxLy/oRWgNrxJj3
 Z9mBbjW6OLVe8qR0jI+OClAsxm9np8MgwIlUxH+b/OI2LYZNXHeUC1boT7tBGUTgWn+E
 I78QH5xlrtndCTZNDR+vHGYW3zaqFlMe9ahYsDdT4Uw0q+dWyp6zltfTZ3GDAjvondVN
 kcigoBMNwJv5AfThpkJ3iyY/YjP/pNZHMYnCiEQEOR5o+NUDzm0SFHk5mff2uNfXe2fI
 oEBQ==
X-Gm-Message-State: AOJu0YywcV15QysjCGxgJphOj8SGOK1omqqiZaSD8ihIFqQ2l9z+WWZ0
 2epTyIs0dD+1MafDtXJiNt7S420Nnx+mS94uepwsqqhYJCVAzEgNUItTr77aCRlzJgP/px1xAHw
 EN+JXAVtruaIWNNmNnSyqMX3YNafEG9MwCbimGA3RoizzpiLNDMJR49/m
X-Gm-Gg: ASbGncva5HaozoDhxt6G3G4tuWEiToJ62bvFNvHGYco0S4pVOIiBEDiF4dUidO4AySz
 CKtg/HSroXd9coMGBXNpQkytjZPVikk8ISLKaV6gGikl8WM1ysWmdNa/naxwdUxU/JTJXQTb8ry
 rcOV5jjSBDBe5NlByyNkU8t3Pq2VgLDkOxkP0defISbSrNKvrcF2M50Tijk2AEtGDBkZh7V0F5g
 H8xAaDQ4VPIFr/3OAHTjxlzzziDSHtnG3w9qZmKhBAX6wJGuOWY760sKXpvCz8bOsX5xwKMpyxG
 7RSX7iOetfwoNY8jZoUHUAzhqRqq2exvqvvGA5zZmnkr8cjy5dxY
X-Google-Smtp-Source: AGHT+IEYFLLVAW2ZUIhwXyIVhIUaBfNv3pbxeCR+yl4GANqG4tOX4SDrJ06D2UVq70HBdesgZjr5ZdWQ/cuA
X-Received: by 2002:a05:690c:4513:b0:6fd:4900:bae1 with SMTP id
 00721157ae682-703e15041b0mr1958587b3.1.1743698507441; 
 Thu, 03 Apr 2025 09:41:47 -0700 (PDT)
Received: from postal.iol.unh.edu (postal.iol.unh.edu.
 [2606:4100:3880:1234::84]) by smtp-relay.gmail.com with ESMTPS id
 00721157ae682-703d1faec0esm3741227b3.63.2025.04.03.09.41.47
 (version=TLS1_2 cipher=ECDHE-ECDSA-AES128-GCM-SHA256 bits=128/128);
 Thu, 03 Apr 2025 09:41:47 -0700 (PDT)
X-Relaying-Domain: iol.unh.edu
Date: Thu, 03 Apr 2025 09:41:47 -0700 (PDT)
Message-ID: <67eeba4b.050a0220.1476a9.37b8SMTPIN_ADDED_MISSING@mx.google.com>
Received: from [172.17.0.3] (unknown [172.18.0.217])
 by postal.iol.unh.edu (Postfix) with ESMTP id 1BDC96052471;
 Thu,  3 Apr 2025 12:41:47 -0400 (EDT)
Subject: |SUCCESS| pw152762 [PATCH] net/ice: enlarge limits to 64 bits (ice_s
From: dpdklab@iol.unh.edu
To: Test Report <test-report@dpdk.org>
Cc: dpdk-test-reports@iol.unh.edu
In-Reply-To: <20250403144921.1390510-1-luke.seewald@gmail.com>
References: <20250403144921.1390510-1-luke.seewald@gmail.com>
Content-Type: text/plain
X-BeenThere: test-report@dpdk.org
X-Mailman-Version: 2.1.29
Precedence: list
List-Id: automatic DPDK test reports <test-report.dpdk.org>
List-Unsubscribe: <https://mails.dpdk.org/options/test-report>,
 <mailto:test-report-request@dpdk.org?subject=unsubscribe>
List-Archive: <http://mails.dpdk.org/archives/test-report/>
List-Post: <mailto:test-report@dpdk.org>
List-Help: <mailto:test-report-request@dpdk.org?subject=help>
List-Subscribe: <https://mails.dpdk.org/listinfo/test-report>,
 <mailto:test-report-request@dpdk.org?subject=subscribe>
Errors-To: test-report-bounces@dpdk.org

Test-Label: iol-abi-testing
Test-Status: SUCCESS
http://dpdk.org/patch/152762

_Testing PASS_

Submitter: LukeSeewald <luke.seewald@gmail.com>
Date: Thursday, April 03 2025 14:49:21 
DPDK git baseline: Repo:dpdk
  Branch: master
  CommitID:032c9338cb8c2642d929fd8c05ee627770754b7d

152762 --> testing pass

Upstream job id: Generic-DPDK-Compile-ABI#122265

Test environment and result as below:

+-------------------+----------+
|    Environment    | abi_test |
+===================+==========+
| CentOS Stream 9   | PASS     |
+-------------------+----------+
| CentOS Stream 10  | PASS     |
+-------------------+----------+
| Debian 12         | PASS     |
+-------------------+----------+
| Fedora 40 (Clang) | PASS     |
+-------------------+----------+
| Fedora 41 (Clang) | PASS     |
+-------------------+----------+
| Fedora 40         | PASS     |
+-------------------+----------+
| Fedora 41         | PASS     |
+-------------------+----------+
| openSUSE Leap 15  | PASS     |
+-------------------+----------+
| RHEL8             | PASS     |
+-------------------+----------+
| RHEL9             | PASS     |
+-------------------+----------+
| Ubuntu 22.04      | PASS     |
+-------------------+----------+
| Ubuntu 24.04      | PASS     |
+-------------------+----------+


CentOS Stream 9
	Kernel: Depends on container host
	Compiler: gcc 11.5.0 20240719 (Red Hat 11.5.0-2)

CentOS Stream 10
	Kernel: Depends on container host
	Compiler: gcc 14.2.1 20241104 (Red Hat 14.2.1-6)

Debian 12
	Kernel: Depends on container host
	Compiler: gcc (Debian 12.2.0-14) 12.2.0

Fedora 40 (Clang)
	Kernel: Depends on container host
	Compiler: clang 18.1.8 (Fedora 18.1.8-1.fc40)

Fedora 41 (Clang)
	Kernel: Depends on container host
	Compiler: clang 19.1.5 (Fedora 19.1.5-1.fc41)

Fedora 40
	Kernel: Depends on container host
	Compiler: gcc 14.2.1 20240912 (Red Hat 14.2.1-3)

Fedora 41
	Kernel: Depends on container host
	Compiler: gcc 14.2.1 20240912 (Red Hat 14.2.1-3)

openSUSE Leap 15
	Kernel: Depends on container host
	Compiler: gcc (SUSE Linux) 7.5.0

RHEL8
	Kernel: Depends on container host
	Compiler: gcc 8.5.0 20210514 (Red Hat 8.5.0-22)

RHEL9
	Kernel: Depends on container host
	Compiler: gcc 11.5.0 20240719 (Red Hat 11.5.0-2)

Ubuntu 22.04
	Kernel: Depends on container host
	Compiler: gcc (Ubuntu 11.4.0-1ubuntu1~22.04) 11.4.0

Ubuntu 24.04
	Kernel: Depends on container host
	Compiler: gcc (Ubuntu 13.3.0-6ubuntu2~24.04) 13.3.0

To view detailed results, visit:
https://lab.dpdk.org/results/dashboard/patchsets/32943/

UNH-IOL DPDK Community Lab

To manage your email subscriptions, visit: 
https://lab.dpdk.org/results/dashboard/preferences/subscriptions/