From mboxrd@z Thu Jan  1 00:00:00 1970
Return-Path: <test-report-bounces@dpdk.org>
Received: from mails.dpdk.org (mails.dpdk.org [217.70.189.124])
	by inbox.dpdk.org (Postfix) with ESMTP id CB88346500
	for <public@inbox.dpdk.org>; Fri,  4 Apr 2025 08:35:38 +0200 (CEST)
Received: from mails.dpdk.org (localhost [127.0.0.1])
	by mails.dpdk.org (Postfix) with ESMTP id C57A340270;
	Fri,  4 Apr 2025 08:35:38 +0200 (CEST)
Received: from mail-qv1-f100.google.com (mail-qv1-f100.google.com
 [209.85.219.100])
 by mails.dpdk.org (Postfix) with ESMTP id 6849E4026D
 for <test-report@dpdk.org>; Fri,  4 Apr 2025 08:35:37 +0200 (CEST)
Received: by mail-qv1-f100.google.com with SMTP id
 6a1803df08f44-6ecfc2cb1aaso17339766d6.3
 for <test-report@dpdk.org>; Thu, 03 Apr 2025 23:35:37 -0700 (PDT)
DKIM-Signature: v=1; a=rsa-sha256; c=relaxed/relaxed;
 d=iol.unh.edu; s=unh-iol; t=1743748537; x=1744353337; darn=dpdk.org;
 h=cc:to:from:subject:message-id:date:from:to:cc:subject:date
 :message-id:reply-to;
 bh=ktiyxVwt+MxL9AVxqu2iCnLpkL0kP6ugG8jGDvgtGqo=;
 b=YHKpJA3FFwVCL8MVQQhb8mCwEosdv34OBIVGCMh99XGoJRapDw+ueU4kKoEZ5tTe5k
 NyZSW6dUNbSNB8iTJDigP6Tifvc0V8YP1+v4SxvzyeskvKg61iNdYmGUcaOl7FkPkXFR
 fy9JQ01yaY9f0+bUq8SkuYCZm1vNeLTCaXse4=
X-Google-DKIM-Signature: v=1; a=rsa-sha256; c=relaxed/relaxed;
 d=1e100.net; s=20230601; t=1743748537; x=1744353337;
 h=cc:to:from:subject:message-id:date:x-gm-message-state:from:to:cc
 :subject:date:message-id:reply-to;
 bh=ktiyxVwt+MxL9AVxqu2iCnLpkL0kP6ugG8jGDvgtGqo=;
 b=IP937J2kusutg78jhd2xnVx+bBRdP9T0SZSxI5BXKR/NaOChwSnIdpKwjyD9rbJiW6
 8YVS2axKurFT7FgxRz08K3SorsTmO2MaXyZxMJmOpQtRpZsMG46ymSa9uDxnzoHvTu86
 mr5oAWYq6FL2Et3b+LSJPUP9OpYTH3pRzM4xMx+160ceCEG1nYj+CC5t4StYFHD3r3XP
 MQMGwy4xx5VQsC8Es7I/2aSDOvqyRtzKvN1EchrE9O5svvY8Kh2AQTi4R6Wf3GoFT1I0
 m66iZsje3U+sdqO4Kj8Og8hFK5zFkGJpkNfBws2GfFVHLlD4y10dXFg1k0KGSURaPs6r
 RglQ==
X-Gm-Message-State: AOJu0YwmY1Funl4L2uaB+cvHlHGqGr1XbfxrV6LxthMxuu/XnSwxdiRP
 dm9fIpA0NKg6qCvGJ69mfIzMEyP6eoKggL/piGQung1FaZLl7LO7L18eLKpGMZT6TVmGijG1NSi
 KnXy5ViSiAUOmpcw75Qgu1ER/ydHsaJKpIxhzI52ggycrFvuW
X-Gm-Gg: ASbGncsDKX7O9VRerPSZ8yAYLTmS4ZpbH3dfOTA9Nz7B0pW1YbfP1VnDG9JVxAVDaaq
 fktRRlDVHrgvU9paMYb14NSqoeKmOKkWU8PBs7/trzSTsWcCJPHSdbPmPdmUt9AdeI202LQiqVT
 zuCk0Q5BbVcfMcv5cRHUbeL/0F4HKANEDSY9/Ym2WeRtrELQQbFbnuA/IS5cA+OCb1TYNbNZSq5
 O5n8XuSGiG7D3P5MnLlgc312b6dqMFFBtUkYiHqd33AiFJmhDfwhmKJ0j61gyUkVOsNRVloBHgS
 tbPHB9JEKxdZGOh1ZIOH9Tg08tej3boo+12LMlnvVl3Asi+7xtJx
X-Google-Smtp-Source: AGHT+IFbZqSIInKpMZ3XcpcJcpQqj48D0IzvqxiqRL74H8HVmr5SKnU31P7XNCRHwk23lN+A4ngk/ZMJ0vSO
X-Received: by 2002:ad4:5aa2:0:b0:6e6:6252:ad1a with SMTP id
 6a1803df08f44-6f0585379bcmr29125126d6.28.1743748536704; 
 Thu, 03 Apr 2025 23:35:36 -0700 (PDT)
Received: from postal.iol.unh.edu (postal.iol.unh.edu.
 [2606:4100:3880:1234::84]) by smtp-relay.gmail.com with ESMTPS id
 6a1803df08f44-6ef0efc04b1sm4414146d6.14.2025.04.03.23.35.36
 (version=TLS1_2 cipher=ECDHE-ECDSA-AES128-GCM-SHA256 bits=128/128);
 Thu, 03 Apr 2025 23:35:36 -0700 (PDT)
X-Relaying-Domain: iol.unh.edu
Date: Thu, 03 Apr 2025 23:35:36 -0700 (PDT)
Message-ID: <67ef7db8.050a0220.12715.8546SMTPIN_ADDED_MISSING@mx.google.com>
Received: from [172.21.0.6] (unknown [172.18.0.240])
 by postal.iol.unh.edu (Postfix) with ESMTP id 6FE0A6052471;
 Fri,  4 Apr 2025 02:35:36 -0400 (EDT)
Subject: |SUCCESS| [GIT MASTER] c66daa12e76d7b4912cfb7109a761856a7a873ab
From: dpdklab@iol.unh.edu
To: Test Report <test-report@dpdk.org>
Cc: dpdk-test-reports@iol.unh.edu, Xueming Li <xuemingl@nvidia.com>,
 Christian Ehrhardt <christian.ehrhardt@canonical.com>,
 Kevin Traynor <ktraynor@redhat.com>, Luca Boccassi <bluca@debian.org>
Content-Type: text/plain
X-BeenThere: test-report@dpdk.org
X-Mailman-Version: 2.1.29
Precedence: list
List-Id: automatic DPDK test reports <test-report.dpdk.org>
List-Unsubscribe: <https://mails.dpdk.org/options/test-report>,
 <mailto:test-report-request@dpdk.org?subject=unsubscribe>
List-Archive: <http://mails.dpdk.org/archives/test-report/>
List-Post: <mailto:test-report@dpdk.org>
List-Help: <mailto:test-report-request@dpdk.org?subject=help>
List-Subscribe: <https://mails.dpdk.org/listinfo/test-report>,
 <mailto:test-report-request@dpdk.org?subject=subscribe>
Errors-To: test-report-bounces@dpdk.org

_Testing PASS_

Branch: tags/v23.11

c66daa12e76d7b4912cfb7109a761856a7a873ab --> testing pass

Upstream job id: Generic-DPDK-Compile-ABI#122345

Test environment and result as below:

+-------------------+----------+
|    Environment    | abi_test |
+===================+==========+
| CentOS Stream 10  | PASS     |
+-------------------+----------+
| CentOS Stream 9   | PASS     |
+-------------------+----------+
| Fedora 40 (Clang) | PASS     |
+-------------------+----------+
| Debian 12         | PASS     |
+-------------------+----------+
| Fedora 40         | PASS     |
+-------------------+----------+
| Fedora 41         | PASS     |
+-------------------+----------+
| Fedora 41 (Clang) | PASS     |
+-------------------+----------+
| openSUSE Leap 15  | PASS     |
+-------------------+----------+
| RHEL8             | PASS     |
+-------------------+----------+
| RHEL9             | PASS     |
+-------------------+----------+
| Ubuntu 22.04      | PASS     |
+-------------------+----------+
| Ubuntu 24.04      | PASS     |
+-------------------+----------+


CentOS Stream 10
	Kernel: Depends on container host
	Compiler: gcc 14.2.1 20241104 (Red Hat 14.2.1-6)

CentOS Stream 9
	Kernel: Depends on container host
	Compiler: gcc 11.5.0 20240719 (Red Hat 11.5.0-2)

Fedora 40 (Clang)
	Kernel: Depends on container host
	Compiler: clang 18.1.8 (Fedora 18.1.8-1.fc40)

Debian 12
	Kernel: Depends on container host
	Compiler: gcc (Debian 12.2.0-14) 12.2.0

Fedora 40
	Kernel: Depends on container host
	Compiler: gcc 14.2.1 20240912 (Red Hat 14.2.1-3)

Fedora 41
	Kernel: Depends on container host
	Compiler: gcc 14.2.1 20240912 (Red Hat 14.2.1-3)

Fedora 41 (Clang)
	Kernel: Depends on container host
	Compiler: clang 19.1.5 (Fedora 19.1.5-1.fc41)

openSUSE Leap 15
	Kernel: Depends on container host
	Compiler: gcc (SUSE Linux) 7.5.0

RHEL8
	Kernel: Depends on container host
	Compiler: gcc 8.5.0 20210514 (Red Hat 8.5.0-22)

RHEL9
	Kernel: Depends on container host
	Compiler: gcc 11.5.0 20240719 (Red Hat 11.5.0-2)

Ubuntu 22.04
	Kernel: Depends on container host
	Compiler: gcc (Ubuntu 11.4.0-1ubuntu1~22.04) 11.4.0

Ubuntu 24.04
	Kernel: Depends on container host
	Compiler: gcc (Ubuntu 13.3.0-6ubuntu2~24.04) 13.3.0

To view detailed results, visit:
https://lab.dpdk.org/results/dashboard/tarballs/33154/

UNH-IOL DPDK Community Lab

To manage your email subscriptions, visit: 
https://lab.dpdk.org/results/dashboard/preferences/subscriptions/