From mboxrd@z Thu Jan  1 00:00:00 1970
Return-Path: <test-report-bounces@dpdk.org>
Received: from mails.dpdk.org (mails.dpdk.org [217.70.189.124])
	by inbox.dpdk.org (Postfix) with ESMTP id D492D46524
	for <public@inbox.dpdk.org>; Mon,  7 Apr 2025 08:11:36 +0200 (CEST)
Received: from mails.dpdk.org (localhost [127.0.0.1])
	by mails.dpdk.org (Postfix) with ESMTP id CFF9E40156;
	Mon,  7 Apr 2025 08:11:36 +0200 (CEST)
Received: from mail-pg1-f228.google.com (mail-pg1-f228.google.com
 [209.85.215.228])
 by mails.dpdk.org (Postfix) with ESMTP id 37AC840150
 for <test-report@dpdk.org>; Mon,  7 Apr 2025 08:11:36 +0200 (CEST)
Received: by mail-pg1-f228.google.com with SMTP id
 41be03b00d2f7-aee79a0f192so2372662a12.3
 for <test-report@dpdk.org>; Sun, 06 Apr 2025 23:11:36 -0700 (PDT)
DKIM-Signature: v=1; a=rsa-sha256; c=relaxed/relaxed;
 d=iol.unh.edu; s=unh-iol; t=1744006295; x=1744611095; darn=dpdk.org;
 h=cc:to:from:subject:message-id:date:from:to:cc:subject:date
 :message-id:reply-to;
 bh=Pe9U2K2F0QRxTd8zobOlfRUMxS18YtmDQtLRGHougvc=;
 b=XqcfGBk/j0NsPbKQVYY5dBVWcPorBjPv4vBnehnOhxdE38ZWx1LEE2c+GrK895ID9Z
 JVKm5d3KH5goXw4e2tdJLBFHjtASu4t7Dx4YMum2E/nxp9/ke7WyDeHn1TSECQ0Q8HbD
 iNgMqgZqzh1zy0z0ZEwM6L7vUlgdh/L/AhjFA=
X-Google-DKIM-Signature: v=1; a=rsa-sha256; c=relaxed/relaxed;
 d=1e100.net; s=20230601; t=1744006295; x=1744611095;
 h=cc:to:from:subject:message-id:date:x-gm-message-state:from:to:cc
 :subject:date:message-id:reply-to;
 bh=Pe9U2K2F0QRxTd8zobOlfRUMxS18YtmDQtLRGHougvc=;
 b=iTmjNLBQqKFWMQoWbdPQZ0Y1vzJC/SzSzfqnKW4WHKkOqzqHEHmnUi4H7bFJprDViB
 MUMFuuRSsVmRSIZG/BDCROu9YMz7Fz49XbR37qJG00j/qIxYeZJuf56QhUUsyM3OAKp9
 AhHgt8XWTQVcLS+OX1lEwP4TuWF6lvO/Qe9cFP0fI8uuOiI6ts6Lxje64ORxnfGuhnbq
 BWN4vb8NIFWzcKG9JA8iBl/UZFdawUqx0HOxe88Pv6CRojvA7pZfA145ZbZoSQ+uuK4M
 Qw8/IoDumqm01nSDWSNFZpJDv4pzgo0UNNryYLnfzy7F4eFxnwOSfHDGdQ8zYOOhuPT/
 tuBQ==
X-Gm-Message-State: AOJu0Yz6PyoUOQLiFQwZxZdelroUKGg5V2VfjxXrEi6TOG9UUQaf4iK1
 hvNbM6BQi4ttdc+6D4PpN2uDLBBQRUphqzJX6E+8Cd50uHuk27zNNMILfdse+kDfqqzylBblh8N
 pMfZ0sRTgJ/Y/8+t+fgoExyALdP9iY1Ww
X-Gm-Gg: ASbGnctaGY4YeOwtJ8Uu4uQoXTUEBz715GwiTYmmnZmzJMsREDTCnItUGWyenRWzk15
 91PhLLD0j6tKIVFLyPyF/wFFpurpcoMiJDefMbVZSLIyZhxU1c+bg28d1owkDwci1wv6yPq0TOv
 zxumm5neLJs+UzSRRLZlJqGTM4ivN9ef4xxA5STUbbv3uqol0VooKZeAd0aZppsl1WV8hhboLFd
 ZpK5ZFEWhQla9SE2yZbJO+EGcl2FAq8fTJGCp/5SU3GbeCbHIGP5g7xkaMTqiF3jQKeXRB/SyAE
 aEKik/FjhGjVRhVjkERgaxpcF3ZWkEV8Jgq3U8Ma
X-Google-Smtp-Source: AGHT+IEE0rR0FFBlPZXh9Ipc0xIeT68/o659TaYl4GqlhRehFz7a7Al2XnCw8OhfP4w0xBmw2c9jiHixwK7H
X-Received: by 2002:a17:902:d50c:b0:224:249f:9723 with SMTP id
 d9443c01a7336-22a955a1a4cmr106697685ad.51.1744006295132; 
 Sun, 06 Apr 2025 23:11:35 -0700 (PDT)
Received: from postal.iol.unh.edu (postal.iol.unh.edu. [132.177.123.84])
 by smtp-relay.gmail.com with ESMTPS id
 d9443c01a7336-22978a29791sm7450395ad.94.2025.04.06.23.11.35
 (version=TLS1_2 cipher=ECDHE-ECDSA-AES128-GCM-SHA256 bits=128/128);
 Sun, 06 Apr 2025 23:11:35 -0700 (PDT)
X-Relaying-Domain: iol.unh.edu
Date: Sun, 06 Apr 2025 23:11:35 -0700 (PDT)
Message-ID: <67f36c97.170a0220.268f85.867fSMTPIN_ADDED_MISSING@mx.google.com>
Received: from [172.21.0.5] (unknown [172.18.0.240])
 by postal.iol.unh.edu (Postfix) with ESMTP id E9B0E6052471;
 Mon,  7 Apr 2025 02:11:31 -0400 (EDT)
Subject: |SUCCESS| [GIT MASTER] 03f2ed63a5f4e4b57365e358b49095ef4a82cf7d
From: dpdklab@iol.unh.edu
To: Test Report <test-report@dpdk.org>
Cc: dpdk-test-reports@iol.unh.edu, Xueming Li <xuemingl@nvidia.com>,
 Christian Ehrhardt <christian.ehrhardt@canonical.com>,
 Kevin Traynor <ktraynor@redhat.com>, Luca Boccassi <bluca@debian.org>
Content-Type: text/plain
X-BeenThere: test-report@dpdk.org
X-Mailman-Version: 2.1.29
Precedence: list
List-Id: automatic DPDK test reports <test-report.dpdk.org>
List-Unsubscribe: <https://mails.dpdk.org/options/test-report>,
 <mailto:test-report-request@dpdk.org?subject=unsubscribe>
List-Archive: <http://mails.dpdk.org/archives/test-report/>
List-Post: <mailto:test-report@dpdk.org>
List-Help: <mailto:test-report-request@dpdk.org?subject=help>
List-Subscribe: <https://mails.dpdk.org/listinfo/test-report>,
 <mailto:test-report-request@dpdk.org?subject=subscribe>
Errors-To: test-report-bounces@dpdk.org

_Testing PASS_

Branch: tags/v24.11

03f2ed63a5f4e4b57365e358b49095ef4a82cf7d --> testing pass

Upstream job id: Generic-Unit-Test-DPDK#329151

Test environment and result as below:

+-----------------------------+--------------+---------------------------+------------------------------+----------------+
|         Environment         | lpm_autotest | cryptodev_sw_zuc_autotest | cryptodev_sw_snow3g_autotest | dpdk_unit_test |
+=============================+==============+===========================+==============================+================+
| Ubuntu 20.04 ARM SVE        | PASS         | SKIPPED                   | SKIPPED                      | SKIPPED        |
+-----------------------------+--------------+---------------------------+------------------------------+----------------+
| Debian 12 (arm)             | SKIPPED      | PASS                      | PASS                         | PASS           |
+-----------------------------+--------------+---------------------------+------------------------------+----------------+
| Fedora 41 (ARM)             | SKIPPED      | SKIPPED                   | SKIPPED                      | PASS           |
+-----------------------------+--------------+---------------------------+------------------------------+----------------+
| CentOS Stream 9 (ARM)       | SKIPPED      | SKIPPED                   | SKIPPED                      | PASS           |
+-----------------------------+--------------+---------------------------+------------------------------+----------------+
| CentOS Stream 10 (ARM)      | SKIPPED      | SKIPPED                   | SKIPPED                      | PASS           |
+-----------------------------+--------------+---------------------------+------------------------------+----------------+
| Fedora 40 (ARM)             | SKIPPED      | SKIPPED                   | SKIPPED                      | PASS           |
+-----------------------------+--------------+---------------------------+------------------------------+----------------+
| Fedora 40 (ARM Clang)       | SKIPPED      | SKIPPED                   | SKIPPED                      | PASS           |
+-----------------------------+--------------+---------------------------+------------------------------+----------------+
| Fedora 41 (ARM Clang)       | SKIPPED      | SKIPPED                   | SKIPPED                      | PASS           |
+-----------------------------+--------------+---------------------------+------------------------------+----------------+
| RHEL9 (ARM)                 | SKIPPED      | SKIPPED                   | SKIPPED                      | PASS           |
+-----------------------------+--------------+---------------------------+------------------------------+----------------+
| Ubuntu 22.04 (ARM)          | SKIPPED      | SKIPPED                   | SKIPPED                      | PASS           |
+-----------------------------+--------------+---------------------------+------------------------------+----------------+
| Ubuntu 20.04 (ARM)          | SKIPPED      | SKIPPED                   | SKIPPED                      | PASS           |
+-----------------------------+--------------+---------------------------+------------------------------+----------------+
| Ubuntu 24.04 (ARM)          | SKIPPED      | SKIPPED                   | SKIPPED                      | PASS           |
+-----------------------------+--------------+---------------------------+------------------------------+----------------+
| 32-bit Ubuntu 22.04.4 (ARM) | SKIPPED      | SKIPPED                   | SKIPPED                      | PASS           |
+-----------------------------+--------------+---------------------------+------------------------------+----------------+


Ubuntu 20.04 ARM SVE
	Kernel: Depends on container host
	Compiler: gcc (Ubuntu 10.5.0-1ubuntu1~20.04) 10.5.0

Debian 12 (arm)
	Kernel: Depends on container host
	Compiler: gcc (Debian 12.2.0-14) 12.2.0

Fedora 41 (ARM)
	Kernel: Depends on container host
	Compiler: gcc 14.2.1 20240912 (Red Hat 14.2.1-3)

CentOS Stream 9 (ARM)
	Kernel: Depends on container host
	Compiler: gcc 11.5.0 20240719 (Red Hat 11.5.0-2)

CentOS Stream 10 (ARM)
	Kernel: Depends on container host
	Compiler: gcc 14.2.1 20241104 (Red Hat 14.2.1-6)

Fedora 40 (ARM)
	Kernel: Depends on container host
	Compiler: gcc 14.2.1 20240912 (Red Hat 14.2.1-3)

Fedora 40 (ARM Clang)
	Kernel: Depends on container host
	Compiler: clang 18.1.8 (Fedora 18.1.8-1.fc40)

Fedora 41 (ARM Clang)
	Kernel: Depends on container host
	Compiler: clang 19.1.5 (Fedora 19.1.5-1.fc41)

RHEL9 (ARM)
	Kernel: Depends on container host
	Compiler: gcc 11.5.0 20240719 (Red Hat 11.5.0-2)

Ubuntu 22.04 (ARM)
	Kernel: Depends on container host
	Compiler: gcc (Ubuntu 11.4.0-1ubuntu1~22.04) 11.4.0

Ubuntu 20.04 (ARM)
	Kernel: Depends on container host
	Compiler: gcc (Ubuntu 9.4.0-1ubuntu1~20.04.2) 9.4.0

Ubuntu 24.04 (ARM)
	Kernel: Depends on container host
	Compiler: gcc (Ubuntu 13.3.0-6ubuntu2~24.04) 13.3.0

32-bit Ubuntu 22.04.4 (ARM)
	Kernel: 5.15.83+ aarch64
	Compiler: gcc (Ubuntu 11.4.0-1ubuntu1~22.04) 11.4.0

To view detailed results, visit:
https://lab.dpdk.org/results/dashboard/tarballs/33165/

UNH-IOL DPDK Community Lab

To manage your email subscriptions, visit: 
https://lab.dpdk.org/results/dashboard/preferences/subscriptions/