From mboxrd@z Thu Jan 1 00:00:00 1970 Return-Path: Received: from mails.dpdk.org (mails.dpdk.org [217.70.189.124]) by inbox.dpdk.org (Postfix) with ESMTP id 09DB54652D for ; Tue, 8 Apr 2025 02:47:07 +0200 (CEST) Received: from mails.dpdk.org (localhost [127.0.0.1]) by mails.dpdk.org (Postfix) with ESMTP id 05E5D4026B; Tue, 8 Apr 2025 02:47:03 +0200 (CEST) Received: from mail-pf1-f226.google.com (mail-pf1-f226.google.com [209.85.210.226]) by mails.dpdk.org (Postfix) with ESMTP id 1B56E400D7 for ; Tue, 8 Apr 2025 02:47:02 +0200 (CEST) Received: by mail-pf1-f226.google.com with SMTP id d2e1a72fcca58-7376e311086so6626302b3a.3 for ; Mon, 07 Apr 2025 17:47:02 -0700 (PDT) DKIM-Signature: v=1; a=rsa-sha256; c=relaxed/relaxed; d=iol.unh.edu; s=unh-iol; t=1744073220; x=1744678020; darn=dpdk.org; h=references:in-reply-to:cc:to:from:subject:message-id:date:from:to :cc:subject:date:message-id:reply-to; bh=LC0TrUXMfEYsTd2wrLi38A88tmQ1/zrVeHBeyV7sxzM=; b=HteCqpSwQ1z9YEXvcjj8fJKjlUYJOG+CmG+E2qzrYTJRQDn1kLHABJFJOSWPmlblbD AfLXSwZg1/4iX+GT/jgeVLhb24jvlL33Nz7+Fc2r8hLga1+vM2Wbm2Uio7NZF/XZFSCa eJk92AvIh95HttkN2f+i5JGi2IhcMybuAWvD8= X-Google-DKIM-Signature: v=1; a=rsa-sha256; c=relaxed/relaxed; d=1e100.net; s=20230601; t=1744073220; x=1744678020; h=references:in-reply-to:cc:to:from:subject:message-id:date :x-gm-message-state:from:to:cc:subject:date:message-id:reply-to; bh=LC0TrUXMfEYsTd2wrLi38A88tmQ1/zrVeHBeyV7sxzM=; b=j0InZkcR/011dpg6U7ne/f6pWGSHgA7WuwbDjVP55XzYxi2MzYy8+5IYp4N0ok8F36 ckpeAHPZXeznOcce7BwBaCDlD0ZnONxZ4xZKx3ZdrQn1QtcPy/gN75ZkKGWTESn1jMSl 9YnYynfUZpt98r9hdTkZokIVS6n/RSlJ8pWZ9mv2rq/VEkno00WmFl75lnG7QRgI4aRT ebVrySk2BEROOMqDYvYdvd8Ysr/pZx7h0YBM6eMmrV7d3dC39/Zqmn8r9Xah/bFQFfiy IIGpycc8Vf8w8IOogH70zWoij6198H3JdkSKIcVJk2/xfiM8u0jYi7ObXQuvxhj3Ohbl I3zg== X-Gm-Message-State: AOJu0YxSVD7LDCtzSUwHUUMzh5rurlGKKHXvMvf0Xm1sRyPyenfalox8 dT/+KV+LfDpKawjB55OHprkLiYFKxIQgjiTqL3pl9Px0mNN8erGlHroi6dcWRbZybXQSQKXwf5D gZimDU5/fKXCMCTv+ytGQqOF0iJDC9ByY2pGYTiTssmmVZJDTn6ezjs1L X-Gm-Gg: ASbGncuSjnsZNuWEEVAgcDE7wev5WvAGB5Eyozm/E+OnHilJHCuLenR++9U4LcQ+cF6 q/u56gMTJAcZx5FapEawPirAtr8ZmuGVaX5fMKExqyQRGHyptE+afJddU5Qg/N5EedRNWD3NkPO KO40VSXT0m4c1AoHQ8AwuT8Tzzv7JGgQYZlurwhaoei4005GXcjXxLkIY6h8O7UZ+pi9lTcqS9d ioWyE56bHQjUOp2A870YsTX9HgSixCxswtRyiRBhEro1faZaK/QXimIDUI0HgcWyNJ1+JZzHmCg Z196dYiYMT00ypbmZFcei4sPLk7bjJd6EqMwBFTDn8C+s+3iwf6q X-Google-Smtp-Source: AGHT+IE7uUFqWGbQgl8yc9dTRzohAV5RYKcbKsMdJ67u57GATiGsy0tFFdmqBW78wOwPSEKGPTjgJKgOiUuI X-Received: by 2002:a05:6e02:2189:b0:3d4:6ff4:2608 with SMTP id e9e14a558f8ab-3d6e5357547mr138252885ab.12.1744071412819; Mon, 07 Apr 2025 17:16:52 -0700 (PDT) Received: from postal.iol.unh.edu (postal.iol.unh.edu. [2606:4100:3880:1234::84]) by smtp-relay.gmail.com with ESMTPS id 8926c6da1cb9f-4f4f44ca1c3sm41114173.66.2025.04.07.17.16.52 (version=TLS1_2 cipher=ECDHE-ECDSA-AES128-GCM-SHA256 bits=128/128); Mon, 07 Apr 2025 17:16:52 -0700 (PDT) X-Relaying-Domain: iol.unh.edu Date: Mon, 07 Apr 2025 17:16:52 -0700 (PDT) Message-ID: <67f46af4.050a0220.3d0fb4.22ddSMTPIN_ADDED_MISSING@mx.google.com> Received: from [172.17.0.5] (unknown [172.18.0.217]) by postal.iol.unh.edu (Postfix) with ESMTP id 5B20D6052471; Mon, 7 Apr 2025 20:16:52 -0400 (EDT) Subject: |SUCCESS| pw152802 [PATCH] [RFC] drivers: add generic build of SVE f From: dpdklab@iol.unh.edu To: Test Report Cc: dpdk-test-reports@iol.unh.edu In-Reply-To: <20250407152857.2203839-1-bruce.richardson@intel.com> References: <20250407152857.2203839-1-bruce.richardson@intel.com> Content-Type: text/plain X-BeenThere: test-report@dpdk.org X-Mailman-Version: 2.1.29 Precedence: list List-Id: automatic DPDK test reports List-Unsubscribe: , List-Archive: List-Post: List-Help: List-Subscribe: , Errors-To: test-report-bounces@dpdk.org Test-Label: iol-unit-arm64-testing Test-Status: SUCCESS http://dpdk.org/patch/152802 _Testing PASS_ Submitter: Bruce Richardson Date: Monday, April 07 2025 15:28:57 DPDK git baseline: Repo:dpdk Branch: master CommitID:dd178ee7b4325f2461f7d86285ba27ba8ccef4a1 152802 --> testing pass Upstream job id: Generic-Unit-Test-DPDK#329401 Test environment and result as below: +-----------------------------+----------------+--------------+---------------------------+------------------------------+ | Environment | dpdk_unit_test | lpm_autotest | cryptodev_sw_zuc_autotest | cryptodev_sw_snow3g_autotest | +=============================+================+==============+===========================+==============================+ | 32-bit Ubuntu 22.04.4 (ARM) | PASS | SKIPPED | SKIPPED | SKIPPED | +-----------------------------+----------------+--------------+---------------------------+------------------------------+ | Fedora 40 (ARM) | PASS | SKIPPED | SKIPPED | SKIPPED | +-----------------------------+----------------+--------------+---------------------------+------------------------------+ | Debian 12 (arm) | PASS | SKIPPED | PASS | PASS | +-----------------------------+----------------+--------------+---------------------------+------------------------------+ | CentOS Stream 10 (ARM) | PASS | SKIPPED | SKIPPED | SKIPPED | +-----------------------------+----------------+--------------+---------------------------+------------------------------+ | CentOS Stream 9 (ARM) | PASS | SKIPPED | SKIPPED | SKIPPED | +-----------------------------+----------------+--------------+---------------------------+------------------------------+ | RHEL9 (ARM) | PASS | SKIPPED | SKIPPED | SKIPPED | +-----------------------------+----------------+--------------+---------------------------+------------------------------+ | Fedora 41 (ARM) | PASS | SKIPPED | SKIPPED | SKIPPED | +-----------------------------+----------------+--------------+---------------------------+------------------------------+ | Ubuntu 22.04 (ARM) | PASS | SKIPPED | SKIPPED | SKIPPED | +-----------------------------+----------------+--------------+---------------------------+------------------------------+ | Fedora 40 (ARM Clang) | PASS | SKIPPED | SKIPPED | SKIPPED | +-----------------------------+----------------+--------------+---------------------------+------------------------------+ | Fedora 41 (ARM Clang) | PASS | SKIPPED | SKIPPED | SKIPPED | +-----------------------------+----------------+--------------+---------------------------+------------------------------+ | Ubuntu 20.04 (ARM) | PASS | SKIPPED | SKIPPED | SKIPPED | +-----------------------------+----------------+--------------+---------------------------+------------------------------+ | Ubuntu 24.04 (ARM) | PASS | SKIPPED | SKIPPED | SKIPPED | +-----------------------------+----------------+--------------+---------------------------+------------------------------+ | Ubuntu 20.04 ARM SVE | SKIPPED | PASS | SKIPPED | SKIPPED | +-----------------------------+----------------+--------------+---------------------------+------------------------------+ 32-bit Ubuntu 22.04.4 (ARM) Kernel: 5.15.83+ aarch64 Compiler: gcc (Ubuntu 11.4.0-1ubuntu1~22.04) 11.4.0 Fedora 40 (ARM) Kernel: Depends on container host Compiler: gcc 14.2.1 20240912 (Red Hat 14.2.1-3) Debian 12 (arm) Kernel: Depends on container host Compiler: gcc (Debian 12.2.0-14) 12.2.0 CentOS Stream 10 (ARM) Kernel: Depends on container host Compiler: gcc 14.2.1 20241104 (Red Hat 14.2.1-6) CentOS Stream 9 (ARM) Kernel: Depends on container host Compiler: gcc 11.5.0 20240719 (Red Hat 11.5.0-2) RHEL9 (ARM) Kernel: Depends on container host Compiler: gcc 11.5.0 20240719 (Red Hat 11.5.0-2) Fedora 41 (ARM) Kernel: Depends on container host Compiler: gcc 14.2.1 20240912 (Red Hat 14.2.1-3) Ubuntu 22.04 (ARM) Kernel: Depends on container host Compiler: gcc (Ubuntu 11.4.0-1ubuntu1~22.04) 11.4.0 Fedora 40 (ARM Clang) Kernel: Depends on container host Compiler: clang 18.1.8 (Fedora 18.1.8-1.fc40) Fedora 41 (ARM Clang) Kernel: Depends on container host Compiler: clang 19.1.5 (Fedora 19.1.5-1.fc41) Ubuntu 20.04 (ARM) Kernel: Depends on container host Compiler: gcc (Ubuntu 9.4.0-1ubuntu1~20.04.2) 9.4.0 Ubuntu 24.04 (ARM) Kernel: Depends on container host Compiler: gcc (Ubuntu 13.3.0-6ubuntu2~24.04) 13.3.0 Ubuntu 20.04 ARM SVE Kernel: Depends on container host Compiler: gcc (Ubuntu 10.5.0-1ubuntu1~20.04) 10.5.0 To view detailed results, visit: https://lab.dpdk.org/results/dashboard/patchsets/32956/ UNH-IOL DPDK Community Lab To manage your email subscriptions, visit: https://lab.dpdk.org/results/dashboard/preferences/subscriptions/