From mboxrd@z Thu Jan 1 00:00:00 1970 Return-Path: Received: from mails.dpdk.org (mails.dpdk.org [217.70.189.124]) by inbox.dpdk.org (Postfix) with ESMTP id 3E8404652D for ; Tue, 8 Apr 2025 02:40:42 +0200 (CEST) Received: from mails.dpdk.org (localhost [127.0.0.1]) by mails.dpdk.org (Postfix) with ESMTP id 3AA0040E0B; Tue, 8 Apr 2025 02:40:42 +0200 (CEST) Received: from mail-qk1-f228.google.com (mail-qk1-f228.google.com [209.85.222.228]) by mails.dpdk.org (Postfix) with ESMTP id A76BF4026B for ; Tue, 8 Apr 2025 02:40:40 +0200 (CEST) Received: by mail-qk1-f228.google.com with SMTP id af79cd13be357-7c0e135e953so479411085a.2 for ; Mon, 07 Apr 2025 17:40:40 -0700 (PDT) DKIM-Signature: v=1; a=rsa-sha256; c=relaxed/relaxed; d=iol.unh.edu; s=unh-iol; t=1744072835; x=1744677635; darn=dpdk.org; h=references:in-reply-to:cc:to:from:subject:message-id:date:from:to :cc:subject:date:message-id:reply-to; bh=JprTcnp1I0LV8GcbZvemkC4/vsuSyD2ah5FNLVJEB/8=; b=KQxVgNkBxum9R1IRjsDQq2OFXiQrFk9Ad2eXSlROFJtj4y8qzF0JQwuamH2LGKUbTO qFUbHk1+vycmkutJ6r7//xZOpxYeLnLGtf/BjJZFV8J4zPjZjhym6d+Do1EwrEETHEix SzXTk9g0y5nYUGB2ML/q+IZudPGfHxIJOe/q0= X-Google-DKIM-Signature: v=1; a=rsa-sha256; c=relaxed/relaxed; d=1e100.net; s=20230601; t=1744072835; x=1744677635; h=references:in-reply-to:cc:to:from:subject:message-id:date :x-gm-message-state:from:to:cc:subject:date:message-id:reply-to; bh=JprTcnp1I0LV8GcbZvemkC4/vsuSyD2ah5FNLVJEB/8=; b=GgKEXvNiioTAJlSo8D9QwnvMUWGLCYN1HVDvYjZyhVk+7gO5IaBndV4hNMPb0qGTFa Frf0GE3vd/SvNq6qEa+fuzLG9WBjhEA+1eQyYlbq/ndiseX2adNy5rgcjjXfVwcT5QaJ ICMwwEOHQ1dgsEDV4Ge8LH7gc0CUbHILipYayA3tflfPXiHqVrQOi34XXF5XZrUMxbDV ZcaqAbDtwY5gAbsRu8E2dgeEo6hCsINxDrjdZaQoyFwsuq+fQetg5hhYRQGodOxagVev 3I+wCqmHMQN71A3VrOoIUWOh16UXTbIKVOkPIoMtfGjk/J5UVhnRk1X5Xjo946XDpEyk xGLA== X-Gm-Message-State: AOJu0YzJav3ElXX/3yq4vfUmTMwrzFAp65RJDLAwekWZEA4DickC/OSe oIUBeyEEZHuASehAjzTLa+wdIbAcH4DKyrNYHxTSFHOZBxv2xD3V1mks1oIuuxTDowVrlbFjDpN MPTlJhQIWs5X2S1JIFRa+X7BTPc22qsqj5QHm7y3EXNESSW/qxaMwG61u X-Gm-Gg: ASbGncvKM2a1z03OLvOok2foKqNOSrtOQnW+B84ON5DobRC5usy8a4H8otU8nFG3j8S 5N1TtIvOcHTFS1b9Z6zyRTHArB98GHgir0LIXtuvJD5uoS+ZQb+ipBMUSnJSKQm9KDtgHwJcw+w tcI74C0UK6792utLoZ7rZ8MJB3alr2lC+7sqrS0BtekS2eUZa/xMhG+pOJDGFbDdYORj5uoc2lI GKwP9QvdICdRI+0fWte+DWlGCnlZadrZ29eE63ldaCzVZwh46JvVaNB3g38waHV+O7MPwKTo10/ tAoxpu8bhrp6QcZ1eelPMEHpLbz1aLXsz2Fd05seMSkwMmApp+MC X-Google-Smtp-Source: AGHT+IEHrsJbXq8c++5xR960Y67vBE/wOMAbYJxZZV/LP0bs4gTPclfjhoCr/ogXmioKsv7X2QyRvsC3H0EE X-Received: by 2002:a05:6122:2a11:b0:50d:a31c:678c with SMTP id 71dfb90a1353d-52772ee3144mr7996539e0c.2.1744071412924; Mon, 07 Apr 2025 17:16:52 -0700 (PDT) Received: from postal.iol.unh.edu (postal.iol.unh.edu. [2606:4100:3880:1234::84]) by smtp-relay.gmail.com with ESMTPS id 71dfb90a1353d-5279b653ea3sm43095e0c.10.2025.04.07.17.16.52 (version=TLS1_2 cipher=ECDHE-ECDSA-AES128-GCM-SHA256 bits=128/128); Mon, 07 Apr 2025 17:16:52 -0700 (PDT) X-Relaying-Domain: iol.unh.edu Date: Mon, 07 Apr 2025 17:16:52 -0700 (PDT) Message-ID: <67f46af4.050a0220.b33a6.253fSMTPIN_ADDED_MISSING@mx.google.com> Received: from [172.17.0.4] (unknown [172.18.0.217]) by postal.iol.unh.edu (Postfix) with ESMTP id 9EAB86052472; Mon, 7 Apr 2025 20:16:52 -0400 (EDT) Subject: |SUCCESS| pw152802 [PATCH] [RFC] drivers: add generic build of SVE f From: dpdklab@iol.unh.edu To: Test Report Cc: dpdk-test-reports@iol.unh.edu In-Reply-To: <20250407152857.2203839-1-bruce.richardson@intel.com> References: <20250407152857.2203839-1-bruce.richardson@intel.com> Content-Type: text/plain X-BeenThere: test-report@dpdk.org X-Mailman-Version: 2.1.29 Precedence: list List-Id: automatic DPDK test reports List-Unsubscribe: , List-Archive: List-Post: List-Help: List-Subscribe: , Errors-To: test-report-bounces@dpdk.org Test-Label: iol-unit-amd64-testing Test-Status: SUCCESS http://dpdk.org/patch/152802 _Testing PASS_ Submitter: Bruce Richardson Date: Monday, April 07 2025 15:28:57 DPDK git baseline: Repo:dpdk Branch: master CommitID:dd178ee7b4325f2461f7d86285ba27ba8ccef4a1 152802 --> testing pass Upstream job id: Generic-Unit-Test-DPDK#329396 Test environment and result as below: +---------------------+----------------+ | Environment | dpdk_unit_test | +=====================+================+ | CentOS Stream 10 | PASS | +---------------------+----------------+ | Debian 12 | PASS | +---------------------+----------------+ | CentOS Stream 9 | PASS | +---------------------+----------------+ | Fedora 40 | PASS | +---------------------+----------------+ | Fedora 41 (Clang) | PASS | +---------------------+----------------+ | RHEL9 | PASS | +---------------------+----------------+ | Ubuntu 22.04 | PASS | +---------------------+----------------+ | Fedora 40 (Clang) | PASS | +---------------------+----------------+ | Ubuntu 24.04 | PASS | +---------------------+----------------+ | Ubuntu 20.04 | PASS | +---------------------+----------------+ | RHEL8 | PASS | +---------------------+----------------+ | Fedora 41 | PASS | +---------------------+----------------+ | Windows Server 2022 | PASS | +---------------------+----------------+ CentOS Stream 10 Kernel: Depends on container host Compiler: gcc 14.2.1 20241104 (Red Hat 14.2.1-6) Debian 12 Kernel: Depends on container host Compiler: gcc (Debian 12.2.0-14) 12.2.0 CentOS Stream 9 Kernel: Depends on container host Compiler: gcc 11.5.0 20240719 (Red Hat 11.5.0-2) Fedora 40 Kernel: Depends on container host Compiler: gcc 14.2.1 20240912 (Red Hat 14.2.1-3) Fedora 41 (Clang) Kernel: Depends on container host Compiler: clang 19.1.5 (Fedora 19.1.5-1.fc41) RHEL9 Kernel: Depends on container host Compiler: gcc 11.5.0 20240719 (Red Hat 11.5.0-2) Ubuntu 22.04 Kernel: Depends on container host Compiler: gcc (Ubuntu 11.4.0-1ubuntu1~22.04) 11.4.0 Fedora 40 (Clang) Kernel: Depends on container host Compiler: clang 18.1.8 (Fedora 18.1.8-1.fc40) Ubuntu 24.04 Kernel: Depends on container host Compiler: gcc (Ubuntu 13.3.0-6ubuntu2~24.04) 13.3.0 Ubuntu 20.04 Kernel: Depends on container host Compiler: gcc (Ubuntu 9.4.0-1ubuntu1~20.04.2) 9.4.0 RHEL8 Kernel: Depends on container host Compiler: gcc 8.5.0 20210514 (Red Hat 8.5.0-22) Fedora 41 Kernel: Depends on container host Compiler: gcc 14.2.1 20240912 (Red Hat 14.2.1-3) Windows Server 2022 Kernel: 10.0.20348.2031 Compiler: clang 15.0.7, gcc 14.1.0 (MinGW), and MSVC VS 19.39.33521 To view detailed results, visit: https://lab.dpdk.org/results/dashboard/patchsets/32956/ UNH-IOL DPDK Community Lab To manage your email subscriptions, visit: https://lab.dpdk.org/results/dashboard/preferences/subscriptions/