From mboxrd@z Thu Jan 1 00:00:00 1970 Return-Path: Received: from mails.dpdk.org (mails.dpdk.org [217.70.189.124]) by inbox.dpdk.org (Postfix) with ESMTP id 51FFE4652D for ; Tue, 8 Apr 2025 02:41:07 +0200 (CEST) Received: from mails.dpdk.org (localhost [127.0.0.1]) by mails.dpdk.org (Postfix) with ESMTP id 4F1014026B; Tue, 8 Apr 2025 02:41:07 +0200 (CEST) Received: from mail-oo1-f100.google.com (mail-oo1-f100.google.com [209.85.161.100]) by mails.dpdk.org (Postfix) with ESMTP id EB487400D7 for ; Tue, 8 Apr 2025 02:41:06 +0200 (CEST) Received: by mail-oo1-f100.google.com with SMTP id 006d021491bc7-6021e3daeabso2453517eaf.3 for ; Mon, 07 Apr 2025 17:41:06 -0700 (PDT) DKIM-Signature: v=1; a=rsa-sha256; c=relaxed/relaxed; d=iol.unh.edu; s=unh-iol; t=1744072860; x=1744677660; darn=dpdk.org; h=references:in-reply-to:cc:to:from:subject:message-id:date:from:to :cc:subject:date:message-id:reply-to; bh=rnHH6O0mNV+9HtNmxzABYPT8XwzGNFAW4/XG5fxoFvE=; b=ZAQCXU6u2t1iUGAo75ROLUSAlpnFk4dpEV12gaQUfYAjey0JZE6goMvMkV7NX48MNv 6co9QrRGJ7DmuoID+U+fSN5D79QELvvJ7oIFNlsBUN6tUbp4APUCbXzrQsvUXcjNMe9i ZL/70kgh7HHtHAPH3hEefsNYnJIdZQNZoL5Nw= X-Google-DKIM-Signature: v=1; a=rsa-sha256; c=relaxed/relaxed; d=1e100.net; s=20230601; t=1744072860; x=1744677660; h=references:in-reply-to:cc:to:from:subject:message-id:date :x-gm-message-state:from:to:cc:subject:date:message-id:reply-to; bh=rnHH6O0mNV+9HtNmxzABYPT8XwzGNFAW4/XG5fxoFvE=; b=QwmNsxEpHw2nnIdGD1kKAEeGbZFf3cGd+bDOS/aikc1XjejtIM6WyEZwWfUIEpvUrQ xjn7jL8ckBAOdvlgJOTnRbGetr5T/5kaBEYCKu2whnT+nvQt8v9bDZlBU2/JMbwNhsqF UxdgncsfRAqEfljxtIuWYVxp6UouGD4JwZNcAM4Stkt5pYUVsDnLlhcAJHCWRebbzqjP Otv7XsUsXgIt//2GuCNR5x8lAMh0gcE2pQ5ZriJNHZueinmwTONplwapWnxY4/kXcRNO yMXdFfce1U0tT4v0AQPYEnOEut0P4H9BzmvY5RMWCIedSTr/01RBO6fbl3X6bjRyGI+R McWQ== X-Gm-Message-State: AOJu0YyONKEgIz8yJq/ibMh7rIqA1O7vfeY/DAenzKEkAq27LUI+kb1u G7gL21SsRW3NzYkcgCDWCJGNYfC4f8wR8JCdjJ+StNtMu1PztytXJx7bqrBaneiDBCDbp+cb8zE oOuEECbh1DdHu3R0Ed/0C2GcFzL/u2xYprI2WDbyK X-Gm-Gg: ASbGncu+pIpUuE56JePyAKXO3UGMbrd+qmtmR8fjAj3JW4mlQkksxY2MQOT499ZdV9Z 8K3yKhxB6jD0IpqU1WmHFm90fH2+F6v2zkEwWX2iWl0Io1Dx4obIy3c4yLLSYOqfbuEPnd3I1Os GXa7UKZ9uKzM0/39Z8Q+1VmVcKdyLXfE0Hsoi0keQrwacUzU1xEtV2lUa3pXCjR7Ym/8Mf0omle w540JF5F6i+hx0BcLPAcLIEBcIfQMF5R1LQCBoAbVx7bvptjXkjEwlUTzHQu1MvPIak2UsVxt7m 3IVz2s3GbryUPmcCkvedI/y23sI5q6TePTrg+Q9E X-Google-Smtp-Source: AGHT+IH9DdZwKYUSfzkWMuGoJSZkwSTZGvtoB0RxWXmFzJfupWilP4DDL1D8jHQ9kXeQEmV7JLczWVnX1bML X-Received: by 2002:a17:903:19c4:b0:216:3d72:1712 with SMTP id d9443c01a7336-22a95587be7mr175983695ad.48.1744072398106; Mon, 07 Apr 2025 17:33:18 -0700 (PDT) Received: from postal.iol.unh.edu (postal.iol.unh.edu. [132.177.123.84]) by smtp-relay.gmail.com with ESMTPS id d9443c01a7336-229789897e5sm8129895ad.15.2025.04.07.17.33.17 (version=TLS1_2 cipher=ECDHE-ECDSA-AES128-GCM-SHA256 bits=128/128); Mon, 07 Apr 2025 17:33:18 -0700 (PDT) X-Relaying-Domain: iol.unh.edu Date: Mon, 07 Apr 2025 17:33:18 -0700 (PDT) Message-ID: <67f46ece.170a0220.bbe27.aa5cSMTPIN_ADDED_MISSING@mx.google.com> Received: from [172.21.0.6] (unknown [172.18.0.240]) by postal.iol.unh.edu (Postfix) with ESMTP id 951826052471; Mon, 7 Apr 2025 20:33:17 -0400 (EDT) Subject: |SUCCESS| pw152802 [PATCH] [RFC] drivers: add generic build of SVE f From: dpdklab@iol.unh.edu To: Test Report Cc: dpdk-test-reports@iol.unh.edu In-Reply-To: <20250407152857.2203839-1-bruce.richardson@intel.com> References: <20250407152857.2203839-1-bruce.richardson@intel.com> Content-Type: text/plain X-BeenThere: test-report@dpdk.org X-Mailman-Version: 2.1.29 Precedence: list List-Id: automatic DPDK test reports List-Unsubscribe: , List-Archive: List-Post: List-Help: List-Subscribe: , Errors-To: test-report-bounces@dpdk.org Test-Label: iol-unit-amd64-testing Test-Status: SUCCESS http://dpdk.org/patch/152802 _Testing PASS_ Submitter: Bruce Richardson Date: Monday, April 07 2025 15:28:57 DPDK git baseline: Repo:dpdk Branch: master CommitID:dd178ee7b4325f2461f7d86285ba27ba8ccef4a1 152802 --> testing pass Upstream job id: Generic-VM-Unit-Test-DPDK#27848 Test environment and result as below: +---------------------+----------------+ | Environment | dpdk_unit_test | +=====================+================+ | CentOS Stream 10 | PASS | +---------------------+----------------+ | Debian 12 | PASS | +---------------------+----------------+ | CentOS Stream 9 | PASS | +---------------------+----------------+ | Fedora 40 | PASS | +---------------------+----------------+ | Fedora 41 (Clang) | PASS | +---------------------+----------------+ | RHEL9 | PASS | +---------------------+----------------+ | Ubuntu 22.04 | PASS | +---------------------+----------------+ | Fedora 40 (Clang) | PASS | +---------------------+----------------+ | Ubuntu 24.04 | PASS | +---------------------+----------------+ | Ubuntu 20.04 | PASS | +---------------------+----------------+ | RHEL8 | PASS | +---------------------+----------------+ | Fedora 41 | PASS | +---------------------+----------------+ | Windows Server 2022 | PASS | +---------------------+----------------+ CentOS Stream 10 Kernel: Depends on container host Compiler: gcc 14.2.1 20241104 (Red Hat 14.2.1-6) Debian 12 Kernel: Depends on container host Compiler: gcc (Debian 12.2.0-14) 12.2.0 CentOS Stream 9 Kernel: Depends on container host Compiler: gcc 11.5.0 20240719 (Red Hat 11.5.0-2) Fedora 40 Kernel: Depends on container host Compiler: gcc 14.2.1 20240912 (Red Hat 14.2.1-3) Fedora 41 (Clang) Kernel: Depends on container host Compiler: clang 19.1.5 (Fedora 19.1.5-1.fc41) RHEL9 Kernel: Depends on container host Compiler: gcc 11.5.0 20240719 (Red Hat 11.5.0-2) Ubuntu 22.04 Kernel: Depends on container host Compiler: gcc (Ubuntu 11.4.0-1ubuntu1~22.04) 11.4.0 Fedora 40 (Clang) Kernel: Depends on container host Compiler: clang 18.1.8 (Fedora 18.1.8-1.fc40) Ubuntu 24.04 Kernel: Depends on container host Compiler: gcc (Ubuntu 13.3.0-6ubuntu2~24.04) 13.3.0 Ubuntu 20.04 Kernel: Depends on container host Compiler: gcc (Ubuntu 9.4.0-1ubuntu1~20.04.2) 9.4.0 RHEL8 Kernel: Depends on container host Compiler: gcc 8.5.0 20210514 (Red Hat 8.5.0-22) Fedora 41 Kernel: Depends on container host Compiler: gcc 14.2.1 20240912 (Red Hat 14.2.1-3) Windows Server 2022 Kernel: 10.0.20348.2031 Compiler: clang 15.0.7, gcc 14.1.0 (MinGW), and MSVC VS 19.39.33521 To view detailed results, visit: https://lab.dpdk.org/results/dashboard/patchsets/32956/ UNH-IOL DPDK Community Lab To manage your email subscriptions, visit: https://lab.dpdk.org/results/dashboard/preferences/subscriptions/