From mboxrd@z Thu Jan 1 00:00:00 1970 Return-Path: Received: from mails.dpdk.org (mails.dpdk.org [217.70.189.124]) by inbox.dpdk.org (Postfix) with ESMTP id F206C4652D for ; Tue, 8 Apr 2025 02:40:21 +0200 (CEST) Received: from mails.dpdk.org (localhost [127.0.0.1]) by mails.dpdk.org (Postfix) with ESMTP id 29B854026B; Tue, 8 Apr 2025 02:40:20 +0200 (CEST) Received: from mail-il1-f226.google.com (mail-il1-f226.google.com [209.85.166.226]) by mails.dpdk.org (Postfix) with ESMTP id 9FEFA400D7 for ; Tue, 8 Apr 2025 02:40:18 +0200 (CEST) Received: by mail-il1-f226.google.com with SMTP id e9e14a558f8ab-3d58908c43fso13830985ab.0 for ; Mon, 07 Apr 2025 17:40:18 -0700 (PDT) DKIM-Signature: v=1; a=rsa-sha256; c=relaxed/relaxed; d=iol.unh.edu; s=unh-iol; t=1744072808; x=1744677608; darn=dpdk.org; h=references:in-reply-to:cc:to:from:subject:message-id:date:from:to :cc:subject:date:message-id:reply-to; bh=c4DSDtdF7iYZ9Bu9684GTRiodEl/DQiCK7SazHY3ZSQ=; b=QngJryUcKLrDP0nAU9dLPKmzDEmaOei+tpkypg0tREDFmTJN9mx3xw9UpaqcJeFBDg eo9dYjLU5rPrOQuk5k/yLoF6Bx+ppNxG6Hn4KTO1HyFK0hrn8FfsA7kUhm8bNJeY+hMf WUzCBa3648x1v7vf6Qse+3LTXbt2+mILGpWBs= X-Google-DKIM-Signature: v=1; a=rsa-sha256; c=relaxed/relaxed; d=1e100.net; s=20230601; t=1744072808; x=1744677608; h=references:in-reply-to:cc:to:from:subject:message-id:date :x-gm-message-state:from:to:cc:subject:date:message-id:reply-to; bh=c4DSDtdF7iYZ9Bu9684GTRiodEl/DQiCK7SazHY3ZSQ=; b=FRe8UdahXd9GnnuRFmrpnpTWmrrQXSMdKrn2WqqjOmcJHhbdo05Z8U9rIhFaulnW6O YJNx0RMVld0Rv7WOpLBQ1WhBUu8aQ0cDoB8cwGTfXR4HFAvbItePxpKgRI0IKy9pE8QO VTVTqOCPGEydeu7wcf8Pl+PGGnGxIDHv3inyWjI/uJ6E8rvixn+vapdIvpN7qG5bUw29 wSptNmFljRqLjYECwTDD9vaIx64dLbW6KdvGX3A5JLwo30PkP+jzuItUCUcBQ/CF4FuH er0F3yf011TlAmrC9jeuUoS5r2JDGHQ38By2EhC2YgwLKNTqzQo6iylJT6dtUoSVa89P WFhA== X-Gm-Message-State: AOJu0YzcRKYiGat2g88PNgGvKAeSYZK+qzphpxFggNTo0j5yNQP/r07U QnMOfidy+ZlSqUCwSEEzbnMdyujux4dS9aFYx0OY/Oiaf1kz7pHmLGdIof2cnpZkiNf1l03fQwL 1UZliIjzCYB41yJhXORamCA8JwKftUdzo/lJ50SgLoujEqYOYPT7CWkEM X-Gm-Gg: ASbGncvj9xrxnCvn3MOJdhXgWpPq0ItPAyyvXposLZbynffg8mplML3IeLaUQwr4qde sh9rY85Tznsjy7A8nS/iP6ZASmO4A4dxHo8a6gHR9Oht0TPFlbohluCwIbYHPgHdbLQVmZEOpHP ZkB5nbFfGb3aJBr/ENC5T7pSIXo2ZT0kuJYjOGtaG5IW1fZ/eOBdb5su7GNpvV1Zj/TOdvKUAdF 4OBEKIe1xbpAH74GVNwzSoW8j8FEYv9odMz+fJzl5GFjwxf6X6b3KidiTAHu5lAZaH9z+W+H0rM gWiNN69eRkd08nMUz31yT227hBF4WXof5ri2DvVFM2AOXt8tfC0v X-Google-Smtp-Source: AGHT+IF5eIm7Wo+Q2zDU9/mbCmHaGvPNqcK/+IEVKZpNH5RBIYTfI+O3ccDL5OdOggB0hR9/h30sLBZH5I5b X-Received: by 2002:a92:cd83:0:b0:3d4:6f37:3724 with SMTP id e9e14a558f8ab-3d6e5877040mr180472085ab.18.1744072807108; Mon, 07 Apr 2025 17:40:07 -0700 (PDT) Received: from postal.iol.unh.edu (postal.iol.unh.edu. [2606:4100:3880:1234::84]) by smtp-relay.gmail.com with ESMTPS id e9e14a558f8ab-3d703b82376sm403995ab.28.2025.04.07.17.40.07 (version=TLS1_2 cipher=ECDHE-ECDSA-AES128-GCM-SHA256 bits=128/128); Mon, 07 Apr 2025 17:40:07 -0700 (PDT) X-Relaying-Domain: iol.unh.edu Date: Mon, 07 Apr 2025 17:40:07 -0700 (PDT) Message-ID: <67f47067.920a0220.363f59.226dSMTPIN_ADDED_MISSING@mx.google.com> Received: from [172.21.0.5] (unknown [172.18.0.240]) by postal.iol.unh.edu (Postfix) with ESMTP id B84FE6052471; Mon, 7 Apr 2025 20:40:06 -0400 (EDT) Subject: |SUCCESS| pw152802 [PATCH] [RFC] drivers: add generic build of SVE f From: dpdklab@iol.unh.edu To: Test Report Cc: dpdk-test-reports@iol.unh.edu In-Reply-To: <20250407152857.2203839-1-bruce.richardson@intel.com> References: <20250407152857.2203839-1-bruce.richardson@intel.com> Content-Type: text/plain X-BeenThere: test-report@dpdk.org X-Mailman-Version: 2.1.29 Precedence: list List-Id: automatic DPDK test reports List-Unsubscribe: , List-Archive: List-Post: List-Help: List-Subscribe: , Errors-To: test-report-bounces@dpdk.org Test-Label: iol-sample-apps-testing Test-Status: SUCCESS http://dpdk.org/patch/152802 _Testing PASS_ Submitter: Bruce Richardson Date: Monday, April 07 2025 15:28:57 DPDK git baseline: Repo:dpdk Branch: master CommitID:dd178ee7b4325f2461f7d86285ba27ba8ccef4a1 152802 --> testing pass Upstream job id: ACVP-FIPS-testing#9474 Test environment and result as below: +--------------------+----------------------+----------------------+ | Environment | compressdev_zlib_pmd | dpdk_fips_validation | +====================+======================+======================+ | Ubuntu 22.04 (ARM) | PASS | SKIPPED | +--------------------+----------------------+----------------------+ | Ubuntu 22.04 | PASS | SKIPPED | +--------------------+----------------------+----------------------+ | Ubuntu 20.04 | SKIPPED | PASS | +--------------------+----------------------+----------------------+ Ubuntu 22.04 (ARM) Kernel: 5.15.0-97-generic Compiler: gcc gcc (Ubuntu 11.4.0-1ubuntu1~22.04) 11.4.0 Ubuntu 22.04 Kernel: 5.15.0-100-generic Compiler: gcc gcc (Ubuntu 11.4.0-1ubuntu1~22.04) 11.4.0 Ubuntu 20.04 Kernel: Depends on container host Compiler: gcc (Ubuntu 9.4.0-1ubuntu1~20.04.2) 9.4.0 To view detailed results, visit: https://lab.dpdk.org/results/dashboard/patchsets/32956/ UNH-IOL DPDK Community Lab To manage your email subscriptions, visit: https://lab.dpdk.org/results/dashboard/preferences/subscriptions/