From mboxrd@z Thu Jan 1 00:00:00 1970 Return-Path: Received: from mails.dpdk.org (mails.dpdk.org [217.70.189.124]) by inbox.dpdk.org (Postfix) with ESMTP id 2CA9E4652D for ; Tue, 8 Apr 2025 02:47:21 +0200 (CEST) Received: from mails.dpdk.org (localhost [127.0.0.1]) by mails.dpdk.org (Postfix) with ESMTP id 243C34026B; Tue, 8 Apr 2025 02:47:21 +0200 (CEST) Received: from mail-yb1-f227.google.com (mail-yb1-f227.google.com [209.85.219.227]) by mails.dpdk.org (Postfix) with ESMTP id AF415400D7 for ; Tue, 8 Apr 2025 02:47:19 +0200 (CEST) Received: by mail-yb1-f227.google.com with SMTP id 3f1490d57ef6-e6e1cd3f1c5so3281725276.0 for ; Mon, 07 Apr 2025 17:47:19 -0700 (PDT) DKIM-Signature: v=1; a=rsa-sha256; c=relaxed/relaxed; d=iol.unh.edu; s=unh-iol; t=1744073237; x=1744678037; darn=dpdk.org; h=references:in-reply-to:cc:to:from:subject:message-id:date:from:to :cc:subject:date:message-id:reply-to; bh=PFSdzulqeFH6OLTwFAkFcRmsPbbG6TJkakGD21ed5jM=; b=B6q82yo8bF4Mozmu17ZoaiWgOPJlzcPSp7Dly04X08483DbdR2lVrj6zV6hN4U3Vks uZoo3OpHFuGuqaea4QaoZ0EbCQTNMPpiAquvRjdr/YO7nwK7BZE/mB3Yvgv7424FBqzK yW3QJa+aOkbeITxPhUOomD85ur8sXaiCqghg8= X-Google-DKIM-Signature: v=1; a=rsa-sha256; c=relaxed/relaxed; d=1e100.net; s=20230601; t=1744073237; x=1744678037; h=references:in-reply-to:cc:to:from:subject:message-id:date :x-gm-message-state:from:to:cc:subject:date:message-id:reply-to; bh=PFSdzulqeFH6OLTwFAkFcRmsPbbG6TJkakGD21ed5jM=; b=i3QYzGPiOfihYOHkpmoe8/MeizgkTy889X5vjw76jn1rPzflJ3PwT8yQfnycTn5Csb qve1nYKUKXqoSynXHwYaug9vDUXm+oezF106UqnrzNW7/5l+mvK3JSMxtU986pjvvKRE DlQBy+SBq/ARbXhA0q9nEW4m2TYB2H5UG62SYRXYdQ4Xb4TOwXqVh8bGwtlNVOSu9c3w hBXyMLjXXvA4cNgTlx+Pu+d7shaj8YQVAHgCG68ETwnzGzOmc0u2vuejBHM2hejxNWEW 6zwajY61SA1p7B8E2uf9OjxcYLvdqGb/pJeUp++BDmswGFzmRKtN0rW86dLajYqoKBNb EpHA== X-Gm-Message-State: AOJu0YxXF5FYZrJkCRwmXXZ4Jp+oJTlJpj85rxCL2JewYUwvz2mWYpw/ ncGEZaJdaaOf6cjdJTmBVoVKftGtVyjcGKSVp8xF7QksAaVtZvEtwnUqz3Au+pU6rnVzKPZn0p/ bBKrK1+s9pwoBt/DZUFTmkRsxjMMEIprc+qofeQx5 X-Gm-Gg: ASbGncseYtQMt/C4ARokLCRx3kjC7degK9nVxPgJQLk6EvKFrjNCqH5VtsyNdojx/P3 /leK2qdsECBbJKWOko6GtQMsmz4vUCMcOPeXyWPuZutIkQR4Y+RteyIaXyu1O5DvKNfFMnhDAID +rMv1wVGLbhExUO4ZxLoT1+DQwT/yZ9oJjGLxe3TssantFArEfVkIYZYaHB7PGEVBMV/8Qdn+wJ vrPK70rqPNrQnWJHPEx2Bs8B4uyGXROzHHqwLHBBS+ZlwGRJdKxMxjDq+0oOvfkQIBVAeKWfSEw Aq0Q10Bfokk4O+2yHxFyycHsv/zptrIZ+GiXV1pP X-Google-Smtp-Source: AGHT+IHDYxXJ0bD2Snv9LphvPQyiX4jh+Gmafs5A4A0Tz8YB81Hxndl0V3+yynvIeSbyWK6z9unzTJ929J3Z X-Received: by 2002:a05:6902:4891:b0:e63:69d7:4e05 with SMTP id 3f1490d57ef6-e6e31839b82mr16912081276.25.1744073236989; Mon, 07 Apr 2025 17:47:16 -0700 (PDT) Received: from postal.iol.unh.edu (postal.iol.unh.edu. [132.177.123.84]) by smtp-relay.gmail.com with ESMTPS id 3f1490d57ef6-e6e0c8b9b8bsm729123276.8.2025.04.07.17.47.16 (version=TLS1_2 cipher=ECDHE-ECDSA-AES128-GCM-SHA256 bits=128/128); Mon, 07 Apr 2025 17:47:16 -0700 (PDT) X-Relaying-Domain: iol.unh.edu Date: Mon, 07 Apr 2025 17:47:16 -0700 (PDT) Message-ID: <67f47214.250a0220.2e47bf.0142SMTPIN_ADDED_MISSING@mx.google.com> Received: from [172.21.0.8] (unknown [172.18.0.240]) by postal.iol.unh.edu (Postfix) with ESMTP id 950BD6052471; Mon, 7 Apr 2025 20:47:16 -0400 (EDT) Subject: |SUCCESS| pw152802 [PATCH] [RFC] drivers: add generic build of SVE f From: dpdklab@iol.unh.edu To: Test Report Cc: dpdk-test-reports@iol.unh.edu In-Reply-To: <20250407152857.2203839-1-bruce.richardson@intel.com> References: <20250407152857.2203839-1-bruce.richardson@intel.com> Content-Type: text/plain X-BeenThere: test-report@dpdk.org X-Mailman-Version: 2.1.29 Precedence: list List-Id: automatic DPDK test reports List-Unsubscribe: , List-Archive: List-Post: List-Help: List-Subscribe: , Errors-To: test-report-bounces@dpdk.org Test-Label: iol-compile-amd64-testing Test-Status: SUCCESS http://dpdk.org/patch/152802 _Testing PASS_ Submitter: Bruce Richardson Date: Monday, April 07 2025 15:28:57 DPDK git baseline: Repo:dpdk Branch: master CommitID:dd178ee7b4325f2461f7d86285ba27ba8ccef4a1 152802 --> testing pass Upstream job id: Generic-DPDK-Compile-Meson#378082 Test environment and result as below: +-----------------------------------+--------------------+-------------------+------------------+-------------------------+-------------------+----------------------+ | Environment | dpdk_meson_compile | dpdk_compile_spdk | dpdk_compile_ovs | dpdk_llvm_clang_compile | dpdk_msvc_compile | dpdk_mingw64_compile | +===================================+====================+===================+==================+=========================+===================+======================+ | CentOS Stream 9 | PASS | PASS | SKIPPED | SKIPPED | SKIPPED | SKIPPED | +-----------------------------------+--------------------+-------------------+------------------+-------------------------+-------------------+----------------------+ | Fedora 40 (Clang) | PASS | PASS | SKIPPED | SKIPPED | SKIPPED | SKIPPED | +-----------------------------------+--------------------+-------------------+------------------+-------------------------+-------------------+----------------------+ | CentOS Stream 10 | PASS | SKIPPED | SKIPPED | SKIPPED | SKIPPED | SKIPPED | +-----------------------------------+--------------------+-------------------+------------------+-------------------------+-------------------+----------------------+ | Debian 12 | PASS | PASS | SKIPPED | SKIPPED | SKIPPED | SKIPPED | +-----------------------------------+--------------------+-------------------+------------------+-------------------------+-------------------+----------------------+ | Fedora 41 (Clang) | PASS | PASS | PASS | SKIPPED | SKIPPED | SKIPPED | +-----------------------------------+--------------------+-------------------+------------------+-------------------------+-------------------+----------------------+ | Fedora 40 | PASS | PASS | SKIPPED | SKIPPED | SKIPPED | SKIPPED | +-----------------------------------+--------------------+-------------------+------------------+-------------------------+-------------------+----------------------+ | Ubuntu 22.04 | PASS | PASS | SKIPPED | SKIPPED | SKIPPED | SKIPPED | +-----------------------------------+--------------------+-------------------+------------------+-------------------------+-------------------+----------------------+ | openSUSE Leap 15 | PASS | SKIPPED | SKIPPED | SKIPPED | SKIPPED | SKIPPED | +-----------------------------------+--------------------+-------------------+------------------+-------------------------+-------------------+----------------------+ | Fedora 41 | PASS | PASS | PASS | SKIPPED | SKIPPED | SKIPPED | +-----------------------------------+--------------------+-------------------+------------------+-------------------------+-------------------+----------------------+ | RHEL9 | PASS | SKIPPED | SKIPPED | SKIPPED | SKIPPED | SKIPPED | +-----------------------------------+--------------------+-------------------+------------------+-------------------------+-------------------+----------------------+ | Ubuntu 20.04 | PASS | SKIPPED | SKIPPED | SKIPPED | SKIPPED | SKIPPED | +-----------------------------------+--------------------+-------------------+------------------+-------------------------+-------------------+----------------------+ | Ubuntu 24.04 | PASS | PASS | PASS | SKIPPED | SKIPPED | SKIPPED | +-----------------------------------+--------------------+-------------------+------------------+-------------------------+-------------------+----------------------+ | RHEL8 | PASS | SKIPPED | SKIPPED | SKIPPED | SKIPPED | SKIPPED | +-----------------------------------+--------------------+-------------------+------------------+-------------------------+-------------------+----------------------+ | Alpine | PASS | SKIPPED | SKIPPED | SKIPPED | SKIPPED | SKIPPED | +-----------------------------------+--------------------+-------------------+------------------+-------------------------+-------------------+----------------------+ | Ubuntu 24.04 32 Bit Cross Compile | PASS | SKIPPED | SKIPPED | SKIPPED | SKIPPED | SKIPPED | +-----------------------------------+--------------------+-------------------+------------------+-------------------------+-------------------+----------------------+ | FreeBSD 13.5 | PASS | SKIPPED | SKIPPED | SKIPPED | SKIPPED | SKIPPED | +-----------------------------------+--------------------+-------------------+------------------+-------------------------+-------------------+----------------------+ | FreeBSD 14.2 | PASS | SKIPPED | SKIPPED | SKIPPED | SKIPPED | SKIPPED | +-----------------------------------+--------------------+-------------------+------------------+-------------------------+-------------------+----------------------+ | Windows Server 2022 | SKIPPED | SKIPPED | SKIPPED | PASS | PASS | PASS | +-----------------------------------+--------------------+-------------------+------------------+-------------------------+-------------------+----------------------+ CentOS Stream 9 Kernel: Depends on container host Compiler: gcc 11.5.0 20240719 (Red Hat 11.5.0-2) Fedora 40 (Clang) Kernel: Depends on container host Compiler: clang 18.1.8 (Fedora 18.1.8-1.fc40) CentOS Stream 10 Kernel: Depends on container host Compiler: gcc 14.2.1 20241104 (Red Hat 14.2.1-6) Debian 12 Kernel: Depends on container host Compiler: gcc (Debian 12.2.0-14) 12.2.0 Fedora 41 (Clang) Kernel: Depends on container host Compiler: clang 19.1.5 (Fedora 19.1.5-1.fc41) Fedora 40 Kernel: Depends on container host Compiler: gcc 14.2.1 20240912 (Red Hat 14.2.1-3) Ubuntu 22.04 Kernel: Depends on container host Compiler: gcc (Ubuntu 11.4.0-1ubuntu1~22.04) 11.4.0 openSUSE Leap 15 Kernel: Depends on container host Compiler: gcc (SUSE Linux) 7.5.0 Fedora 41 Kernel: Depends on container host Compiler: gcc 14.2.1 20240912 (Red Hat 14.2.1-3) RHEL9 Kernel: Depends on container host Compiler: gcc 11.5.0 20240719 (Red Hat 11.5.0-2) Ubuntu 20.04 Kernel: 4.19.325-0419325-generic Compiler: gcc (Ubuntu 9.4.0-1ubuntu1~20.04.2) 9.4.0 Ubuntu 24.04 Kernel: Depends on container host Compiler: gcc (Ubuntu 13.3.0-6ubuntu2~24.04) 13.3.0 RHEL8 Kernel: Depends on container host Compiler: gcc 8.5.0 20210514 (Red Hat 8.5.0-22) Alpine Kernel: Depends on container host Compiler: gcc (Alpine 14.2.0) 14.2.0 Ubuntu 24.04 32 Bit Cross Compile Kernel: Depends on container host Compiler: gcc (Ubuntu 13.3.0-6ubuntu2~24.04) 13.3.0 FreeBSD 13.5 Kernel: 13.5-RELEASE Compiler: clang 19.1.7 FreeBSD 14.2 Kernel: 14.2-RELEASE Compiler: clang 18.1.6 Windows Server 2022 Kernel: 10.0.20348.2031 Compiler: clang 15.0.7, gcc 14.1.0 (MinGW), and MSVC VS 19.39.33521 To view detailed results, visit: https://lab.dpdk.org/results/dashboard/patchsets/32956/ UNH-IOL DPDK Community Lab To manage your email subscriptions, visit: https://lab.dpdk.org/results/dashboard/preferences/subscriptions/