From mboxrd@z Thu Jan 1 00:00:00 1970 Return-Path: Received: from mails.dpdk.org (mails.dpdk.org [217.70.189.124]) by inbox.dpdk.org (Postfix) with ESMTP id 67CBD4652D for ; Tue, 8 Apr 2025 02:52:09 +0200 (CEST) Received: from mails.dpdk.org (localhost [127.0.0.1]) by mails.dpdk.org (Postfix) with ESMTP id 97CDA4026B; Tue, 8 Apr 2025 02:51:53 +0200 (CEST) Received: from mail-il1-f227.google.com (mail-il1-f227.google.com [209.85.166.227]) by mails.dpdk.org (Postfix) with ESMTP id 44131400D7 for ; Tue, 8 Apr 2025 02:51:52 +0200 (CEST) Received: by mail-il1-f227.google.com with SMTP id e9e14a558f8ab-3cfc8772469so24307335ab.3 for ; Mon, 07 Apr 2025 17:51:52 -0700 (PDT) DKIM-Signature: v=1; a=rsa-sha256; c=relaxed/relaxed; d=iol.unh.edu; s=unh-iol; t=1744073504; x=1744678304; darn=dpdk.org; h=references:in-reply-to:cc:to:from:subject:message-id:date:from:to :cc:subject:date:message-id:reply-to; bh=3m7r5O9vPy6bdDzXG9sgSZBGMs26DzodmmQ86edofeQ=; b=LVnusXQke75F85k4O2udc3wBHvasK4r0v5u+oK8oAKfekv5BMXC4Kbz7ruxlyS5k52 e35rsSB/3068HfqF1KNa+/WQJKuI5mBGEQ81qwyIbJje67j5ybZC5uZrbFqlD4j/28eF zrO7z8Xg+oIL5Jw71H88zvednlryqcM2c/lOw= X-Google-DKIM-Signature: v=1; a=rsa-sha256; c=relaxed/relaxed; d=1e100.net; s=20230601; t=1744073504; x=1744678304; h=references:in-reply-to:cc:to:from:subject:message-id:date :x-gm-message-state:from:to:cc:subject:date:message-id:reply-to; bh=3m7r5O9vPy6bdDzXG9sgSZBGMs26DzodmmQ86edofeQ=; b=Tm+Ht7be+LqfYkJc/YIf4xUE4SusNYNoT8qHiiFlQEVkh1P/ZWK8isdALeppExGfxo dcwtucKfv6rqyODjX4kUdHSCBFbfYe1GTIqfnvN+99sY+JjzaqgqiSd5SAP8JXSGtVv6 xTTSb4+fVwF1VEatHpOU12QKjCN7uOrViyneI4crgvY2itAm1z9SZ4tEqxpVk4MGADBM vLCfpT3O6e8INaIUA4DwgJufcs1nKAta4pO8mruxt6T0eerwV2E4N31+yRAG+y4jKSmO ABCbP2ZwFK12JsSREGAPDCznOU6sGsmzHACluizZK9kP4n/bdaMn9ITU1VcFNHejGkwi IVvg== X-Gm-Message-State: AOJu0YxgCDZrEljtuVXSoBhbt2s6KBEpC1RVP/OQHnZjFgkzcN7E+oH8 xegm1B/LbaJ6OXjHDzlD4PDjCNhfRdZmnCFq5kDTtYUJKZHNc4qey41mdJo0EVqsb4WYGxh/E07 f9M8Ay207dpy3s7zKXRHmKBHh6OPpabIZiuiRCvZBOlWbgCdW1V3pivKt X-Gm-Gg: ASbGncu+b6o5NKotMhfOYbjUgV6JwHGJ4oEb2zWJJ1OAju0IEDTXN7MZD7NUCcLASNE WpYAhpwXM+XiK0jNQc+DVEsxIb1Xkul2iCzkcdzrm/nw4b4sRilp5j4CDymUfoj7NyjnLACE1jq XZ0bC5tItchW2s/P5faT8KsHw2ANIfHZAiSEfGL4QORx6c/9fofl52P841N0Oj6DuFEec5vfGqA 7HpKLkezhdpEWB+RvMBKZSHJ53J0+pO8rR8npTmcApfsktOSWPx3DVtFhEWp0R99RU13S1uJ30Y ytOAsfVgo9K09fV7cgl/YQcfdP6fOYDQqxgxZDba6D2xGluX6qB8 X-Google-Smtp-Source: AGHT+IEV1hFe/1qqXYxxGOmfT0SoqcgHzCInAHba+GsZrCV4RSi1ZGEbJNQCq88uiXs+wBQXo5UK+5In2UMP X-Received: by 2002:a05:6e02:4401:10b0:3d2:b154:49dc with SMTP id e9e14a558f8ab-3d6e52f60b0mr107709615ab.5.1744073499088; Mon, 07 Apr 2025 17:51:39 -0700 (PDT) Received: from postal.iol.unh.edu (postal.iol.unh.edu. [2606:4100:3880:1234::84]) by smtp-relay.gmail.com with ESMTPS id e9e14a558f8ab-3d703b989f6sm432285ab.33.2025.04.07.17.51.39 (version=TLS1_2 cipher=ECDHE-ECDSA-AES128-GCM-SHA256 bits=128/128); Mon, 07 Apr 2025 17:51:39 -0700 (PDT) X-Relaying-Domain: iol.unh.edu Date: Mon, 07 Apr 2025 17:51:39 -0700 (PDT) Message-ID: <67f4731b.920a0220.129768.261eSMTPIN_ADDED_MISSING@mx.google.com> Received: from [172.21.0.6] (unknown [172.18.0.240]) by postal.iol.unh.edu (Postfix) with ESMTP id 932796052471; Mon, 7 Apr 2025 20:51:38 -0400 (EDT) Subject: |SUCCESS| pw152802 [PATCH] [RFC] drivers: add generic build of SVE f From: dpdklab@iol.unh.edu To: Test Report Cc: dpdk-test-reports@iol.unh.edu In-Reply-To: <20250407152857.2203839-1-bruce.richardson@intel.com> References: <20250407152857.2203839-1-bruce.richardson@intel.com> Content-Type: text/plain X-BeenThere: test-report@dpdk.org X-Mailman-Version: 2.1.29 Precedence: list List-Id: automatic DPDK test reports List-Unsubscribe: , List-Archive: List-Post: List-Help: List-Subscribe: , Errors-To: test-report-bounces@dpdk.org Test-Label: iol-abi-testing Test-Status: SUCCESS http://dpdk.org/patch/152802 _Testing PASS_ Submitter: Bruce Richardson Date: Monday, April 07 2025 15:28:57 DPDK git baseline: Repo:dpdk Branch: master CommitID:dd178ee7b4325f2461f7d86285ba27ba8ccef4a1 152802 --> testing pass Upstream job id: Generic-DPDK-Compile-ABI#122568 Test environment and result as below: +-------------------+----------+ | Environment | abi_test | +===================+==========+ | Fedora 41 (Clang) | PASS | +-------------------+----------+ | RHEL8 | PASS | +-------------------+----------+ | CentOS Stream 9 | PASS | +-------------------+----------+ | openSUSE Leap 15 | PASS | +-------------------+----------+ | Debian 12 | PASS | +-------------------+----------+ | Fedora 40 (Clang) | PASS | +-------------------+----------+ | Fedora 41 | PASS | +-------------------+----------+ | CentOS Stream 10 | PASS | +-------------------+----------+ | Fedora 40 | PASS | +-------------------+----------+ | Ubuntu 24.04 | PASS | +-------------------+----------+ | RHEL9 | PASS | +-------------------+----------+ | Ubuntu 22.04 | PASS | +-------------------+----------+ Fedora 41 (Clang) Kernel: Depends on container host Compiler: clang 19.1.5 (Fedora 19.1.5-1.fc41) RHEL8 Kernel: Depends on container host Compiler: gcc 8.5.0 20210514 (Red Hat 8.5.0-22) CentOS Stream 9 Kernel: Depends on container host Compiler: gcc 11.5.0 20240719 (Red Hat 11.5.0-2) openSUSE Leap 15 Kernel: Depends on container host Compiler: gcc (SUSE Linux) 7.5.0 Debian 12 Kernel: Depends on container host Compiler: gcc (Debian 12.2.0-14) 12.2.0 Fedora 40 (Clang) Kernel: Depends on container host Compiler: clang 18.1.8 (Fedora 18.1.8-1.fc40) Fedora 41 Kernel: Depends on container host Compiler: gcc 14.2.1 20240912 (Red Hat 14.2.1-3) CentOS Stream 10 Kernel: Depends on container host Compiler: gcc 14.2.1 20241104 (Red Hat 14.2.1-6) Fedora 40 Kernel: Depends on container host Compiler: gcc 14.2.1 20240912 (Red Hat 14.2.1-3) Ubuntu 24.04 Kernel: Depends on container host Compiler: gcc (Ubuntu 13.3.0-6ubuntu2~24.04) 13.3.0 RHEL9 Kernel: Depends on container host Compiler: gcc 11.5.0 20240719 (Red Hat 11.5.0-2) Ubuntu 22.04 Kernel: Depends on container host Compiler: gcc (Ubuntu 11.4.0-1ubuntu1~22.04) 11.4.0 To view detailed results, visit: https://lab.dpdk.org/results/dashboard/patchsets/32956/ UNH-IOL DPDK Community Lab To manage your email subscriptions, visit: https://lab.dpdk.org/results/dashboard/preferences/subscriptions/