From mboxrd@z Thu Jan 1 00:00:00 1970 Return-Path: Received: from mails.dpdk.org (mails.dpdk.org [217.70.189.124]) by inbox.dpdk.org (Postfix) with ESMTP id 1AF644652D for ; Tue, 8 Apr 2025 02:53:56 +0200 (CEST) Received: from mails.dpdk.org (localhost [127.0.0.1]) by mails.dpdk.org (Postfix) with ESMTP id DD71E4026B; Tue, 8 Apr 2025 02:53:53 +0200 (CEST) Received: from mail-yb1-f226.google.com (mail-yb1-f226.google.com [209.85.219.226]) by mails.dpdk.org (Postfix) with ESMTP id 64470400D7 for ; Tue, 8 Apr 2025 02:53:52 +0200 (CEST) Received: by mail-yb1-f226.google.com with SMTP id 3f1490d57ef6-e63a159525bso3553251276.2 for ; Mon, 07 Apr 2025 17:53:52 -0700 (PDT) DKIM-Signature: v=1; a=rsa-sha256; c=relaxed/relaxed; d=iol.unh.edu; s=unh-iol; t=1744073625; x=1744678425; darn=dpdk.org; h=references:in-reply-to:cc:to:from:subject:message-id:date:from:to :cc:subject:date:message-id:reply-to; bh=KKUPdjJ1fKll1X8AU5kav7pPBZSvHdptmGq+htZ6Czw=; b=c5Fmx0t3tQyIiQvG23IyF2KB5NKd0Jpejy8yicWC3nVTvIKXT36AgziHENGySHkKZ5 9CpQ4lXTzPrath15N1HteZ8h1Suymj0FLxaFHQ/srUz5oYAsERIIPWc2GbmnXaIKLvWV ACPmEHsq09NiJJIItklCZqfz9IVl5daySxxVQ= X-Google-DKIM-Signature: v=1; a=rsa-sha256; c=relaxed/relaxed; d=1e100.net; s=20230601; t=1744073625; x=1744678425; h=references:in-reply-to:cc:to:from:subject:message-id:date :x-gm-message-state:from:to:cc:subject:date:message-id:reply-to; bh=KKUPdjJ1fKll1X8AU5kav7pPBZSvHdptmGq+htZ6Czw=; b=e9PnRVlwOJEgRJlOEGe67JEZ5nxqdsYT92WCUfZ0EmsDrrkjUnNJ4Be5u5tmk95Ukp KW+gShJ8pq7QnHFHtXbBI8+HSpr2zp6GfjorZXR6Eb5RsVRe0fULwbGayhaJaPSjXELQ Xs/hfjgbpIAk3xkFeY3U+2BvPHVNvBodxshtOOZ/fZCUWf9nj1dcg500jtr9knfKhw5D I8FSPUgD0+tiCIgCvPfFFkVTSmwr9vo8HXPF4vDJEcrOmCS3R31pgzJUlRs1uichi5X1 OvlK4TKhDw7e3aYJZmXLCcbiOxa5eWhgAjObez48uJ3mRG+sv6R/Rpzshk1S0xyJTZGo Elfg== X-Gm-Message-State: AOJu0YxYVrpAqhPxNa0pzWlc5p7G0tdmn+VtExMTGhgZYrDM9kE2pboM pQiKPuI052qn5nUv/8EXjWI7TChoEUBCGUc9n4xwTJpWk9prsxUXesTSpE5/y99W4ftJBUQVGWl ghd/nTm3y+iuvHl0xruDNTcikpDT+qnMepjW5mn1S X-Gm-Gg: ASbGncv1mMPtnSKUdouPuJPuD9Kt06o6FKS+QXClaEcoIH/IlHNX46qvgOX3aV4GmhB A3ajPPxjRQ+zjSx0Lj6GWxU3FKhTyR10W9gEAkKe5OFcDEHzD/t3pxld8uRo9dNSPzEq/N3tm4r jBE/vK9O4ZLIqczLWAlGTJ+78Bl0Kb6L8lespawCgoRO9WrdswHYQ4z+OGCKxoVTUlKwkt37p+5 dyTc5TPJhIDKba+p9dlbxeZufIxFAtF9Vw0dxwc2Fq3iJRIr9IVWTQ1tyO19K+1yo2c3QeeqDPf LoRqPtGD/lUrIj2iAD8DHT8pnTEE5Iv7E+tzVxc3 X-Google-Smtp-Source: AGHT+IFxIDM8sjhZEBMcSI7FAKnA3yUkdUlepGrdDPGuSHlE5Kq2GvUoXqb+Ft8McuE2AL6iid0PxIxT4TTw X-Received: by 2002:a05:6902:1793:b0:e6d:e70f:dbed with SMTP id 3f1490d57ef6-e6e316f75ecmr17432214276.16.1744073625038; Mon, 07 Apr 2025 17:53:45 -0700 (PDT) Received: from postal.iol.unh.edu (postal.iol.unh.edu. [132.177.123.84]) by smtp-relay.gmail.com with ESMTPS id 3f1490d57ef6-e6e0c8bf855sm718836276.11.2025.04.07.17.53.44 (version=TLS1_2 cipher=ECDHE-ECDSA-AES128-GCM-SHA256 bits=128/128); Mon, 07 Apr 2025 17:53:45 -0700 (PDT) X-Relaying-Domain: iol.unh.edu Date: Mon, 07 Apr 2025 17:53:45 -0700 (PDT) Message-ID: <67f47399.250a0220.358e4c.e742SMTPIN_ADDED_MISSING@mx.google.com> Received: from [172.21.0.5] (unknown [172.18.0.240]) by postal.iol.unh.edu (Postfix) with ESMTP id B249D6052471; Mon, 7 Apr 2025 20:53:44 -0400 (EDT) Subject: |SUCCESS| pw152802 [PATCH] [RFC] drivers: add generic build of SVE f From: dpdklab@iol.unh.edu To: Test Report Cc: dpdk-test-reports@iol.unh.edu In-Reply-To: <20250407152857.2203839-1-bruce.richardson@intel.com> References: <20250407152857.2203839-1-bruce.richardson@intel.com> Content-Type: text/plain X-BeenThere: test-report@dpdk.org X-Mailman-Version: 2.1.29 Precedence: list List-Id: automatic DPDK test reports List-Unsubscribe: , List-Archive: List-Post: List-Help: List-Subscribe: , Errors-To: test-report-bounces@dpdk.org Test-Label: iol-abi-testing Test-Status: SUCCESS http://dpdk.org/patch/152802 _Testing PASS_ Submitter: Bruce Richardson Date: Monday, April 07 2025 15:28:57 DPDK git baseline: Repo:dpdk Branch: master CommitID:dd178ee7b4325f2461f7d86285ba27ba8ccef4a1 152802 --> testing pass Upstream job id: Generic-DPDK-Compile-ABI#122569 Test environment and result as below: +-------------------+----------+ | Environment | abi_test | +===================+==========+ | Fedora 41 (Clang) | PASS | +-------------------+----------+ | RHEL8 | PASS | +-------------------+----------+ | CentOS Stream 9 | PASS | +-------------------+----------+ | openSUSE Leap 15 | PASS | +-------------------+----------+ | Debian 12 | PASS | +-------------------+----------+ | Fedora 40 (Clang) | PASS | +-------------------+----------+ | Fedora 41 | PASS | +-------------------+----------+ | CentOS Stream 10 | PASS | +-------------------+----------+ | Fedora 40 | PASS | +-------------------+----------+ | Ubuntu 24.04 | PASS | +-------------------+----------+ | RHEL9 | PASS | +-------------------+----------+ | Ubuntu 22.04 | PASS | +-------------------+----------+ Fedora 41 (Clang) Kernel: Depends on container host Compiler: clang 19.1.5 (Fedora 19.1.5-1.fc41) RHEL8 Kernel: Depends on container host Compiler: gcc 8.5.0 20210514 (Red Hat 8.5.0-22) CentOS Stream 9 Kernel: Depends on container host Compiler: gcc 11.5.0 20240719 (Red Hat 11.5.0-2) openSUSE Leap 15 Kernel: Depends on container host Compiler: gcc (SUSE Linux) 7.5.0 Debian 12 Kernel: Depends on container host Compiler: gcc (Debian 12.2.0-14) 12.2.0 Fedora 40 (Clang) Kernel: Depends on container host Compiler: clang 18.1.8 (Fedora 18.1.8-1.fc40) Fedora 41 Kernel: Depends on container host Compiler: gcc 14.2.1 20240912 (Red Hat 14.2.1-3) CentOS Stream 10 Kernel: Depends on container host Compiler: gcc 14.2.1 20241104 (Red Hat 14.2.1-6) Fedora 40 Kernel: Depends on container host Compiler: gcc 14.2.1 20240912 (Red Hat 14.2.1-3) Ubuntu 24.04 Kernel: Depends on container host Compiler: gcc (Ubuntu 13.3.0-6ubuntu2~24.04) 13.3.0 RHEL9 Kernel: Depends on container host Compiler: gcc 11.5.0 20240719 (Red Hat 11.5.0-2) Ubuntu 22.04 Kernel: Depends on container host Compiler: gcc (Ubuntu 11.4.0-1ubuntu1~22.04) 11.4.0 To view detailed results, visit: https://lab.dpdk.org/results/dashboard/patchsets/32956/ UNH-IOL DPDK Community Lab To manage your email subscriptions, visit: https://lab.dpdk.org/results/dashboard/preferences/subscriptions/