From mboxrd@z Thu Jan 1 00:00:00 1970 Return-Path: Received: from mails.dpdk.org (mails.dpdk.org [217.70.189.124]) by inbox.dpdk.org (Postfix) with ESMTP id 0726446535 for ; Tue, 8 Apr 2025 16:39:31 +0200 (CEST) Received: from mails.dpdk.org (localhost [127.0.0.1]) by mails.dpdk.org (Postfix) with ESMTP id CD6AC40E3A; Tue, 8 Apr 2025 16:39:30 +0200 (CEST) Received: from mail-pl1-f228.google.com (mail-pl1-f228.google.com [209.85.214.228]) by mails.dpdk.org (Postfix) with ESMTP id D0C9840264 for ; Tue, 8 Apr 2025 16:39:29 +0200 (CEST) Received: by mail-pl1-f228.google.com with SMTP id d9443c01a7336-22435603572so54496225ad.1 for ; Tue, 08 Apr 2025 07:39:29 -0700 (PDT) DKIM-Signature: v=1; a=rsa-sha256; c=relaxed/relaxed; d=iol.unh.edu; s=unh-iol; t=1744123169; x=1744727969; darn=dpdk.org; h=cc:to:from:subject:message-id:date:from:to:cc:subject:date :message-id:reply-to; bh=6QBVl4swrFHmPQp9qSLNHFem7DnA+Ow0r7kA4nB+kPg=; b=UBwRTwlOhf4yr00orR02C/6kbcuA9r0cngIUtRrEgIE+e48EaxIrcXc/xPvg5Seudg K572CpSAKIoMI43y1VZJk9wLnD1q8/J77R091uO0FSmPSl7+A6fMreiqLqvVFRReF3mO o1J8FUnDxqDkYKLxhvaKadYSQd41nUZfpbs7E= X-Google-DKIM-Signature: v=1; a=rsa-sha256; c=relaxed/relaxed; d=1e100.net; s=20230601; t=1744123169; x=1744727969; h=cc:to:from:subject:message-id:date:x-gm-message-state:from:to:cc :subject:date:message-id:reply-to; bh=6QBVl4swrFHmPQp9qSLNHFem7DnA+Ow0r7kA4nB+kPg=; b=giK1dJJnvtsECYTw9th0YtAFCjdbWXHZ20z2kk2xn6qeBDL2RKiwdFEXFyUZLIHcjd 5eE6GH7CDjEXyZIAUs7er0GzLujBhzihYKzndfp6TxkJp3JLj9L0lgVtCU8pxus6b8iZ YBU0aSOzW3KGlaeuL2+w4OIHHi9FCrUhAN8nFg4WIqYZ54xsojl8wZDAmblOyiu9KXwX 1NuE7rK/z0DwsTQ3lvbC/7t1E4lESDnI4Bc5jKxWUQq4zBQVknHvX86hNe08IJ9v+6vy 3K8C9OVXjW6wZKp6hzrWKMjEZGAA17pHX8flFQ+ByYsbp85YMAvb/CwkJbw8vsavomMl SONg== X-Gm-Message-State: AOJu0YxNA5fN7Ud6mQ8F5m1yMyNlFaufKhNVGN5h8+blteUr1kOsAqZ+ nCgYNjTMCvLZxsmt3XcpeC4Y1G1+HqqNt9z6/uq8TxG4VMZvr6zmF3d/EXu4IAbwkKB7+RFFlpf CKkeOXZzuY/fV3zKw/yygpnSsBHEsh4eo67TVDEXkbvPMNtDM3g48hrsT X-Gm-Gg: ASbGnct9+/is9WrdBqkw6zQgFWMvwwk0hRP1jr5B/a+JZYaAPjNqAHZXpyA5iATZPm8 p2Fa8U1kCiS/1pafMbsc2K/WzU3rIXkVT4crEuxP5D33CvCf7BvlQhWeCK6MuonB18eaGNgQOYh csl6Teh33si7RHuQOD7Pf7e8gKBFNfB3FfsE/3s8GXskp1+YNDaBGi094hwwrukVC+YIMCxnHpA LeTcgtMdjgxdo+jqI+ClaYZeCsVb9XngRtfWMWz1in/A2NJWuZPHpTwR0EpEeo6NcC8DXTo1xBk itAcqiEBea8iQS6pNK69oKDH2kf9ABBMYDvbD7105eEDTlFuy7le X-Google-Smtp-Source: AGHT+IFVxBPaAfMoZj2+5bnmKyw+Us88MYJWhSMUcUO1UjOWuiNuc3P7eRRQBtKsflxGdJxIn7PMEw0fpriz X-Received: by 2002:a17:903:904:b0:226:5dbf:373f with SMTP id d9443c01a7336-22a8a858eb6mr241486295ad.10.1744123168856; Tue, 08 Apr 2025 07:39:28 -0700 (PDT) Received: from postal.iol.unh.edu (postal.iol.unh.edu. [2606:4100:3880:1234::84]) by smtp-relay.gmail.com with ESMTPS id d9443c01a7336-2297898b68esm8935515ad.19.2025.04.08.07.39.28 (version=TLS1_2 cipher=ECDHE-ECDSA-AES128-GCM-SHA256 bits=128/128); Tue, 08 Apr 2025 07:39:28 -0700 (PDT) X-Relaying-Domain: iol.unh.edu Date: Tue, 08 Apr 2025 07:39:28 -0700 (PDT) Message-ID: <67f53520.170a0220.bcc1e.0a3aSMTPIN_ADDED_MISSING@mx.google.com> Received: from [172.21.0.9] (unknown [172.18.0.240]) by postal.iol.unh.edu (Postfix) with ESMTP id 135D86052471; Tue, 8 Apr 2025 10:39:28 -0400 (EDT) Subject: |SUCCESS| [GIT MASTER] e30e194c4d06cf9b0e93f9f0f2a289bef96abc1a From: dpdklab@iol.unh.edu To: Test Report Cc: dpdk-test-reports@iol.unh.edu Content-Type: text/plain X-BeenThere: test-report@dpdk.org X-Mailman-Version: 2.1.29 Precedence: list List-Id: automatic DPDK test reports List-Unsubscribe: , List-Archive: List-Post: List-Help: List-Subscribe: , Errors-To: test-report-bounces@dpdk.org _Testing PASS_ Branch: dpdk e30e194c4d06cf9b0e93f9f0f2a289bef96abc1a --> testing pass Upstream job id: Generic-Unit-Test-DPDK#329424 Test environment and result as below: +-----------------------------+----------------+--------------+---------------------------+------------------------------+ | Environment | dpdk_unit_test | lpm_autotest | cryptodev_sw_zuc_autotest | cryptodev_sw_snow3g_autotest | +=============================+================+==============+===========================+==============================+ | 32-bit Ubuntu 22.04.4 (ARM) | PASS | SKIPPED | SKIPPED | SKIPPED | +-----------------------------+----------------+--------------+---------------------------+------------------------------+ | CentOS Stream 10 (ARM) | PASS | SKIPPED | SKIPPED | SKIPPED | +-----------------------------+----------------+--------------+---------------------------+------------------------------+ | Ubuntu 20.04 (ARM) | PASS | SKIPPED | SKIPPED | SKIPPED | +-----------------------------+----------------+--------------+---------------------------+------------------------------+ | Debian 12 (arm) | PASS | SKIPPED | PASS | PASS | +-----------------------------+----------------+--------------+---------------------------+------------------------------+ | CentOS Stream 9 (ARM) | PASS | SKIPPED | SKIPPED | SKIPPED | +-----------------------------+----------------+--------------+---------------------------+------------------------------+ | Fedora 40 (ARM Clang) | PASS | SKIPPED | SKIPPED | SKIPPED | +-----------------------------+----------------+--------------+---------------------------+------------------------------+ | RHEL9 (ARM) | PASS | SKIPPED | SKIPPED | SKIPPED | +-----------------------------+----------------+--------------+---------------------------+------------------------------+ | Fedora 41 (ARM Clang) | PASS | SKIPPED | SKIPPED | SKIPPED | +-----------------------------+----------------+--------------+---------------------------+------------------------------+ | Ubuntu 22.04 (ARM) | PASS | SKIPPED | SKIPPED | SKIPPED | +-----------------------------+----------------+--------------+---------------------------+------------------------------+ | Fedora 40 (ARM) | PASS | SKIPPED | SKIPPED | SKIPPED | +-----------------------------+----------------+--------------+---------------------------+------------------------------+ | Fedora 41 (ARM) | PASS | SKIPPED | SKIPPED | SKIPPED | +-----------------------------+----------------+--------------+---------------------------+------------------------------+ | Ubuntu 24.04 (ARM) | PASS | SKIPPED | SKIPPED | SKIPPED | +-----------------------------+----------------+--------------+---------------------------+------------------------------+ | Ubuntu 20.04 ARM SVE | SKIPPED | PASS | SKIPPED | SKIPPED | +-----------------------------+----------------+--------------+---------------------------+------------------------------+ 32-bit Ubuntu 22.04.4 (ARM) Kernel: 5.15.83+ aarch64 Compiler: gcc (Ubuntu 11.4.0-1ubuntu1~22.04) 11.4.0 CentOS Stream 10 (ARM) Kernel: Depends on container host Compiler: gcc 14.2.1 20241104 (Red Hat 14.2.1-6) Ubuntu 20.04 (ARM) Kernel: Depends on container host Compiler: gcc (Ubuntu 9.4.0-1ubuntu1~20.04.2) 9.4.0 Debian 12 (arm) Kernel: Depends on container host Compiler: gcc (Debian 12.2.0-14) 12.2.0 CentOS Stream 9 (ARM) Kernel: Depends on container host Compiler: gcc 11.5.0 20240719 (Red Hat 11.5.0-2) Fedora 40 (ARM Clang) Kernel: Depends on container host Compiler: clang 18.1.8 (Fedora 18.1.8-1.fc40) RHEL9 (ARM) Kernel: Depends on container host Compiler: gcc 11.5.0 20240719 (Red Hat 11.5.0-2) Fedora 41 (ARM Clang) Kernel: Depends on container host Compiler: clang 19.1.5 (Fedora 19.1.5-1.fc41) Ubuntu 22.04 (ARM) Kernel: Depends on container host Compiler: gcc (Ubuntu 11.4.0-1ubuntu1~22.04) 11.4.0 Fedora 40 (ARM) Kernel: Depends on container host Compiler: gcc 14.2.1 20240912 (Red Hat 14.2.1-3) Fedora 41 (ARM) Kernel: Depends on container host Compiler: gcc 14.2.1 20240912 (Red Hat 14.2.1-3) Ubuntu 24.04 (ARM) Kernel: Depends on container host Compiler: gcc (Ubuntu 13.3.0-6ubuntu2~24.04) 13.3.0 Ubuntu 20.04 ARM SVE Kernel: Depends on container host Compiler: gcc (Ubuntu 10.5.0-1ubuntu1~20.04) 10.5.0 To view detailed results, visit: https://lab.dpdk.org/results/dashboard/tarballs/33178/ UNH-IOL DPDK Community Lab To manage your email subscriptions, visit: https://lab.dpdk.org/results/dashboard/preferences/subscriptions/