From mboxrd@z Thu Jan 1 00:00:00 1970 Return-Path: Received: from mails.dpdk.org (mails.dpdk.org [217.70.189.124]) by inbox.dpdk.org (Postfix) with ESMTP id DD81A46535 for ; Tue, 8 Apr 2025 16:48:50 +0200 (CEST) Received: from mails.dpdk.org (localhost [127.0.0.1]) by mails.dpdk.org (Postfix) with ESMTP id B120840E3A; Tue, 8 Apr 2025 16:48:50 +0200 (CEST) Received: from mail-qk1-f225.google.com (mail-qk1-f225.google.com [209.85.222.225]) by mails.dpdk.org (Postfix) with ESMTP id 1A76040264 for ; Tue, 8 Apr 2025 16:48:49 +0200 (CEST) Received: by mail-qk1-f225.google.com with SMTP id af79cd13be357-7c542ffec37so508773685a.2 for ; Tue, 08 Apr 2025 07:48:49 -0700 (PDT) DKIM-Signature: v=1; a=rsa-sha256; c=relaxed/relaxed; d=iol.unh.edu; s=unh-iol; t=1744123728; x=1744728528; darn=dpdk.org; h=cc:to:from:subject:message-id:date:from:to:cc:subject:date :message-id:reply-to; bh=+DDXGZJM0NjI1DBpChzLUkY13JznhNK6+q357ReGTRQ=; b=QkqawglNsbLcSWrTbc6h3uADnY1y0I2TOZDtxW6OEOVlnYQyINMSkC8Dtnx0/vxnx/ PTnPIMxmvRUy7eosCCsBzNDYqpbQpaDjvkDeQOhjSjF+YRvzFYAuxfvTuPLNXWh3fUcw pIcvJJOvDMoyGqaOploh0RUG+dOmTL9EcMrgQ= X-Google-DKIM-Signature: v=1; a=rsa-sha256; c=relaxed/relaxed; d=1e100.net; s=20230601; t=1744123728; x=1744728528; h=cc:to:from:subject:message-id:date:x-gm-message-state:from:to:cc :subject:date:message-id:reply-to; bh=+DDXGZJM0NjI1DBpChzLUkY13JznhNK6+q357ReGTRQ=; b=XHEUPoTHEov90E5VfJpKlW/OjsNVfOwPgcOVeDHqzxJbqcOVAjM3fatVOW3HZkkfpF Adm7hwcqDhG09VP76b6Ub3QbjUZbzDyK9C9aBNJZIyhYMTo+Q82u5ruXi7YifaVWqpDR Dlw3LIuQnru9TrUJFaCPBSux/nOjjIa7RqrJMQGoLoGQ0FJRIPPQYP3cZbBZtWG4JSwU btx2WIMIecmC2CfDBs95jyhX4vGU1GK9eZLd8Yd6h6nyALC0aozgefPCtm2zHUI6DzI9 Wa+W451VJfV/cCIK58fQxumwMeKc5PZ8vp0tCzum7GUW5ptuGoDHgMilOZVwscHEeEPx 60oQ== X-Gm-Message-State: AOJu0YwZYTHhLKdI2hOTjDHuOtx5tLaBbZ6yJBWZBNTZ6g2rB69L6pDf qVvn6ge6vTdr1QtRADLNFJqruWAEJNnD1nD50mtGQwcL7wZHIC0fzm74R+6+nN3Y0Tds8s2qn+C eHNiih3CMBHUHCfiUZVOw/PAtJXi7TCpkow1E9SS5Jm+gaHSn1/aGvWHF X-Gm-Gg: ASbGncunxERhIi4SQjH5tTuuKtq1Xa0KHxjuPlIfFdyTI2Ofk5u1fLXrpFjxBoiukHW dt1LwSX37F0TZY6y7vI3gEnM7GNCEFhSVaovl4Y33UHv1ucFIduIKxoU9JmyU40hYVzvZWx96q0 J7P+UZV9knYqKP14+hPl/v9AodjC93QkAtjmyzgvo7Kk/WHE2/b4KlRulTqnfyI6cj5lJ0aJzcx KGOzuZzIu4H+eqvZyynPvbIqCuhYiMLXE+5aXbtPCa4cXwJ2bZoflVVnteXIrP8gec6w3Qm4eUT +RSG6DE9ppAIOaO7rObPBiRWBgV7QPokPrj0IVuur73QsSPiQmjY X-Google-Smtp-Source: AGHT+IE/jG0A/KZkyd/oCUFPy1N1ebfp2LdX4q5j8D3appKSVWn2pk28d7iWb3SaWq2a+2EjfBADjJsqUctY X-Received: by 2002:a05:620a:3907:b0:7c5:4adb:782a with SMTP id af79cd13be357-7c77dd44990mr1961964685a.9.1744123728346; Tue, 08 Apr 2025 07:48:48 -0700 (PDT) Received: from postal.iol.unh.edu (postal.iol.unh.edu. [2606:4100:3880:1234::84]) by smtp-relay.gmail.com with ESMTPS id 6a1803df08f44-6ef0efbfefcsm8739796d6.11.2025.04.08.07.48.48 (version=TLS1_2 cipher=ECDHE-ECDSA-AES128-GCM-SHA256 bits=128/128); Tue, 08 Apr 2025 07:48:48 -0700 (PDT) X-Relaying-Domain: iol.unh.edu Date: Tue, 08 Apr 2025 07:48:48 -0700 (PDT) Message-ID: <67f53750.050a0220.d0808.1253SMTPIN_ADDED_MISSING@mx.google.com> Received: from [172.17.0.3] (unknown [172.18.0.217]) by postal.iol.unh.edu (Postfix) with ESMTP id D46EF6052472; Tue, 8 Apr 2025 10:48:47 -0400 (EDT) Subject: |SUCCESS| [GIT MASTER] e30e194c4d06cf9b0e93f9f0f2a289bef96abc1a From: dpdklab@iol.unh.edu To: Test Report Cc: dpdk-test-reports@iol.unh.edu Content-Type: text/plain X-BeenThere: test-report@dpdk.org X-Mailman-Version: 2.1.29 Precedence: list List-Id: automatic DPDK test reports List-Unsubscribe: , List-Archive: List-Post: List-Help: List-Subscribe: , Errors-To: test-report-bounces@dpdk.org _Testing PASS_ Branch: dpdk e30e194c4d06cf9b0e93f9f0f2a289bef96abc1a --> testing pass Upstream job id: Generic-DPDK-Compile-ABI#122590 Test environment and result as below: +-------------------+----------+ | Environment | abi_test | +===================+==========+ | CentOS Stream 9 | PASS | +-------------------+----------+ | Debian 12 | PASS | +-------------------+----------+ | CentOS Stream 10 | PASS | +-------------------+----------+ | openSUSE Leap 15 | PASS | +-------------------+----------+ | Fedora 41 (Clang) | PASS | +-------------------+----------+ | Fedora 40 (Clang) | PASS | +-------------------+----------+ | Fedora 40 | PASS | +-------------------+----------+ | RHEL8 | PASS | +-------------------+----------+ | Fedora 41 | PASS | +-------------------+----------+ | Ubuntu 22.04 | PASS | +-------------------+----------+ | Ubuntu 24.04 | PASS | +-------------------+----------+ | RHEL9 | PASS | +-------------------+----------+ | Arch Linux | PASS | +-------------------+----------+ CentOS Stream 9 Kernel: Depends on container host Compiler: gcc 11.5.0 20240719 (Red Hat 11.5.0-2) Debian 12 Kernel: Depends on container host Compiler: gcc (Debian 12.2.0-14) 12.2.0 CentOS Stream 10 Kernel: Depends on container host Compiler: gcc 14.2.1 20241104 (Red Hat 14.2.1-6) openSUSE Leap 15 Kernel: Depends on container host Compiler: gcc (SUSE Linux) 7.5.0 Fedora 41 (Clang) Kernel: Depends on container host Compiler: clang 19.1.5 (Fedora 19.1.5-1.fc41) Fedora 40 (Clang) Kernel: Depends on container host Compiler: clang 18.1.8 (Fedora 18.1.8-1.fc40) Fedora 40 Kernel: Depends on container host Compiler: gcc 14.2.1 20240912 (Red Hat 14.2.1-3) RHEL8 Kernel: Depends on container host Compiler: gcc 8.5.0 20210514 (Red Hat 8.5.0-22) Fedora 41 Kernel: Depends on container host Compiler: gcc 14.2.1 20240912 (Red Hat 14.2.1-3) Ubuntu 22.04 Kernel: Depends on container host Compiler: gcc (Ubuntu 11.4.0-1ubuntu1~22.04) 11.4.0 Ubuntu 24.04 Kernel: Depends on container host Compiler: gcc (Ubuntu 13.3.0-6ubuntu2~24.04) 13.3.0 RHEL9 Kernel: Depends on container host Compiler: gcc 11.5.0 20240719 (Red Hat 11.5.0-2) Arch Linux Kernel: Depends on container host Compiler: gcc 14.2.1 20240910 To view detailed results, visit: https://lab.dpdk.org/results/dashboard/tarballs/33178/ UNH-IOL DPDK Community Lab To manage your email subscriptions, visit: https://lab.dpdk.org/results/dashboard/preferences/subscriptions/