From mboxrd@z Thu Jan 1 00:00:00 1970 Return-Path: Received: from mails.dpdk.org (mails.dpdk.org [217.70.189.124]) by inbox.dpdk.org (Postfix) with ESMTP id 3EEB746535 for ; Tue, 8 Apr 2025 16:51:09 +0200 (CEST) Received: from mails.dpdk.org (localhost [127.0.0.1]) by mails.dpdk.org (Postfix) with ESMTP id 3345240E3A; Tue, 8 Apr 2025 16:51:09 +0200 (CEST) Received: from mail-pl1-f225.google.com (mail-pl1-f225.google.com [209.85.214.225]) by mails.dpdk.org (Postfix) with ESMTP id 0C08E40264 for ; Tue, 8 Apr 2025 16:51:08 +0200 (CEST) Received: by mail-pl1-f225.google.com with SMTP id d9443c01a7336-22403cbb47fso61481905ad.0 for ; Tue, 08 Apr 2025 07:51:07 -0700 (PDT) DKIM-Signature: v=1; a=rsa-sha256; c=relaxed/relaxed; d=iol.unh.edu; s=unh-iol; t=1744123867; x=1744728667; darn=dpdk.org; h=references:in-reply-to:cc:to:from:subject:message-id:date:from:to :cc:subject:date:message-id:reply-to; bh=LOu9JFVG5iyGN2ojLaSRlkoKcFseV/iQdyDPSu1H02M=; b=RChNl8fabI55CUkcYohvGjv8+F5t9KzUZ5JKexl02peDh96F43tATZm6UreKOKhLJ7 JzAtqvDTb5RFqNAtj9MqB9J0gmVjENRd6TBM3+xlMIt4t2iyLTrFkztEGBXzQcTx54ox bDE8wCdCq4DxH0pO4n31oFsEPfuvIk4a+1Wus= X-Google-DKIM-Signature: v=1; a=rsa-sha256; c=relaxed/relaxed; d=1e100.net; s=20230601; t=1744123867; x=1744728667; h=references:in-reply-to:cc:to:from:subject:message-id:date :x-gm-message-state:from:to:cc:subject:date:message-id:reply-to; bh=LOu9JFVG5iyGN2ojLaSRlkoKcFseV/iQdyDPSu1H02M=; b=pJWcqJgI9rdRdodFTwyqwyRx44qzN8cT071pmXkKdznzJD5hr/tLg+9Y0M7aAtwk0h R6te7ArTqlsPH+GEMabUcTB+3QGUwCDPk/8TXdhFiNfEc4YRw+ScVJ/H7UQ9FbpdfOUr iRfTGj9o8P1Qnh+I9ehqIE+p2ewsI5gQrXzHmvK+hg/6AISGU8RA/booe6k3q9ToEnht y6PbT7Tj/bs1lc/Xz1uBH7J4/alJxImGTVsygpkdlQnXlHb4RFZa/Mxg8+IdeiPoUbdI VbIhf6g7ThoXn6BmG9fluf4uaHY0guB7K1tBT4Qe8IWhGY63Xtk2KnhOzMAfgOCL/CUR s5qw== X-Gm-Message-State: AOJu0YzppB/Hd6PTXYW73Jyd4ajk6JxLqXadisfLnuCnzNsQHPN++EQc F1Jl5B0LlkaKqE1jRGLIi/J6x3fGYDqL8YYVwFU/1p+GUGspTvm9auh37ip8Mw5bwJe+tvesnCH 5XOS+j0kZpITUaxffCR6NwBMWhvfxRa2XnakUP6YK X-Gm-Gg: ASbGncuIVwUpLDS0jUJAwftE8s7LQwcKLt9eiyzO1Wdl9mGUS5iYZziRMIEKbXHWdNf /XajDMwWfOWhE3srygEbFbt+Hvo/G+nMl56G4+JBA/z/gOcgOrM0dVVj3Iw3Wl2a+eidOszqckP 9Iw5WoK6ZewrrYoxLH5ql1YE9b0Nis68jmzpIectnBztJv319g4ItgyGUKmRswHZANlV6MWFGAu tLOIaC4j94qsafwqCSGD4BMLvXCTcRQVFDwzey/6Cu+rVbuT57icZgthxbhnusfdbn4qDkCcvte KeKSdl+qHI7/0YDWIrzq1EsyYJQh9hBz3qZ8ITsK X-Google-Smtp-Source: AGHT+IGv6xazX06jEZXwTXMHvrdDB58R1O6m8c9idKnr8ONCyCKHhwLPO/Ia0r4Uk7nmQxcHunph1suAxj5/ X-Received: by 2002:a17:902:ea05:b0:215:acb3:3786 with SMTP id d9443c01a7336-22a8a867303mr203378715ad.19.1744123867146; Tue, 08 Apr 2025 07:51:07 -0700 (PDT) Received: from postal.iol.unh.edu (postal.iol.unh.edu. [132.177.123.84]) by smtp-relay.gmail.com with ESMTPS id d9443c01a7336-229789acc4bsm8802475ad.60.2025.04.08.07.51.07 (version=TLS1_2 cipher=ECDHE-ECDSA-AES128-GCM-SHA256 bits=128/128); Tue, 08 Apr 2025 07:51:07 -0700 (PDT) X-Relaying-Domain: iol.unh.edu Date: Tue, 08 Apr 2025 07:51:07 -0700 (PDT) Message-ID: <67f537db.170a0220.4f32d.edaeSMTPIN_ADDED_MISSING@mx.google.com> Received: from [172.17.0.3] (unknown [172.18.0.217]) by postal.iol.unh.edu (Postfix) with ESMTP id 4D9946052471; Tue, 8 Apr 2025 10:51:06 -0400 (EDT) Subject: |SUCCESS| pw152802 [PATCH] [RFC] drivers: add generic build of SVE f From: dpdklab@iol.unh.edu To: Test Report Cc: dpdk-test-reports@iol.unh.edu In-Reply-To: <20250407152857.2203839-1-bruce.richardson@intel.com> References: <20250407152857.2203839-1-bruce.richardson@intel.com> Content-Type: text/plain X-BeenThere: test-report@dpdk.org X-Mailman-Version: 2.1.29 Precedence: list List-Id: automatic DPDK test reports List-Unsubscribe: , List-Archive: List-Post: List-Help: List-Subscribe: , Errors-To: test-report-bounces@dpdk.org Test-Label: iol-compile-arm64-testing Test-Status: SUCCESS http://dpdk.org/patch/152802 _Testing PASS_ Submitter: Bruce Richardson Date: Monday, April 07 2025 15:28:57 DPDK git baseline: Repo:dpdk Branch: master CommitID:dd178ee7b4325f2461f7d86285ba27ba8ccef4a1 152802 --> testing pass Upstream job id: Generic-DPDK-Compile-Meson#378093 Test environment and result as below: +----------------------------------------+--------------------+ | Environment | dpdk_meson_compile | +========================================+====================+ | RHEL9 (ARM) | PASS | +----------------------------------------+--------------------+ | Ubuntu 20.04 ARM GCC Cross Compile | PASS | +----------------------------------------+--------------------+ | Debian 12 with MUSDK | PASS | +----------------------------------------+--------------------+ | Fedora 40 (ARM) | PASS | +----------------------------------------+--------------------+ | Ubuntu 20.04 ARM SVE | PASS | +----------------------------------------+--------------------+ | Fedora 41 (ARM) | PASS | +----------------------------------------+--------------------+ | Fedora 40 (ARM Clang) | PASS | +----------------------------------------+--------------------+ | Fedora 41 (ARM Clang) | PASS | +----------------------------------------+--------------------+ | Ubuntu 22.04 (ARM) | PASS | +----------------------------------------+--------------------+ | Ubuntu 20.04 ARM Clang Cross Compile | PASS | +----------------------------------------+--------------------+ | Ubuntu 24.04 (ARM) | PASS | +----------------------------------------+--------------------+ | CentOS Stream 9 (ARM) | PASS | +----------------------------------------+--------------------+ | CentOS Stream 10 (ARM) | PASS | +----------------------------------------+--------------------+ | Ubuntu 20.04 (ARM) | PASS | +----------------------------------------+--------------------+ | Debian 12 (arm) | PASS | +----------------------------------------+--------------------+ | Ubuntu 20.04 aarch32 GCC Cross Compile | PASS | +----------------------------------------+--------------------+ RHEL9 (ARM) Kernel: Depends on container host Compiler: gcc 11.5.0 20240719 (Red Hat 11.5.0-2) Ubuntu 20.04 ARM GCC Cross Compile Kernel: Depends on container host Compiler: aarch64-linux-gnu-gcc (Ubuntu 9.4.0-1ubuntu1~20.04.2) 9.4.0 Debian 12 with MUSDK Kernel: Depends on container host Compiler: gcc (Debian 12.2.0-14) 12.2.0 Fedora 40 (ARM) Kernel: Depends on container host Compiler: gcc 14.2.1 20240912 (Red Hat 14.2.1-3) Ubuntu 20.04 ARM SVE Kernel: Depends on container host Compiler: gcc (Ubuntu 10.5.0-1ubuntu1~20.04) 10.5.0 Fedora 41 (ARM) Kernel: Depends on container host Compiler: gcc 14.2.1 20240912 (Red Hat 14.2.1-3) Fedora 40 (ARM Clang) Kernel: Depends on container host Compiler: clang 18.1.8 (Fedora 18.1.8-1.fc40) Fedora 41 (ARM Clang) Kernel: Depends on container host Compiler: clang 19.1.5 (Fedora 19.1.5-1.fc41) Ubuntu 22.04 (ARM) Kernel: Depends on container host Compiler: gcc (Ubuntu 11.4.0-1ubuntu1~22.04) 11.4.0 Ubuntu 20.04 ARM Clang Cross Compile Kernel: Depends on container host Compiler: clang 10.0.0-4ubuntu1 Ubuntu 24.04 (ARM) Kernel: Depends on container host Compiler: gcc (Ubuntu 13.3.0-6ubuntu2~24.04) 13.3.0 CentOS Stream 9 (ARM) Kernel: Depends on container host Compiler: gcc 11.5.0 20240719 (Red Hat 11.5.0-2) CentOS Stream 10 (ARM) Kernel: Depends on container host Compiler: gcc 14.2.1 20241104 (Red Hat 14.2.1-6) Ubuntu 20.04 (ARM) Kernel: Depends on container host Compiler: gcc (Ubuntu 9.4.0-1ubuntu1~20.04.2) 9.4.0 Debian 12 (arm) Kernel: Depends on container host Compiler: gcc (Debian 12.2.0-14) 12.2.0 Ubuntu 20.04 aarch32 GCC Cross Compile Kernel: Depends on container host Compiler: gcc 9.4.0 To view detailed results, visit: https://lab.dpdk.org/results/dashboard/patchsets/32956/ UNH-IOL DPDK Community Lab To manage your email subscriptions, visit: https://lab.dpdk.org/results/dashboard/preferences/subscriptions/