From mboxrd@z Thu Jan 1 00:00:00 1970 Return-Path: Received: from mails.dpdk.org (mails.dpdk.org [217.70.189.124]) by inbox.dpdk.org (Postfix) with ESMTP id 47FC646535 for ; Tue, 8 Apr 2025 16:51:17 +0200 (CEST) Received: from mails.dpdk.org (localhost [127.0.0.1]) by mails.dpdk.org (Postfix) with ESMTP id 438DA40E3A; Tue, 8 Apr 2025 16:51:17 +0200 (CEST) Received: from mail-ot1-f97.google.com (mail-ot1-f97.google.com [209.85.210.97]) by mails.dpdk.org (Postfix) with ESMTP id F1AFB40264 for ; Tue, 8 Apr 2025 16:51:15 +0200 (CEST) Received: by mail-ot1-f97.google.com with SMTP id 46e09a7af769-72bbc03d436so3462389a34.3 for ; Tue, 08 Apr 2025 07:51:15 -0700 (PDT) DKIM-Signature: v=1; a=rsa-sha256; c=relaxed/relaxed; d=iol.unh.edu; s=unh-iol; t=1744123875; x=1744728675; darn=dpdk.org; h=cc:to:from:subject:message-id:date:from:to:cc:subject:date :message-id:reply-to; bh=Z9A026EkWhpWnTMVR+G2ggKKhkWhkMYJbFKGrPLUKh4=; b=N8PB0bu12hpVToKEKbNfEuZwtDAccM8b6i+y2kjFHTT4dNHlY3UiFTtGMRcop+uK5U bpCCiNaS3IwXZPqFM/QW1r9z8+DuOpxh8vVUd1IkbJGWbQZhKxLuebe9rspa89DoTjFz 2vYPMYssa9L+FY03devdjlqMz0AkhuPB7kvAc= X-Google-DKIM-Signature: v=1; a=rsa-sha256; c=relaxed/relaxed; d=1e100.net; s=20230601; t=1744123875; x=1744728675; h=cc:to:from:subject:message-id:date:x-gm-message-state:from:to:cc :subject:date:message-id:reply-to; bh=Z9A026EkWhpWnTMVR+G2ggKKhkWhkMYJbFKGrPLUKh4=; b=wt7qEwWf9AXJ679Wp1+YrLCRRvTkWXmT6HjZG/UB3/cdCgqH/3bb7dz4uhdP1YZwSv 9YK9Js2tAT+JvDl7+uBR5VpQliBWpBwEdhkMPge9rdF1/nZphwD2Bdm7QnDSKCNVOTkP 0OZPIlPPVG50ESfOE5RqUaEz/uNmXlUWkbt9TLcjGUiwi24jLtedTiUcOq6B1T1PvxPs BEnj+afukWgONZ4toS5tiI02RU8+c2x2q8x01gjErb2fWjLV0/X54j4IJfJNplkMxUJH tad+DsAQ1oidcj7cSR02qVbjsH3ClYAsCfVSA0ofha2KXvJRCYvFeIy48hjyP+144+ii 1MXA== X-Gm-Message-State: AOJu0Yxevpumv/dBTHMjeuljjlrnBzRxTz0k43/nRo7WGDQBKMsMUKpc vs0VxDryfkXJB4maSQW1355vXnEzSryYbBvluX2r0MmVbWBPcchvNe/Nb0ViB02PzyINk1rTRIA XcRmq6p2MVrAgvkW7ePKR6hbdt2DnJQDSoPmTeVaxnwsWnY2aP+YZQqpx X-Gm-Gg: ASbGncsquvtufMsiEjlsgIFB1/d6T9dSt8IwtENgII8uKKCJRooVb50KUuUuX5BVR7B r2GDwawIsmYO6dHxHEq5j+9QmKpP0hc+uMdc5eF7PujgXPHgiljMnmyoVLqli01mvsK32X+UWzy mCL6TBYHHq6lX1BKmJBLi0St05W9UUTUmCP6jTMBxABGZx2+buJD0RNWsXRqNBSHGGIu/F7qRCz 7ugNDvjCFQt8F5wtKmP8bySkZKOdNLmsTPO2Kd2/QWK94/NN4QHolK8B9nt+VrdGaBlLCCYZ0ba yaq4WYqf01kf8J9KG09t8fqqicOhESb9CnLpd9XPYp4TFmMGUaix X-Google-Smtp-Source: AGHT+IHXC4+HEPFO66yGd2f0LV51YhTqAqVwmPVGIoEePTQDwCP3m6dIu0Rzc1Uy4str6MHDwViSu46koPnq X-Received: by 2002:a05:6830:391b:b0:72c:320b:fc8c with SMTP id 46e09a7af769-72e3685c9d1mr12477433a34.21.1744123875029; Tue, 08 Apr 2025 07:51:15 -0700 (PDT) Received: from postal.iol.unh.edu (postal.iol.unh.edu. [2606:4100:3880:1234::84]) by smtp-relay.gmail.com with ESMTPS id 586e51a60fabf-2cc8473f3e0sm748665fac.19.2025.04.08.07.51.14 (version=TLS1_2 cipher=ECDHE-ECDSA-AES128-GCM-SHA256 bits=128/128); Tue, 08 Apr 2025 07:51:15 -0700 (PDT) X-Relaying-Domain: iol.unh.edu Date: Tue, 08 Apr 2025 07:51:15 -0700 (PDT) Message-ID: <67f537e3.050a0220.0c7a.c611SMTPIN_ADDED_MISSING@mx.google.com> Received: from [172.17.0.4] (unknown [172.18.0.217]) by postal.iol.unh.edu (Postfix) with ESMTP id 818B46052471; Tue, 8 Apr 2025 10:51:14 -0400 (EDT) Subject: |SUCCESS| [GIT MASTER] e30e194c4d06cf9b0e93f9f0f2a289bef96abc1a From: dpdklab@iol.unh.edu To: Test Report Cc: dpdk-test-reports@iol.unh.edu Content-Type: text/plain X-BeenThere: test-report@dpdk.org X-Mailman-Version: 2.1.29 Precedence: list List-Id: automatic DPDK test reports List-Unsubscribe: , List-Archive: List-Post: List-Help: List-Subscribe: , Errors-To: test-report-bounces@dpdk.org _Testing PASS_ Branch: dpdk e30e194c4d06cf9b0e93f9f0f2a289bef96abc1a --> testing pass Upstream job id: Generic-DPDK-Compile-ABI#122588 Test environment and result as below: +-------------------+----------+ | Environment | abi_test | +===================+==========+ | CentOS Stream 9 | PASS | +-------------------+----------+ | Debian 12 | PASS | +-------------------+----------+ | CentOS Stream 10 | PASS | +-------------------+----------+ | openSUSE Leap 15 | PASS | +-------------------+----------+ | Fedora 41 (Clang) | PASS | +-------------------+----------+ | Fedora 40 (Clang) | PASS | +-------------------+----------+ | Fedora 40 | PASS | +-------------------+----------+ | RHEL8 | PASS | +-------------------+----------+ | Fedora 41 | PASS | +-------------------+----------+ | Ubuntu 22.04 | PASS | +-------------------+----------+ | Ubuntu 24.04 | PASS | +-------------------+----------+ | RHEL9 | PASS | +-------------------+----------+ | Arch Linux | PASS | +-------------------+----------+ CentOS Stream 9 Kernel: Depends on container host Compiler: gcc 11.5.0 20240719 (Red Hat 11.5.0-2) Debian 12 Kernel: Depends on container host Compiler: gcc (Debian 12.2.0-14) 12.2.0 CentOS Stream 10 Kernel: Depends on container host Compiler: gcc 14.2.1 20241104 (Red Hat 14.2.1-6) openSUSE Leap 15 Kernel: Depends on container host Compiler: gcc (SUSE Linux) 7.5.0 Fedora 41 (Clang) Kernel: Depends on container host Compiler: clang 19.1.5 (Fedora 19.1.5-1.fc41) Fedora 40 (Clang) Kernel: Depends on container host Compiler: clang 18.1.8 (Fedora 18.1.8-1.fc40) Fedora 40 Kernel: Depends on container host Compiler: gcc 14.2.1 20240912 (Red Hat 14.2.1-3) RHEL8 Kernel: Depends on container host Compiler: gcc 8.5.0 20210514 (Red Hat 8.5.0-22) Fedora 41 Kernel: Depends on container host Compiler: gcc 14.2.1 20240912 (Red Hat 14.2.1-3) Ubuntu 22.04 Kernel: Depends on container host Compiler: gcc (Ubuntu 11.4.0-1ubuntu1~22.04) 11.4.0 Ubuntu 24.04 Kernel: Depends on container host Compiler: gcc (Ubuntu 13.3.0-6ubuntu2~24.04) 13.3.0 RHEL9 Kernel: Depends on container host Compiler: gcc 11.5.0 20240719 (Red Hat 11.5.0-2) Arch Linux Kernel: Depends on container host Compiler: gcc 14.2.1 20240910 To view detailed results, visit: https://lab.dpdk.org/results/dashboard/tarballs/33178/ UNH-IOL DPDK Community Lab To manage your email subscriptions, visit: https://lab.dpdk.org/results/dashboard/preferences/subscriptions/