From mboxrd@z Thu Jan 1 00:00:00 1970 Return-Path: Received: from mails.dpdk.org (mails.dpdk.org [217.70.189.124]) by inbox.dpdk.org (Postfix) with ESMTP id 8324E46535 for ; Tue, 8 Apr 2025 16:52:15 +0200 (CEST) Received: from mails.dpdk.org (localhost [127.0.0.1]) by mails.dpdk.org (Postfix) with ESMTP id 7BCD940E3A; Tue, 8 Apr 2025 16:52:15 +0200 (CEST) Received: from mail-qt1-f226.google.com (mail-qt1-f226.google.com [209.85.160.226]) by mails.dpdk.org (Postfix) with ESMTP id 6CBE040264 for ; Tue, 8 Apr 2025 16:52:14 +0200 (CEST) Received: by mail-qt1-f226.google.com with SMTP id d75a77b69052e-476a304a8edso55472061cf.3 for ; Tue, 08 Apr 2025 07:52:14 -0700 (PDT) DKIM-Signature: v=1; a=rsa-sha256; c=relaxed/relaxed; d=iol.unh.edu; s=unh-iol; t=1744123934; x=1744728734; darn=dpdk.org; h=references:in-reply-to:cc:to:from:subject:message-id:date:from:to :cc:subject:date:message-id:reply-to; bh=6gvjg5YzCCS1K2Qpu6ImKFYz83s96R5Q4pG0b0HucZ0=; b=UlyZMVpHq4y8umjioRK9g7AjmokrDuK9NYtozanY4yvJ+xZKodTvJcv2c/Wey6yuRY +xkrHCfkeQRgwBUCqkKfYoWB4Rdk+HdGCw9i5mhk18JPVJdLCMVyGAjl6dAV4OGctdee XKPQvf7UHsSQHj8vmbxLg2Bif52hPlJOQbVN0= X-Google-DKIM-Signature: v=1; a=rsa-sha256; c=relaxed/relaxed; d=1e100.net; s=20230601; t=1744123934; x=1744728734; h=references:in-reply-to:cc:to:from:subject:message-id:date :x-gm-message-state:from:to:cc:subject:date:message-id:reply-to; bh=6gvjg5YzCCS1K2Qpu6ImKFYz83s96R5Q4pG0b0HucZ0=; b=s7CQcqtBxWVyYyAzQRyd2j/ipVDEHHmTAFTJL9AZ3+aw0jf3B4tDjwKTMNB0moRyIx U7WcOq1O74shvrhZc0+PcMYTUnh1sKF1Sh1cS8Le3bE1W5QqEXjbFSNP2XZINFNsblhW WelaVXahGeFO8w51hMacjvO0zWawlb/GJv4EFAjew4l7JPG5/LVrdjYqDuufIwTtA/DG AqvPS2ulgY2daivIU6Myq9DCBhNRR9SnArxAWtAftVfXYMg3QOubSThHjavURHZWOmik 3X49qhx1xG+3YAOFfxikjmu8uqxVpUREMlg8XOqVjtQwuj/k5gnR1TwCq5Fr1PCEXYBM vByw== X-Gm-Message-State: AOJu0YyYPShUcuq8T7VW+qpHJKIhiSmivNUymR0u4zJ0pVWCyQBwH+TK aaoK3uaCVfNWiSq3JRsWekJEBXs2mKFUG6KCQbaWjoYQOcr8g6EL3r2IRStv3FdhyJUB5YTHrPc xOZJmlQROeJG3KRwUG/i9t6UvYzcEkJbpcMShF8cZ X-Gm-Gg: ASbGnct5be9R+rS8DZ47Mp36N2B1Jfd7nQTEA874FdsKbfdCYCmDsatv6aff+sWguqI qexeCAv27mc//Hr6ftpZ4L7QyiZbDarx5dTX9l8Kzlle5lN9xZNcws33PZbZNtRTM33rjQdcI7m hCwaVRzMIy7h1mv9eStgS3FXT7/j1ex852Qi0+vzfoMBCr2Z9WGWItRLOKjO03MdPnMK5e0eu7m jnKqpKWO00wrlnJGx5Vpb5z2y4kqhmmvIt0drLeRgqe4QtFK2vx503QVDpGQb1sKtBzQGUrsL/j uA3bGXDQ1Qmyr7Bp3DiVYdmgEoqWMOpdKUL+Mj/L X-Google-Smtp-Source: AGHT+IFNnqOpu+DmoFmWwxRu96ExnVKAwOGK4wRrIpvYrKr3EgvsPLSCTuzwBf0wRFqNoOaOULAqYqzvKmPP X-Received: by 2002:a05:622a:19a7:b0:476:8521:778d with SMTP id d75a77b69052e-479310dd77amr256213251cf.50.1744123933597; Tue, 08 Apr 2025 07:52:13 -0700 (PDT) Received: from postal.iol.unh.edu (postal.iol.unh.edu. [132.177.123.84]) by smtp-relay.gmail.com with ESMTPS id d75a77b69052e-4791b056f68sm7301151cf.1.2025.04.08.07.51.54 (version=TLS1_2 cipher=ECDHE-ECDSA-AES128-GCM-SHA256 bits=128/128); Tue, 08 Apr 2025 07:51:54 -0700 (PDT) X-Relaying-Domain: iol.unh.edu Date: Tue, 08 Apr 2025 07:51:54 -0700 (PDT) Message-ID: <67f5380a.050a0220.27ca10.d166SMTPIN_ADDED_MISSING@mx.google.com> Received: from [172.21.0.6] (unknown [172.18.0.240]) by postal.iol.unh.edu (Postfix) with ESMTP id E14816052471; Tue, 8 Apr 2025 10:51:53 -0400 (EDT) Subject: |SUCCESS| pw152802 [PATCH] [RFC] drivers: add generic build of SVE f From: dpdklab@iol.unh.edu To: Test Report Cc: dpdk-test-reports@iol.unh.edu In-Reply-To: <20250407152857.2203839-1-bruce.richardson@intel.com> References: <20250407152857.2203839-1-bruce.richardson@intel.com> Content-Type: text/plain X-BeenThere: test-report@dpdk.org X-Mailman-Version: 2.1.29 Precedence: list List-Id: automatic DPDK test reports List-Unsubscribe: , List-Archive: List-Post: List-Help: List-Subscribe: , Errors-To: test-report-bounces@dpdk.org Test-Label: iol-compile-arm64-testing Test-Status: SUCCESS http://dpdk.org/patch/152802 _Testing PASS_ Submitter: Bruce Richardson Date: Monday, April 07 2025 15:28:57 DPDK git baseline: Repo:dpdk Branch: master CommitID:dd178ee7b4325f2461f7d86285ba27ba8ccef4a1 152802 --> testing pass Upstream job id: Generic-DPDK-Compile-Meson#378095 Test environment and result as below: +----------------------------------------+--------------------+ | Environment | dpdk_meson_compile | +========================================+====================+ | RHEL9 (ARM) | PASS | +----------------------------------------+--------------------+ | Ubuntu 20.04 ARM GCC Cross Compile | PASS | +----------------------------------------+--------------------+ | Debian 12 with MUSDK | PASS | +----------------------------------------+--------------------+ | Fedora 40 (ARM) | PASS | +----------------------------------------+--------------------+ | Ubuntu 20.04 ARM SVE | PASS | +----------------------------------------+--------------------+ | Fedora 41 (ARM) | PASS | +----------------------------------------+--------------------+ | Fedora 40 (ARM Clang) | PASS | +----------------------------------------+--------------------+ | Fedora 41 (ARM Clang) | PASS | +----------------------------------------+--------------------+ | Ubuntu 22.04 (ARM) | PASS | +----------------------------------------+--------------------+ | Ubuntu 20.04 ARM Clang Cross Compile | PASS | +----------------------------------------+--------------------+ | Ubuntu 24.04 (ARM) | PASS | +----------------------------------------+--------------------+ | CentOS Stream 9 (ARM) | PASS | +----------------------------------------+--------------------+ | CentOS Stream 10 (ARM) | PASS | +----------------------------------------+--------------------+ | Ubuntu 20.04 (ARM) | PASS | +----------------------------------------+--------------------+ | Debian 12 (arm) | PASS | +----------------------------------------+--------------------+ | Ubuntu 20.04 aarch32 GCC Cross Compile | PASS | +----------------------------------------+--------------------+ RHEL9 (ARM) Kernel: Depends on container host Compiler: gcc 11.5.0 20240719 (Red Hat 11.5.0-2) Ubuntu 20.04 ARM GCC Cross Compile Kernel: Depends on container host Compiler: aarch64-linux-gnu-gcc (Ubuntu 9.4.0-1ubuntu1~20.04.2) 9.4.0 Debian 12 with MUSDK Kernel: Depends on container host Compiler: gcc (Debian 12.2.0-14) 12.2.0 Fedora 40 (ARM) Kernel: Depends on container host Compiler: gcc 14.2.1 20240912 (Red Hat 14.2.1-3) Ubuntu 20.04 ARM SVE Kernel: Depends on container host Compiler: gcc (Ubuntu 10.5.0-1ubuntu1~20.04) 10.5.0 Fedora 41 (ARM) Kernel: Depends on container host Compiler: gcc 14.2.1 20240912 (Red Hat 14.2.1-3) Fedora 40 (ARM Clang) Kernel: Depends on container host Compiler: clang 18.1.8 (Fedora 18.1.8-1.fc40) Fedora 41 (ARM Clang) Kernel: Depends on container host Compiler: clang 19.1.5 (Fedora 19.1.5-1.fc41) Ubuntu 22.04 (ARM) Kernel: Depends on container host Compiler: gcc (Ubuntu 11.4.0-1ubuntu1~22.04) 11.4.0 Ubuntu 20.04 ARM Clang Cross Compile Kernel: Depends on container host Compiler: clang 10.0.0-4ubuntu1 Ubuntu 24.04 (ARM) Kernel: Depends on container host Compiler: gcc (Ubuntu 13.3.0-6ubuntu2~24.04) 13.3.0 CentOS Stream 9 (ARM) Kernel: Depends on container host Compiler: gcc 11.5.0 20240719 (Red Hat 11.5.0-2) CentOS Stream 10 (ARM) Kernel: Depends on container host Compiler: gcc 14.2.1 20241104 (Red Hat 14.2.1-6) Ubuntu 20.04 (ARM) Kernel: Depends on container host Compiler: gcc (Ubuntu 9.4.0-1ubuntu1~20.04.2) 9.4.0 Debian 12 (arm) Kernel: Depends on container host Compiler: gcc (Debian 12.2.0-14) 12.2.0 Ubuntu 20.04 aarch32 GCC Cross Compile Kernel: Depends on container host Compiler: gcc 9.4.0 To view detailed results, visit: https://lab.dpdk.org/results/dashboard/patchsets/32956/ UNH-IOL DPDK Community Lab To manage your email subscriptions, visit: https://lab.dpdk.org/results/dashboard/preferences/subscriptions/