From mboxrd@z Thu Jan 1 00:00:00 1970 Return-Path: Received: from mails.dpdk.org (mails.dpdk.org [217.70.189.124]) by inbox.dpdk.org (Postfix) with ESMTP id 7363B46535 for ; Tue, 8 Apr 2025 16:52:06 +0200 (CEST) Received: from mails.dpdk.org (localhost [127.0.0.1]) by mails.dpdk.org (Postfix) with ESMTP id 6EB4E40E3A; Tue, 8 Apr 2025 16:52:06 +0200 (CEST) Received: from mail-pf1-f225.google.com (mail-pf1-f225.google.com [209.85.210.225]) by mails.dpdk.org (Postfix) with ESMTP id BFDD840264 for ; Tue, 8 Apr 2025 16:52:04 +0200 (CEST) Received: by mail-pf1-f225.google.com with SMTP id d2e1a72fcca58-736bfa487c3so4782712b3a.1 for ; Tue, 08 Apr 2025 07:52:04 -0700 (PDT) DKIM-Signature: v=1; a=rsa-sha256; c=relaxed/relaxed; d=iol.unh.edu; s=unh-iol; t=1744123924; x=1744728724; darn=dpdk.org; h=cc:to:from:subject:message-id:date:from:to:cc:subject:date :message-id:reply-to; bh=hiUtlg0iJcoIeIvL1sagtSyk555fwmRvWYgSUBnQAt0=; b=NeipBAr76KOIrsy9P6E1YGzHLVI9pACnNj60ILOhrerWmCrS7xtu9NsCfLZLCKtB/B K0m9m4EAamrSwzUCY6b7pHEyVpYcHYQOKfUuLMCShkZlGnxM6fZlXDCgh3V3oF04+9GJ Fl/+vR4r6rKQ7QC0LwDN8RM5lGH/bLQMovAU0= X-Google-DKIM-Signature: v=1; a=rsa-sha256; c=relaxed/relaxed; d=1e100.net; s=20230601; t=1744123924; x=1744728724; h=cc:to:from:subject:message-id:date:x-gm-message-state:from:to:cc :subject:date:message-id:reply-to; bh=hiUtlg0iJcoIeIvL1sagtSyk555fwmRvWYgSUBnQAt0=; b=cp/L1pOLTq4QQr29+/13xalaE7bdQhnQMoPIznxSqWtxkZEov9GYCTVTRcUNDP2p86 V05Nz5iVjR2+PXaOZGZ8U1LWWCiHaVdcOHWIljpby+VrtbVIrVZJwvzaFMNVCfmZMTaV fD+1MRr7yS2slAti3oCeVmUWnGhSVhTmqhJUCJ2H6+NjVCQRv1Q5RE8v50v6YbBUmzQ4 Rt4NuwlwOL0rnPAxo1tG5/Eiz+H0zYXnZ1FwPyqLWg7wY0pZGFG1hNFmW7LDOaYaUUgQ dUpXUTHSojbDdsNvEC9uwAR63mpsEm1Wbk0F1GbUrPgsBjq2K23WE8l9w3gWDzwfJ/FB AJ0Q== X-Gm-Message-State: AOJu0Yz0mFU3nSuhD7cC0hgvs0tptPf3DpleZb3x4JNwHbp9sHRjjPO4 P7WfxI0fjcsjyoDCymHT/m2qMURMrhtSTbOOnP6mK/UfpUl949bTSuakppD5aaxqaVnqVq5InSz Tvk0hCKRnELJoFUct2Z5h1uDs5TOi31SYT4grSB8WGOOSxseixBrBOF2o X-Gm-Gg: ASbGncvFMMbhkHqV+2aGdPMTarvoMxdeOWflISRkedszN937AQRpok0ocqKVHFLGNCO Vu6ezqxq0eyfBohDOVmH+qMwaUm8waex/l9TgWyFxQZx7Zip/wW5eey0e8LQEzCJBQKrfrD9NkA IcMIBWL1dgK3aGOi8zTclPoCWKN0SEknnqV9XBusCt0sJto1oZHoSbT9Lfx2Bw4IZDOU33JYMFC C4baCytNRSxI4SHaTrxNyeP+oAIBVMHfNkPpadc4bmxDOP99OqQwdRYtQ91Om8cxj6Z7QkwhS+J +iEXFgwqgzZUBN+XwaLw+slNUxFvkqKODz01CIUtf6iraLt0ngdW X-Google-Smtp-Source: AGHT+IHewmlg8m2tq9zjam/acX+/6UaSizikB1eWDdHtI1t3axpyJeCI3xdatQ8T54y4Ocvy8Y5Bhl+jWuvv X-Received: by 2002:a05:6a20:2583:b0:1fd:f8dc:83f6 with SMTP id adf61e73a8af0-2010479fff2mr30146337637.40.1744123923911; Tue, 08 Apr 2025 07:52:03 -0700 (PDT) Received: from postal.iol.unh.edu (postal.iol.unh.edu. [2606:4100:3880:1234::84]) by smtp-relay.gmail.com with ESMTPS id 41be03b00d2f7-af9bc3effd6sm421117a12.24.2025.04.08.07.52.03 (version=TLS1_2 cipher=ECDHE-ECDSA-AES128-GCM-SHA256 bits=128/128); Tue, 08 Apr 2025 07:52:03 -0700 (PDT) X-Relaying-Domain: iol.unh.edu Date: Tue, 08 Apr 2025 07:52:03 -0700 (PDT) Message-ID: <67f53813.050a0220.1bb31.d2d6SMTPIN_ADDED_MISSING@mx.google.com> Received: from [172.17.0.3] (unknown [172.18.0.217]) by postal.iol.unh.edu (Postfix) with ESMTP id 1A5886052472; Tue, 8 Apr 2025 10:52:03 -0400 (EDT) Subject: |SUCCESS| [GIT MASTER] e30e194c4d06cf9b0e93f9f0f2a289bef96abc1a From: dpdklab@iol.unh.edu To: Test Report Cc: dpdk-test-reports@iol.unh.edu Content-Type: text/plain X-BeenThere: test-report@dpdk.org X-Mailman-Version: 2.1.29 Precedence: list List-Id: automatic DPDK test reports List-Unsubscribe: , List-Archive: List-Post: List-Help: List-Subscribe: , Errors-To: test-report-bounces@dpdk.org _Testing PASS_ Branch: dpdk e30e194c4d06cf9b0e93f9f0f2a289bef96abc1a --> testing pass Upstream job id: Generic-DPDK-Compile-ABI#122584 Test environment and result as below: +-------------------+----------+ | Environment | abi_test | +===================+==========+ | CentOS Stream 9 | PASS | +-------------------+----------+ | Debian 12 | PASS | +-------------------+----------+ | CentOS Stream 10 | PASS | +-------------------+----------+ | openSUSE Leap 15 | PASS | +-------------------+----------+ | Fedora 41 (Clang) | PASS | +-------------------+----------+ | Fedora 40 (Clang) | PASS | +-------------------+----------+ | Fedora 40 | PASS | +-------------------+----------+ | RHEL8 | PASS | +-------------------+----------+ | Fedora 41 | PASS | +-------------------+----------+ | Ubuntu 22.04 | PASS | +-------------------+----------+ | Ubuntu 24.04 | PASS | +-------------------+----------+ | RHEL9 | PASS | +-------------------+----------+ | Arch Linux | PASS | +-------------------+----------+ CentOS Stream 9 Kernel: Depends on container host Compiler: gcc 11.5.0 20240719 (Red Hat 11.5.0-2) Debian 12 Kernel: Depends on container host Compiler: gcc (Debian 12.2.0-14) 12.2.0 CentOS Stream 10 Kernel: Depends on container host Compiler: gcc 14.2.1 20241104 (Red Hat 14.2.1-6) openSUSE Leap 15 Kernel: Depends on container host Compiler: gcc (SUSE Linux) 7.5.0 Fedora 41 (Clang) Kernel: Depends on container host Compiler: clang 19.1.5 (Fedora 19.1.5-1.fc41) Fedora 40 (Clang) Kernel: Depends on container host Compiler: clang 18.1.8 (Fedora 18.1.8-1.fc40) Fedora 40 Kernel: Depends on container host Compiler: gcc 14.2.1 20240912 (Red Hat 14.2.1-3) RHEL8 Kernel: Depends on container host Compiler: gcc 8.5.0 20210514 (Red Hat 8.5.0-22) Fedora 41 Kernel: Depends on container host Compiler: gcc 14.2.1 20240912 (Red Hat 14.2.1-3) Ubuntu 22.04 Kernel: Depends on container host Compiler: gcc (Ubuntu 11.4.0-1ubuntu1~22.04) 11.4.0 Ubuntu 24.04 Kernel: Depends on container host Compiler: gcc (Ubuntu 13.3.0-6ubuntu2~24.04) 13.3.0 RHEL9 Kernel: Depends on container host Compiler: gcc 11.5.0 20240719 (Red Hat 11.5.0-2) Arch Linux Kernel: Depends on container host Compiler: gcc 14.2.1 20240910 To view detailed results, visit: https://lab.dpdk.org/results/dashboard/tarballs/33178/ UNH-IOL DPDK Community Lab To manage your email subscriptions, visit: https://lab.dpdk.org/results/dashboard/preferences/subscriptions/