From mboxrd@z Thu Jan 1 00:00:00 1970 Return-Path: Received: from mails.dpdk.org (mails.dpdk.org [217.70.189.124]) by inbox.dpdk.org (Postfix) with ESMTP id C94F146535 for ; Tue, 8 Apr 2025 17:00:28 +0200 (CEST) Received: from mails.dpdk.org (localhost [127.0.0.1]) by mails.dpdk.org (Postfix) with ESMTP id C0D3740E3A; Tue, 8 Apr 2025 17:00:28 +0200 (CEST) Received: from mail-io1-f100.google.com (mail-io1-f100.google.com [209.85.166.100]) by mails.dpdk.org (Postfix) with ESMTP id A77D240264 for ; Tue, 8 Apr 2025 17:00:27 +0200 (CEST) Received: by mail-io1-f100.google.com with SMTP id ca18e2360f4ac-85df99da233so503473139f.3 for ; Tue, 08 Apr 2025 08:00:27 -0700 (PDT) DKIM-Signature: v=1; a=rsa-sha256; c=relaxed/relaxed; d=iol.unh.edu; s=unh-iol; t=1744124427; x=1744729227; darn=dpdk.org; h=cc:to:from:subject:message-id:date:from:to:cc:subject:date :message-id:reply-to; bh=Zx/8wvNAHwAlsCG56WdC3bOvGD+EL1jRReUvX7LQepI=; b=Q+8y0zJjtRC/C//0lGwU2qTD+/LVZ+J4jXZgFXCqKQ6smx39CYh/ghUI8GyW1T6lhO Q4lT85oGWVZYdWaXrXjpQPxYp09eAXjJjxSurmFg53f5ttxLoV2+Y/8p3yzE05pnMXrY zOb1FvioLa1eBS1ysXI9xEoRkXXIMuXY6gtSw= X-Google-DKIM-Signature: v=1; a=rsa-sha256; c=relaxed/relaxed; d=1e100.net; s=20230601; t=1744124427; x=1744729227; h=cc:to:from:subject:message-id:date:x-gm-message-state:from:to:cc :subject:date:message-id:reply-to; bh=Zx/8wvNAHwAlsCG56WdC3bOvGD+EL1jRReUvX7LQepI=; b=mSOZqv0q3mY7rc2bRwuD7LDAO9OqKmmHkmZf6v6KvK4sy0jo1nxs0vmE4kBD9hIR8+ J9EgLly+BPYAIVIv4M+5T1n25cIwknblfzs2B2EwQD7WauEd3UiSxvIwOe/F5zv47Ojc B/LOA9Vzsg+VWo20ddjQpbKlq/DeK21KyajvsZZ2s9BI9F7jmAZVsEs1tXAR76RSm25/ aJ7r9tjrx+sX3Zlmd5vfOwXzz6s57ADgLZgd4TRVFfXAZaRk0Ho89THTwkgnw1r838v6 IUIxhM6IY1GqXaxcBIV+EOW4/XNcZj0yjdDmHzDp0aoKAAvm2vyWoJsnW7bi5/ZfT7zO Shmg== X-Gm-Message-State: AOJu0YzVGLHL6GPhb+MLKoDMUHER7vXWCH37QitsG5Qor85sHWUcssGu c236p56B6qa9Y266emB0XGoubdb+yWM3UBXhoPSYjUEhP4HgAUI3vvarprTBWl6+PsdVgCOxg7n JROAmTV6Hay6P/xoCfQkyi0HdMuZb9EwKfW1a/YgKPCH36csNIahUO/Yu X-Gm-Gg: ASbGncvYFK1gcJx24ifl80m7NVfVS5fdu2G5WfdznP6YuzhIy3+KuSsJf40heD0C63G ScUCYFodcLvPH2Mgsf9PnNsu/Ra3kU14JVcuAnV4Ku+ye1EMTWq+2BNcdv4YTpfgRBJYWFx1Vv4 /yUYesiDZEOa8ofzK4imJ/q07P5a4ZKbxScfnlwwnlP8+hcZywyI/rqBT1XhkOcY6qs3qBSkXtI +SlcjMKkMPotl1F1Zf/wFPdk3f0OO1D18jDYwPuICiOMgAQZf+SWNp9GjjfL/vJxsRDw+ssI0HH kjguAurax9MOCHBTxwjAJlvlTMEGWQy02GCwtDJpYTQZ2x8lwbpN X-Google-Smtp-Source: AGHT+IH6B8s8+THM172kdxm8KOknIKrsIowxTngfLwzUk7KsSKO4WILTv1fgPySvIcmkGlEVoKyZrE6rK0tD X-Received: by 2002:a05:6602:36c8:b0:85b:35b1:53b4 with SMTP id ca18e2360f4ac-8611b504283mr2115262639f.12.1744124426820; Tue, 08 Apr 2025 08:00:26 -0700 (PDT) Received: from postal.iol.unh.edu (postal.iol.unh.edu. [2606:4100:3880:1234::84]) by smtp-relay.gmail.com with ESMTPS id ca18e2360f4ac-861534b7645sm9013439f.26.2025.04.08.08.00.26 (version=TLS1_2 cipher=ECDHE-ECDSA-AES128-GCM-SHA256 bits=128/128); Tue, 08 Apr 2025 08:00:26 -0700 (PDT) X-Relaying-Domain: iol.unh.edu Date: Tue, 08 Apr 2025 08:00:26 -0700 (PDT) Message-ID: <67f53a0a.050a0220.4b145.550aSMTPIN_ADDED_MISSING@mx.google.com> Received: from [172.17.0.3] (unknown [172.18.0.217]) by postal.iol.unh.edu (Postfix) with ESMTP id 4E0E16052471; Tue, 8 Apr 2025 11:00:26 -0400 (EDT) Subject: |SUCCESS| [GIT MASTER] e30e194c4d06cf9b0e93f9f0f2a289bef96abc1a From: dpdklab@iol.unh.edu To: Test Report Cc: dpdk-test-reports@iol.unh.edu Content-Type: text/plain X-BeenThere: test-report@dpdk.org X-Mailman-Version: 2.1.29 Precedence: list List-Id: automatic DPDK test reports List-Unsubscribe: , List-Archive: List-Post: List-Help: List-Subscribe: , Errors-To: test-report-bounces@dpdk.org _Testing PASS_ Branch: dpdk e30e194c4d06cf9b0e93f9f0f2a289bef96abc1a --> testing pass Upstream job id: Generic-VM-Unit-Test-DPDK#27850 Test environment and result as below: +---------------------+----------------+ | Environment | dpdk_unit_test | +=====================+================+ | Ubuntu 20.04 | PASS | +---------------------+----------------+ | CentOS Stream 10 | PASS | +---------------------+----------------+ | RHEL8 | PASS | +---------------------+----------------+ | Arch Linux | PASS | +---------------------+----------------+ | RHEL9 | PASS | +---------------------+----------------+ | Debian 12 | PASS | +---------------------+----------------+ | Fedora 40 | PASS | +---------------------+----------------+ | CentOS Stream 9 | PASS | +---------------------+----------------+ | Fedora 41 (Clang) | PASS | +---------------------+----------------+ | Fedora 40 (Clang) | PASS | +---------------------+----------------+ | Ubuntu 22.04 | PASS | +---------------------+----------------+ | Fedora 41 | PASS | +---------------------+----------------+ | Ubuntu 24.04 | PASS | +---------------------+----------------+ | Windows Server 2022 | PASS | +---------------------+----------------+ Ubuntu 20.04 Kernel: Depends on container host Compiler: gcc (Ubuntu 9.4.0-1ubuntu1~20.04.2) 9.4.0 CentOS Stream 10 Kernel: Depends on container host Compiler: gcc 14.2.1 20241104 (Red Hat 14.2.1-6) RHEL8 Kernel: Depends on container host Compiler: gcc 8.5.0 20210514 (Red Hat 8.5.0-22) Arch Linux Kernel: Depends on container host Compiler: gcc 14.2.1 20240910 RHEL9 Kernel: Depends on container host Compiler: gcc 11.5.0 20240719 (Red Hat 11.5.0-2) Debian 12 Kernel: Depends on container host Compiler: gcc (Debian 12.2.0-14) 12.2.0 Fedora 40 Kernel: Depends on container host Compiler: gcc 14.2.1 20240912 (Red Hat 14.2.1-3) CentOS Stream 9 Kernel: Depends on container host Compiler: gcc 11.5.0 20240719 (Red Hat 11.5.0-2) Fedora 41 (Clang) Kernel: Depends on container host Compiler: clang 19.1.5 (Fedora 19.1.5-1.fc41) Fedora 40 (Clang) Kernel: Depends on container host Compiler: clang 18.1.8 (Fedora 18.1.8-1.fc40) Ubuntu 22.04 Kernel: Depends on container host Compiler: gcc (Ubuntu 11.4.0-1ubuntu1~22.04) 11.4.0 Fedora 41 Kernel: Depends on container host Compiler: gcc 14.2.1 20240912 (Red Hat 14.2.1-3) Ubuntu 24.04 Kernel: Depends on container host Compiler: gcc (Ubuntu 13.3.0-6ubuntu2~24.04) 13.3.0 Windows Server 2022 Kernel: 10.0.20348.2031 Compiler: clang 15.0.7, gcc 14.1.0 (MinGW), and MSVC VS 19.39.33521 To view detailed results, visit: https://lab.dpdk.org/results/dashboard/tarballs/33178/ UNH-IOL DPDK Community Lab To manage your email subscriptions, visit: https://lab.dpdk.org/results/dashboard/preferences/subscriptions/