From mboxrd@z Thu Jan  1 00:00:00 1970
Return-Path: <test-report-bounces@dpdk.org>
Received: from mails.dpdk.org (mails.dpdk.org [217.70.189.124])
	by inbox.dpdk.org (Postfix) with ESMTP id 703B446535
	for <public@inbox.dpdk.org>; Tue,  8 Apr 2025 17:15:33 +0200 (CEST)
Received: from mails.dpdk.org (localhost [127.0.0.1])
	by mails.dpdk.org (Postfix) with ESMTP id 5DC8F40A4B;
	Tue,  8 Apr 2025 17:15:33 +0200 (CEST)
Received: from mail-oa1-f98.google.com (mail-oa1-f98.google.com
 [209.85.160.98]) by mails.dpdk.org (Postfix) with ESMTP id BD6FF40264
 for <test-report@dpdk.org>; Tue,  8 Apr 2025 17:15:31 +0200 (CEST)
Received: by mail-oa1-f98.google.com with SMTP id
 586e51a60fabf-2c2504fa876so1536137fac.0
 for <test-report@dpdk.org>; Tue, 08 Apr 2025 08:15:31 -0700 (PDT)
DKIM-Signature: v=1; a=rsa-sha256; c=relaxed/relaxed;
 d=iol.unh.edu; s=unh-iol; t=1744125331; x=1744730131; darn=dpdk.org;
 h=cc:to:from:subject:message-id:date:from:to:cc:subject:date
 :message-id:reply-to;
 bh=3qFjOmXXoZLOW0Sr03chhaVJjbbdfZFW0UcteXNQotw=;
 b=IUw+7vHY6z7rrrPQrhA7C8zIn7ST/TVukg7CbsXeu/kB+yif86NYDxL5a4bUZNOzm4
 P3qFnxtyTMvP1cL+LbYkldWovu/DAu+cVByVgPv9oVXszWFGrVfx7uHcaTFvy8b3Q95P
 1pMWbCDtcY0/TfE3cmdCfH4rcuNv6ak6jXhmE=
X-Google-DKIM-Signature: v=1; a=rsa-sha256; c=relaxed/relaxed;
 d=1e100.net; s=20230601; t=1744125331; x=1744730131;
 h=cc:to:from:subject:message-id:date:x-gm-message-state:from:to:cc
 :subject:date:message-id:reply-to;
 bh=3qFjOmXXoZLOW0Sr03chhaVJjbbdfZFW0UcteXNQotw=;
 b=Rt7pURZDlOT6YRAus/5drlj4weEH0huR3arQO757W+42ieVZ/jlVWOak+48jwTuB4z
 3yJGPdW/v3qLWIT0Cd+aLKgFLnMFtXYrCcSLssZHMmaHSpjBhFxHliv9lBfjuuuDBilc
 sczZRFRL+t08a6CeETskrWuIP5cPvMNM+8VFypMD5jOMVosMoRikakXePwC/tFmndrNc
 TEC3+Ng896XC2c/khVxrJoS5DRzXkb3Vvd1szcvr/N6riz6gTEb3kDpTnJY6iwZ+oDRH
 kZAzGPpWh3E/5AJQmnVNR+w1W9mF2NCovwZD7SLo/Zo7PatFJDNJV+qb3Pzeu9/mX78k
 ZPzQ==
X-Gm-Message-State: AOJu0YyijZ8mFB1nr1q0KZIL3qhZ4awm92s2QLa3A8frlt6+aiLEZA5i
 srYWatp4I/7Ge+zBq2J5QHqei2IXXWRnwWMRDTcR12H6DMLym1Og+60begGvAAmDZutCrwFUAZF
 O/63wVJcSTBusnBKSoxILhHsfBHN72/CsNjYmvXEyvFaAkQsorKs/OdsW
X-Gm-Gg: ASbGncvynBlSBAW/RjrBhpVkcpipPFNZtJvUDR7McVGeImGVzXHzjFky+PJDE4v+RwG
 iyecbBWjJFN3o33VU9RNiooK+FrZMOiyiGZMIYQ2QibEU1pZAxu9Rdgwkcr4tybyan7ouDu8MoI
 oxgLeLsQd36KPKo6xnl4fTmfF01K8vOjFPw8LT55BA0B8dRLc5CLeNyfu0mM7yVKZJ0HDeiCLp5
 CuUiP41UUVgqM84t5ghF7nNsGpFAHA6J+Bf6TczuleYRP4uj4LliHEjk1Mrvv2/tQCvAtyetbrA
 JEgmdxs71glWhEghZ1EHmLGeXI7K71ijJ0oknlUvy6/N2qSmtYhr
X-Google-Smtp-Source: AGHT+IEfxHBJ2nfB6NiiMudpYRBA9IXJdmnGEanWhfqmPK06r3upsqlkRAQBSgd/tWlrrrr1FZgSBSsZ0FX4
X-Received: by 2002:a05:6870:9e45:b0:2c1:b58c:bef with SMTP id
 586e51a60fabf-2cc9e8a7ef5mr10264140fac.38.1744125330976; 
 Tue, 08 Apr 2025 08:15:30 -0700 (PDT)
Received: from postal.iol.unh.edu (postal.iol.unh.edu.
 [2606:4100:3880:1234::84]) by smtp-relay.gmail.com with ESMTPS id
 586e51a60fabf-2cc84c3a463sm769805fac.41.2025.04.08.08.15.30
 (version=TLS1_2 cipher=ECDHE-ECDSA-AES128-GCM-SHA256 bits=128/128);
 Tue, 08 Apr 2025 08:15:30 -0700 (PDT)
X-Relaying-Domain: iol.unh.edu
Date: Tue, 08 Apr 2025 08:15:30 -0700 (PDT)
Message-ID: <67f53d92.050a0220.3a190a.e1c1SMTPIN_ADDED_MISSING@mx.google.com>
Received: from [172.17.0.5] (unknown [172.18.0.217])
 by postal.iol.unh.edu (Postfix) with ESMTP id 734FF6052471;
 Tue,  8 Apr 2025 11:15:30 -0400 (EDT)
Subject: |SUCCESS| [GIT MASTER] e30e194c4d06cf9b0e93f9f0f2a289bef96abc1a
From: dpdklab@iol.unh.edu
To: Test Report <test-report@dpdk.org>
Cc: dpdk-test-reports@iol.unh.edu
Content-Type: text/plain
X-BeenThere: test-report@dpdk.org
X-Mailman-Version: 2.1.29
Precedence: list
List-Id: automatic DPDK test reports <test-report.dpdk.org>
List-Unsubscribe: <https://mails.dpdk.org/options/test-report>,
 <mailto:test-report-request@dpdk.org?subject=unsubscribe>
List-Archive: <http://mails.dpdk.org/archives/test-report/>
List-Post: <mailto:test-report@dpdk.org>
List-Help: <mailto:test-report-request@dpdk.org?subject=help>
List-Subscribe: <https://mails.dpdk.org/listinfo/test-report>,
 <mailto:test-report-request@dpdk.org?subject=subscribe>
Errors-To: test-report-bounces@dpdk.org

_Testing PASS_

Branch: dpdk

e30e194c4d06cf9b0e93f9f0f2a289bef96abc1a --> testing pass

Upstream job id: Generic-DPDK-Compile-Meson#378130

Test environment and result as below:

+-----------------------------------+--------------------+-------------------+------------------+-------------------------+-------------------+----------------------+
|            Environment            | dpdk_meson_compile | dpdk_compile_spdk | dpdk_compile_ovs | dpdk_llvm_clang_compile | dpdk_msvc_compile | dpdk_mingw64_compile |
+===================================+====================+===================+==================+=========================+===================+======================+
| Fedora 40 (Clang)                 | PASS               | PASS              | SKIPPED          | SKIPPED                 | SKIPPED           | SKIPPED              |
+-----------------------------------+--------------------+-------------------+------------------+-------------------------+-------------------+----------------------+
| CentOS Stream 9                   | PASS               | PASS              | SKIPPED          | SKIPPED                 | SKIPPED           | SKIPPED              |
+-----------------------------------+--------------------+-------------------+------------------+-------------------------+-------------------+----------------------+
| Debian 12                         | PASS               | PASS              | SKIPPED          | SKIPPED                 | SKIPPED           | SKIPPED              |
+-----------------------------------+--------------------+-------------------+------------------+-------------------------+-------------------+----------------------+
| CentOS Stream 10                  | PASS               | SKIPPED           | SKIPPED          | SKIPPED                 | SKIPPED           | SKIPPED              |
+-----------------------------------+--------------------+-------------------+------------------+-------------------------+-------------------+----------------------+
| RHEL9                             | PASS               | SKIPPED           | SKIPPED          | SKIPPED                 | SKIPPED           | SKIPPED              |
+-----------------------------------+--------------------+-------------------+------------------+-------------------------+-------------------+----------------------+
| openSUSE Leap 15                  | PASS               | SKIPPED           | SKIPPED          | SKIPPED                 | SKIPPED           | SKIPPED              |
+-----------------------------------+--------------------+-------------------+------------------+-------------------------+-------------------+----------------------+
| Fedora 41 (Clang)                 | PASS               | PASS              | PASS             | SKIPPED                 | SKIPPED           | SKIPPED              |
+-----------------------------------+--------------------+-------------------+------------------+-------------------------+-------------------+----------------------+
| Fedora 40                         | PASS               | PASS              | SKIPPED          | SKIPPED                 | SKIPPED           | SKIPPED              |
+-----------------------------------+--------------------+-------------------+------------------+-------------------------+-------------------+----------------------+
| RHEL8                             | PASS               | SKIPPED           | SKIPPED          | SKIPPED                 | SKIPPED           | SKIPPED              |
+-----------------------------------+--------------------+-------------------+------------------+-------------------------+-------------------+----------------------+
| Ubuntu 24.04                      | PASS               | PASS              | PASS             | SKIPPED                 | SKIPPED           | SKIPPED              |
+-----------------------------------+--------------------+-------------------+------------------+-------------------------+-------------------+----------------------+
| Ubuntu 22.04                      | PASS               | PASS              | SKIPPED          | SKIPPED                 | SKIPPED           | SKIPPED              |
+-----------------------------------+--------------------+-------------------+------------------+-------------------------+-------------------+----------------------+
| Ubuntu 20.04                      | PASS               | SKIPPED           | SKIPPED          | SKIPPED                 | SKIPPED           | SKIPPED              |
+-----------------------------------+--------------------+-------------------+------------------+-------------------------+-------------------+----------------------+
| Alpine                            | PASS               | SKIPPED           | SKIPPED          | SKIPPED                 | SKIPPED           | SKIPPED              |
+-----------------------------------+--------------------+-------------------+------------------+-------------------------+-------------------+----------------------+
| Ubuntu 24.04 32 Bit Cross Compile | PASS               | SKIPPED           | SKIPPED          | SKIPPED                 | SKIPPED           | SKIPPED              |
+-----------------------------------+--------------------+-------------------+------------------+-------------------------+-------------------+----------------------+
| FreeBSD 13.5                      | PASS               | SKIPPED           | SKIPPED          | SKIPPED                 | SKIPPED           | SKIPPED              |
+-----------------------------------+--------------------+-------------------+------------------+-------------------------+-------------------+----------------------+
| Arch Linux                        | PASS               | SKIPPED           | SKIPPED          | SKIPPED                 | SKIPPED           | SKIPPED              |
+-----------------------------------+--------------------+-------------------+------------------+-------------------------+-------------------+----------------------+
| FreeBSD 14.2                      | PASS               | SKIPPED           | SKIPPED          | SKIPPED                 | SKIPPED           | SKIPPED              |
+-----------------------------------+--------------------+-------------------+------------------+-------------------------+-------------------+----------------------+
| Fedora 41                         | PASS               | PASS              | PASS             | SKIPPED                 | SKIPPED           | SKIPPED              |
+-----------------------------------+--------------------+-------------------+------------------+-------------------------+-------------------+----------------------+
| Windows Server 2022               | SKIPPED            | SKIPPED           | SKIPPED          | PASS                    | PASS              | PASS                 |
+-----------------------------------+--------------------+-------------------+------------------+-------------------------+-------------------+----------------------+


Fedora 40 (Clang)
	Kernel: Depends on container host
	Compiler: clang 18.1.8 (Fedora 18.1.8-1.fc40)

CentOS Stream 9
	Kernel: Depends on container host
	Compiler: gcc 11.5.0 20240719 (Red Hat 11.5.0-2)

Debian 12
	Kernel: Depends on container host
	Compiler: gcc (Debian 12.2.0-14) 12.2.0

CentOS Stream 10
	Kernel: Depends on container host
	Compiler: gcc 14.2.1 20241104 (Red Hat 14.2.1-6)

RHEL9
	Kernel: Depends on container host
	Compiler: gcc 11.5.0 20240719 (Red Hat 11.5.0-2)

openSUSE Leap 15
	Kernel: Depends on container host
	Compiler: gcc (SUSE Linux) 7.5.0

Fedora 41 (Clang)
	Kernel: Depends on container host
	Compiler: clang 19.1.5 (Fedora 19.1.5-1.fc41)

Fedora 40
	Kernel: Depends on container host
	Compiler: gcc 14.2.1 20240912 (Red Hat 14.2.1-3)

RHEL8
	Kernel: Depends on container host
	Compiler: gcc 8.5.0 20210514 (Red Hat 8.5.0-22)

Ubuntu 24.04
	Kernel: Depends on container host
	Compiler: gcc (Ubuntu 13.3.0-6ubuntu2~24.04) 13.3.0

Ubuntu 22.04
	Kernel: Depends on container host
	Compiler: gcc (Ubuntu 11.4.0-1ubuntu1~22.04) 11.4.0

Ubuntu 20.04
	Kernel: Depends on container host
	Compiler: gcc (Ubuntu 9.4.0-1ubuntu1~20.04.2) 9.4.0

Alpine
	Kernel: Depends on container host
	Compiler: gcc (Alpine 14.2.0) 14.2.0

Ubuntu 24.04 32 Bit Cross Compile
	Kernel: Depends on container host
	Compiler: gcc (Ubuntu 13.3.0-6ubuntu2~24.04) 13.3.0

FreeBSD 13.5
	Kernel: 13.5-RELEASE
	Compiler: clang 19.1.7

Arch Linux
	Kernel: Depends on container host
	Compiler: gcc 14.2.1 20240910

FreeBSD 14.2
	Kernel: 14.2-RELEASE
	Compiler: clang 18.1.6

Fedora 41
	Kernel: Depends on container host
	Compiler: gcc 14.2.1 20240912 (Red Hat 14.2.1-3)

Windows Server 2022
	Kernel: 10.0.20348.2031
	Compiler: clang 15.0.7, gcc 14.1.0 (MinGW), and MSVC VS 19.39.33521

To view detailed results, visit:
https://lab.dpdk.org/results/dashboard/tarballs/33178/

UNH-IOL DPDK Community Lab

To manage your email subscriptions, visit: 
https://lab.dpdk.org/results/dashboard/preferences/subscriptions/