From mboxrd@z Thu Jan 1 00:00:00 1970 Return-Path: Received: from mails.dpdk.org (mails.dpdk.org [217.70.189.124]) by inbox.dpdk.org (Postfix) with ESMTP id 23BC946536 for ; Tue, 8 Apr 2025 18:25:49 +0200 (CEST) Received: from mails.dpdk.org (localhost [127.0.0.1]) by mails.dpdk.org (Postfix) with ESMTP id 0E59540267; Tue, 8 Apr 2025 18:25:49 +0200 (CEST) Received: from mail-ot1-f97.google.com (mail-ot1-f97.google.com [209.85.210.97]) by mails.dpdk.org (Postfix) with ESMTP id 6059740264 for ; Tue, 8 Apr 2025 18:25:47 +0200 (CEST) Received: by mail-ot1-f97.google.com with SMTP id 46e09a7af769-72bbead793dso3863281a34.1 for ; Tue, 08 Apr 2025 09:25:47 -0700 (PDT) DKIM-Signature: v=1; a=rsa-sha256; c=relaxed/relaxed; d=iol.unh.edu; s=unh-iol; t=1744129546; x=1744734346; darn=dpdk.org; h=references:in-reply-to:cc:to:from:subject:message-id:date:from:to :cc:subject:date:message-id:reply-to; bh=SmfYgSsEjGxSzwcz2CSB5EiVFGPiEQydlFUQYzrP4nM=; b=SAMERj5Txc1SUBU41w43IB4sa3tH9PQwCV/WfQjtmWo1GJE0cc7W2mrbuUR8uLxviQ HuchmEaYEMfMH0WJb7O0X3fJGx83vnzjdBghM+AvUyu1a4rPRZz2jM0hxAW7UxIoZeIR nJqa9TQrCcmMNyKM8a0waloHJpaUuH1kNb5Go= X-Google-DKIM-Signature: v=1; a=rsa-sha256; c=relaxed/relaxed; d=1e100.net; s=20230601; t=1744129546; x=1744734346; h=references:in-reply-to:cc:to:from:subject:message-id:date :x-gm-message-state:from:to:cc:subject:date:message-id:reply-to; bh=SmfYgSsEjGxSzwcz2CSB5EiVFGPiEQydlFUQYzrP4nM=; b=S0mjSwU/SrZ1XEZca41kvZbh1FFghiQxgGRfLZ2wOAHyPEHw/HM36K0nVdQX8W2Mcj XdATcnv4AXugOktWXvSPJ7W8TyOUKvgo84TIDcflchLdCeoTX4LKhMD2eSj8aXWXaGH/ uWOikIEe2YVIBPkW0qOoaa5mhDcjLdYxiryhfSIicdKSfhcOkxrUeF6XvAeiwQ7P5vKL oOY8S/b+NSgyFLqODz3ARaekBOdUmJUymchR2p/8NHJwG8tGvsREiOzjBiub+hGOuP3g 52BqcMpTDXP5g1lnjj5OGLveEAZNIbR8snwitpePqAwC40ebsTHLPfspEPFqjhUwI72X 8f0A== X-Gm-Message-State: AOJu0YyphorI2LNeJha4UsMMFiw7Q9C0a1DSLuPY1WfG4j8NkODjgihu AD0jvQfxYa7F56z9uMfgCyuCj9DQnIwR72sc/PV3nt6cmqEODd5TtRKS1jiuMZizGRfwnPJJfcI qAEgdKajBkfVbAnYZs7l95t2tcsXZDHVCVQCI3nr6 X-Gm-Gg: ASbGnctdGxnM12ca8Egrkvi4RGL1+M+2X0S9SIWSizaiEcnE8eEVZAUmlHrgVbzrQzi ykI7cvCq0yfdmDyht1auFZrk3h0ky9mlHHgtXrfny7MvtxK8WTYlw3hGxWmKWfWJwwmkkUKIN7I DKhD9AnqUivpMuerC1pJ8elk1Q8aG4h8mgHqoTarBwRJq/68Z3u7/ibotRQnlTUtGY6UNYa3elW SXV09c+eqTkIKY+A9EX7QI/pw3QQPH+cD3vkq03j9cjGst+Nc2GpjcpK8VpVaiLsD3zr/XVZYbf CcLXS8RqvArvpG15Yk3nRbcm9R1MDD6PJqFX+GoP X-Google-Smtp-Source: AGHT+IHY2yJS0nfvbFUPEGFtHV7fv+hCyNRI533aeQ2OTNUCYGMaatk1tW/PhIBayPzSGcivtQWyRRLk94Hn X-Received: by 2002:a05:6830:618d:b0:72b:940a:a7c9 with SMTP id 46e09a7af769-72e37fd0065mr11107291a34.27.1744129546551; Tue, 08 Apr 2025 09:25:46 -0700 (PDT) Received: from postal.iol.unh.edu (postal.iol.unh.edu. [132.177.123.84]) by smtp-relay.gmail.com with ESMTPS id 46e09a7af769-72e65251adcsm65317a34.8.2025.04.08.09.25.46 (version=TLS1_2 cipher=ECDHE-ECDSA-AES128-GCM-SHA256 bits=128/128); Tue, 08 Apr 2025 09:25:46 -0700 (PDT) X-Relaying-Domain: iol.unh.edu Date: Tue, 08 Apr 2025 09:25:46 -0700 (PDT) Message-ID: <67f54e0a.050a0220.2a48.3635SMTPIN_ADDED_MISSING@mx.google.com> Received: from [172.21.0.5] (unknown [172.18.0.240]) by postal.iol.unh.edu (Postfix) with ESMTP id 051DA6052471; Tue, 8 Apr 2025 12:25:46 -0400 (EDT) Subject: |SUCCESS| pw152831 [PATCH] [RFC,1/1] build: support ThreadSanitizer From: dpdklab@iol.unh.edu To: Test Report Cc: dpdk-test-reports@iol.unh.edu In-Reply-To: <20250408130556.1054041-2-huangdengdui@huawei.com> References: <20250408130556.1054041-2-huangdengdui@huawei.com> Content-Type: text/plain X-BeenThere: test-report@dpdk.org X-Mailman-Version: 2.1.29 Precedence: list List-Id: automatic DPDK test reports List-Unsubscribe: , List-Archive: List-Post: List-Help: List-Subscribe: , Errors-To: test-report-bounces@dpdk.org Test-Label: iol-abi-testing Test-Status: SUCCESS http://dpdk.org/patch/152831 _Testing PASS_ Submitter: Dengdui Huang Date: Tuesday, April 08 2025 13:05:56 DPDK git baseline: Repo:dpdk Branch: master CommitID:8ee74a69abcf48563f05adeafecd298bb03477a8 152831 --> testing pass Upstream job id: Generic-DPDK-Compile-ABI#122593 Test environment and result as below: +-------------------+----------+ | Environment | abi_test | +===================+==========+ | CentOS Stream 9 | PASS | +-------------------+----------+ | CentOS Stream 10 | PASS | +-------------------+----------+ | Fedora 40 (Clang) | PASS | +-------------------+----------+ | Debian 12 | PASS | +-------------------+----------+ | Fedora 40 | PASS | +-------------------+----------+ | Fedora 41 (Clang) | PASS | +-------------------+----------+ | Fedora 41 | PASS | +-------------------+----------+ | openSUSE Leap 15 | PASS | +-------------------+----------+ | RHEL8 | PASS | +-------------------+----------+ | RHEL9 | PASS | +-------------------+----------+ | Ubuntu 24.04 | PASS | +-------------------+----------+ | Ubuntu 22.04 | PASS | +-------------------+----------+ CentOS Stream 9 Kernel: Depends on container host Compiler: gcc 11.5.0 20240719 (Red Hat 11.5.0-2) CentOS Stream 10 Kernel: Depends on container host Compiler: gcc 14.2.1 20241104 (Red Hat 14.2.1-6) Fedora 40 (Clang) Kernel: Depends on container host Compiler: clang 18.1.8 (Fedora 18.1.8-1.fc40) Debian 12 Kernel: Depends on container host Compiler: gcc (Debian 12.2.0-14) 12.2.0 Fedora 40 Kernel: Depends on container host Compiler: gcc 14.2.1 20240912 (Red Hat 14.2.1-3) Fedora 41 (Clang) Kernel: Depends on container host Compiler: clang 19.1.5 (Fedora 19.1.5-1.fc41) Fedora 41 Kernel: Depends on container host Compiler: gcc 14.2.1 20240912 (Red Hat 14.2.1-3) openSUSE Leap 15 Kernel: Depends on container host Compiler: gcc (SUSE Linux) 7.5.0 RHEL8 Kernel: Depends on container host Compiler: gcc 8.5.0 20210514 (Red Hat 8.5.0-22) RHEL9 Kernel: Depends on container host Compiler: gcc 11.5.0 20240719 (Red Hat 11.5.0-2) Ubuntu 24.04 Kernel: Depends on container host Compiler: gcc (Ubuntu 13.3.0-6ubuntu2~24.04) 13.3.0 Ubuntu 22.04 Kernel: Depends on container host Compiler: gcc (Ubuntu 11.4.0-1ubuntu1~22.04) 11.4.0 To view detailed results, visit: https://lab.dpdk.org/results/dashboard/patchsets/32966/ UNH-IOL DPDK Community Lab To manage your email subscriptions, visit: https://lab.dpdk.org/results/dashboard/preferences/subscriptions/