From mboxrd@z Thu Jan 1 00:00:00 1970 Return-Path: Received: from mails.dpdk.org (mails.dpdk.org [217.70.189.124]) by inbox.dpdk.org (Postfix) with ESMTP id 807DC46536 for ; Tue, 8 Apr 2025 18:28:37 +0200 (CEST) Received: from mails.dpdk.org (localhost [127.0.0.1]) by mails.dpdk.org (Postfix) with ESMTP id 584E440267; Tue, 8 Apr 2025 18:28:37 +0200 (CEST) Received: from mail-pg1-f226.google.com (mail-pg1-f226.google.com [209.85.215.226]) by mails.dpdk.org (Postfix) with ESMTP id CC22040264 for ; Tue, 8 Apr 2025 18:28:35 +0200 (CEST) Received: by mail-pg1-f226.google.com with SMTP id 41be03b00d2f7-ae727e87c26so3875981a12.0 for ; Tue, 08 Apr 2025 09:28:35 -0700 (PDT) DKIM-Signature: v=1; a=rsa-sha256; c=relaxed/relaxed; d=iol.unh.edu; s=unh-iol; t=1744129715; x=1744734515; darn=dpdk.org; h=references:in-reply-to:cc:to:from:subject:message-id:date:from:to :cc:subject:date:message-id:reply-to; bh=GI1lMFnK61EvXfK97wKIfVLnAeEc626w8UDVJGTvODQ=; b=bRdCLjaEXEUTX+DC2TzVAtAyYTqmYyIwUbdyLn4Jwa4deEBZyQILe/Lamxeuqte4t5 KBJWcmDFTKo3QixlmzUThwSPQLuYJ/eliLwyeKMhd8Tg949qmNgwpGiUd2OtNCu8iikB AW/kT0hquBdCq9+dOisZTJnfEu9FDt4tXrWEw= X-Google-DKIM-Signature: v=1; a=rsa-sha256; c=relaxed/relaxed; d=1e100.net; s=20230601; t=1744129715; x=1744734515; h=references:in-reply-to:cc:to:from:subject:message-id:date :x-gm-message-state:from:to:cc:subject:date:message-id:reply-to; bh=GI1lMFnK61EvXfK97wKIfVLnAeEc626w8UDVJGTvODQ=; b=B+Gsp+bpv16lBpNSX9H8nHpVbrA2wJ3h/BHPalWWSHu8Cl7B+qSqzz9pOf8slN+KuY pejCi+ySDbe0vNpH1IgCJuDLDMfTnfI/oj8y3TzI+Ri5//55DA6FsdqdzqKMv0FAzsn3 LY8yHhVsZEpwHsz6Miw5RPEGi/+sfQyAPgcJwLZNmmKfiNcq0HPjw3FaeOgtwX1ex0N3 tNBi9A0CGbfjWG1eHjbDJtGvceCY7ba0bBNYRaTBSvlo5J7sg6Q0DNobJR5G3nu/mIhk YNmVrNc5nCua2xpqs/kG4G78tr9p+eJzQGgqR7j+Kh8MUvPrvUTGQ1E0emgDFGXjvPYQ frtA== X-Gm-Message-State: AOJu0YzHFShfpekipNzXpTIpNF0LHQV+W/7wnUFjVd38squjMtHUulcE IHyIaQJBZQXNpVP6GMQHoT5/ZExKPrJD8JU/mo2xB7gBZOqud7Lb1HyU0oRVGs5RXpWpp1kP3jZ v/bGbnWjXZ0ZDjqOYCBpFxVL/GzM1GxYeaoscAD2UlSBVgQKrKt8jQG23 X-Gm-Gg: ASbGncuiv/OFJKvGrj2pcWiKVhcsTR4GQiuHX0B8BzArKEVwgGK8ht6qXRsMz+eX+rL Bw287ZJeXByC0pzBDz7USK44//zxAL2uaF23vVR3mefXPeDk2HgmcnE32h+65fnpOUWl6l2eoVM 8xKDI/28NBox0WYlHzl7ZZh+irTaN6tBL9Rc5p8GgAlvGAPls8LxvXs5DrCosNNkMiMwXJEgYFm J114Sxii7HsKHuTDW8Q0Ea/lwLZW3kMtXHQWq9uOzjiq8zArGd2m1Jqf8ug+1UGL3NFa+o3Jxf0 Kw/7kKw8vmonKFyWz2Ul7cDcLieQhYPBi2fJQR7JM3gwgT3YeR46 X-Google-Smtp-Source: AGHT+IFWc4Q5nWhR78CjHwnAnq2YA6bXI+OrccNt5U8wkEXuVomVl0bjF8sEzy7IwyAQnAzVTLKB/+TFwoLh X-Received: by 2002:a17:90b:3bcb:b0:305:5f55:899 with SMTP id 98e67ed59e1d1-306a4860ad0mr23280256a91.11.1744129714980; Tue, 08 Apr 2025 09:28:34 -0700 (PDT) Received: from postal.iol.unh.edu (postal.iol.unh.edu. [2606:4100:3880:1234::84]) by smtp-relay.gmail.com with ESMTPS id 98e67ed59e1d1-3057ca2349asm1027642a91.2.2025.04.08.09.28.34 (version=TLS1_2 cipher=ECDHE-ECDSA-AES128-GCM-SHA256 bits=128/128); Tue, 08 Apr 2025 09:28:34 -0700 (PDT) X-Relaying-Domain: iol.unh.edu Date: Tue, 08 Apr 2025 09:28:34 -0700 (PDT) Message-ID: <67f54eb2.170a0220.12ad8.6ed0SMTPIN_ADDED_MISSING@mx.google.com> Received: from [172.21.0.7] (unknown [172.18.0.240]) by postal.iol.unh.edu (Postfix) with ESMTP id 2F3B06052471; Tue, 8 Apr 2025 12:28:34 -0400 (EDT) Subject: |SUCCESS| pw152831 [PATCH] [RFC,1/1] build: support ThreadSanitizer From: dpdklab@iol.unh.edu To: Test Report Cc: dpdk-test-reports@iol.unh.edu In-Reply-To: <20250408130556.1054041-2-huangdengdui@huawei.com> References: <20250408130556.1054041-2-huangdengdui@huawei.com> Content-Type: text/plain X-BeenThere: test-report@dpdk.org X-Mailman-Version: 2.1.29 Precedence: list List-Id: automatic DPDK test reports List-Unsubscribe: , List-Archive: List-Post: List-Help: List-Subscribe: , Errors-To: test-report-bounces@dpdk.org Test-Label: iol-abi-testing Test-Status: SUCCESS http://dpdk.org/patch/152831 _Testing PASS_ Submitter: Dengdui Huang Date: Tuesday, April 08 2025 13:05:56 DPDK git baseline: Repo:dpdk Branch: master CommitID:8ee74a69abcf48563f05adeafecd298bb03477a8 152831 --> testing pass Upstream job id: Generic-DPDK-Compile-ABI#122601 Test environment and result as below: +-------------------+----------+ | Environment | abi_test | +===================+==========+ | CentOS Stream 9 | PASS | +-------------------+----------+ | CentOS Stream 10 | PASS | +-------------------+----------+ | Fedora 40 (Clang) | PASS | +-------------------+----------+ | Debian 12 | PASS | +-------------------+----------+ | Fedora 40 | PASS | +-------------------+----------+ | Fedora 41 (Clang) | PASS | +-------------------+----------+ | Fedora 41 | PASS | +-------------------+----------+ | openSUSE Leap 15 | PASS | +-------------------+----------+ | RHEL8 | PASS | +-------------------+----------+ | RHEL9 | PASS | +-------------------+----------+ | Ubuntu 24.04 | PASS | +-------------------+----------+ | Ubuntu 22.04 | PASS | +-------------------+----------+ CentOS Stream 9 Kernel: Depends on container host Compiler: gcc 11.5.0 20240719 (Red Hat 11.5.0-2) CentOS Stream 10 Kernel: Depends on container host Compiler: gcc 14.2.1 20241104 (Red Hat 14.2.1-6) Fedora 40 (Clang) Kernel: Depends on container host Compiler: clang 18.1.8 (Fedora 18.1.8-1.fc40) Debian 12 Kernel: Depends on container host Compiler: gcc (Debian 12.2.0-14) 12.2.0 Fedora 40 Kernel: Depends on container host Compiler: gcc 14.2.1 20240912 (Red Hat 14.2.1-3) Fedora 41 (Clang) Kernel: Depends on container host Compiler: clang 19.1.5 (Fedora 19.1.5-1.fc41) Fedora 41 Kernel: Depends on container host Compiler: gcc 14.2.1 20240912 (Red Hat 14.2.1-3) openSUSE Leap 15 Kernel: Depends on container host Compiler: gcc (SUSE Linux) 7.5.0 RHEL8 Kernel: Depends on container host Compiler: gcc 8.5.0 20210514 (Red Hat 8.5.0-22) RHEL9 Kernel: Depends on container host Compiler: gcc 11.5.0 20240719 (Red Hat 11.5.0-2) Ubuntu 24.04 Kernel: Depends on container host Compiler: gcc (Ubuntu 13.3.0-6ubuntu2~24.04) 13.3.0 Ubuntu 22.04 Kernel: Depends on container host Compiler: gcc (Ubuntu 11.4.0-1ubuntu1~22.04) 11.4.0 To view detailed results, visit: https://lab.dpdk.org/results/dashboard/patchsets/32966/ UNH-IOL DPDK Community Lab To manage your email subscriptions, visit: https://lab.dpdk.org/results/dashboard/preferences/subscriptions/