From mboxrd@z Thu Jan 1 00:00:00 1970 Return-Path: Received: from mails.dpdk.org (mails.dpdk.org [217.70.189.124]) by inbox.dpdk.org (Postfix) with ESMTP id 9645746536 for ; Tue, 8 Apr 2025 18:35:16 +0200 (CEST) Received: from mails.dpdk.org (localhost [127.0.0.1]) by mails.dpdk.org (Postfix) with ESMTP id 90DA2402C3; Tue, 8 Apr 2025 18:35:16 +0200 (CEST) Received: from mail-oo1-f99.google.com (mail-oo1-f99.google.com [209.85.161.99]) by mails.dpdk.org (Postfix) with ESMTP id 978E040264 for ; Tue, 8 Apr 2025 18:35:15 +0200 (CEST) Received: by mail-oo1-f99.google.com with SMTP id 006d021491bc7-5fcef5dc742so1687238eaf.1 for ; Tue, 08 Apr 2025 09:35:15 -0700 (PDT) DKIM-Signature: v=1; a=rsa-sha256; c=relaxed/relaxed; d=iol.unh.edu; s=unh-iol; t=1744130115; x=1744734915; darn=dpdk.org; h=references:in-reply-to:cc:to:from:subject:message-id:date:from:to :cc:subject:date:message-id:reply-to; bh=F4zigP0yppFsauciDzKPYjB1yfUOKm+bngA6MGhdkEI=; b=ZpADt8dhNmVsrFfP4hwuTZxJWiQ6+UoPeSUBeauELHsJar0UPw329sh5XSD8TbET6C 39fCo7snf4D7CYF0AmC0RLvnaYUR4GDKZw7QbgEnn0PoE1LmTTRk0z/TsrTy/qPOxIk9 JE+tC5O2jtIXm6unTVH6ClqBWhk/9TMBn6Cmw= X-Google-DKIM-Signature: v=1; a=rsa-sha256; c=relaxed/relaxed; d=1e100.net; s=20230601; t=1744130115; x=1744734915; h=references:in-reply-to:cc:to:from:subject:message-id:date :x-gm-message-state:from:to:cc:subject:date:message-id:reply-to; bh=F4zigP0yppFsauciDzKPYjB1yfUOKm+bngA6MGhdkEI=; b=oXYWIEmFabqQpN6woq9FbYGn5KLPAPlmsDIs32th+0AkiGA2qsHxdENqnYcCbiaSyi cgXlUTBP0Kw/zXC8Sj6wc0kiF7g1zPLJSXQjteABreWxDXUkdJJNc6FZr5TVTe4NuCdC G2ckSprTW1G7C3Ep6UBJX4GrrLOIbvFKPuCFoyeO7bDFJvnfE8nynlzzrYcVAXRXAlC1 g0YNFf64qKc4rjTvfqFqxlu4ZVhDauewjImhMOCjqCYqX1WwvGsb9NGqmMxYWFtjslCH AsS8jDbk4R4yFN3nMBYGbfC+xq70EGE8S8gvNvFAVTtI2mF3juetPJCELc6ZcNILBJIH BUyA== X-Gm-Message-State: AOJu0YxBGvKAZ87PuYHkvjbpSG5IaJon+W14kzFCnrVe1h60FWmRt3Ls wkGQrWaiI3I65SN4AW4SSZQdIT702shKZO59T+E6u13YQsZVHTFl1maT+EsGl56Y+o2wc7o1NBm BgD6GuucdbPR0LYYibTCyIwI7vMPxIyMY2O7+eDJ/8CCC7AJNepUciMP9 X-Gm-Gg: ASbGnctc/gJK/5vF2telMxCXr4G1TNJQzbl2QlHKmG2YfDMNMj+bzU/PQRAI2V5GGSI Aw9TLsrcz1qWW4YtVPw2A6/ieNZhsuhZxpeVIMythoqqukL5xnZYBrL88HR1B8LyH8R97VKfd+9 c331O6aEqF8+keoIqKVteSTwJ6R0zJWV/IuCsGTT3WUSjKn8ZQMgSaqjF3/VeNNM2hSgycMjPrt XpzJPXgda8gdZPzGR1FvgM2f+J5vX5nLn4117A6+UPJnI6aRvmexB966KoIu87K1p0DWBDEttE/ blTmCpR3vtWuDsOn+lLSAP2HFUgozPEaG87eqFVRbylSdsxephAq X-Google-Smtp-Source: AGHT+IHL0AfX1v3Fk3eB0ymO8bZ5NuN1hFsx15qFKLzX3jYc5fmu8Zc1ELy/tBn079fKoLE5Ja5hLEXEySjZ X-Received: by 2002:a05:6820:1606:b0:603:f903:c85a with SMTP id 006d021491bc7-6041ff7dbaemr6383818eaf.4.1744130114872; Tue, 08 Apr 2025 09:35:14 -0700 (PDT) Received: from postal.iol.unh.edu (postal.iol.unh.edu. [2606:4100:3880:1234::84]) by smtp-relay.gmail.com with ESMTPS id 006d021491bc7-6044f718169sm85596eaf.16.2025.04.08.09.35.14 (version=TLS1_2 cipher=ECDHE-ECDSA-AES128-GCM-SHA256 bits=128/128); Tue, 08 Apr 2025 09:35:14 -0700 (PDT) X-Relaying-Domain: iol.unh.edu Date: Tue, 08 Apr 2025 09:35:14 -0700 (PDT) Message-ID: <67f55042.4a0a0220.2836d8.4bd3SMTPIN_ADDED_MISSING@mx.google.com> Received: from [172.17.0.3] (unknown [172.18.0.217]) by postal.iol.unh.edu (Postfix) with ESMTP id 568D56052471; Tue, 8 Apr 2025 12:35:14 -0400 (EDT) Subject: |SUCCESS| pw152831 [PATCH] [RFC,1/1] build: support ThreadSanitizer From: dpdklab@iol.unh.edu To: Test Report Cc: dpdk-test-reports@iol.unh.edu In-Reply-To: <20250408130556.1054041-2-huangdengdui@huawei.com> References: <20250408130556.1054041-2-huangdengdui@huawei.com> Content-Type: text/plain X-BeenThere: test-report@dpdk.org X-Mailman-Version: 2.1.29 Precedence: list List-Id: automatic DPDK test reports List-Unsubscribe: , List-Archive: List-Post: List-Help: List-Subscribe: , Errors-To: test-report-bounces@dpdk.org Test-Label: iol-unit-amd64-testing Test-Status: SUCCESS http://dpdk.org/patch/152831 _Testing PASS_ Submitter: Dengdui Huang Date: Tuesday, April 08 2025 13:05:56 DPDK git baseline: Repo:dpdk Branch: master CommitID:8ee74a69abcf48563f05adeafecd298bb03477a8 152831 --> testing pass Upstream job id: Generic-Unit-Test-DPDK#329460 Test environment and result as below: +-------------------+----------------+ | Environment | dpdk_unit_test | +===================+================+ | Debian 12 | PASS | +-------------------+----------------+ | CentOS Stream 10 | PASS | +-------------------+----------------+ | CentOS Stream 9 | PASS | +-------------------+----------------+ | Fedora 40 (Clang) | PASS | +-------------------+----------------+ | Fedora 41 (Clang) | PASS | +-------------------+----------------+ | RHEL9 | PASS | +-------------------+----------------+ | Fedora 40 | PASS | +-------------------+----------------+ | RHEL8 | PASS | +-------------------+----------------+ | Fedora 41 | PASS | +-------------------+----------------+ | Ubuntu 20.04 | PASS | +-------------------+----------------+ | Ubuntu 24.04 | PASS | +-------------------+----------------+ | Ubuntu 22.04 | PASS | +-------------------+----------------+ Debian 12 Kernel: Depends on container host Compiler: gcc (Debian 12.2.0-14) 12.2.0 CentOS Stream 10 Kernel: Depends on container host Compiler: gcc 14.2.1 20241104 (Red Hat 14.2.1-6) CentOS Stream 9 Kernel: Depends on container host Compiler: gcc 11.5.0 20240719 (Red Hat 11.5.0-2) Fedora 40 (Clang) Kernel: Depends on container host Compiler: clang 18.1.8 (Fedora 18.1.8-1.fc40) Fedora 41 (Clang) Kernel: Depends on container host Compiler: clang 19.1.5 (Fedora 19.1.5-1.fc41) RHEL9 Kernel: Depends on container host Compiler: gcc 11.5.0 20240719 (Red Hat 11.5.0-2) Fedora 40 Kernel: Depends on container host Compiler: gcc 14.2.1 20240912 (Red Hat 14.2.1-3) RHEL8 Kernel: Depends on container host Compiler: gcc 8.5.0 20210514 (Red Hat 8.5.0-22) Fedora 41 Kernel: Depends on container host Compiler: gcc 14.2.1 20240912 (Red Hat 14.2.1-3) Ubuntu 20.04 Kernel: Depends on container host Compiler: gcc (Ubuntu 9.4.0-1ubuntu1~20.04.2) 9.4.0 Ubuntu 24.04 Kernel: Depends on container host Compiler: gcc (Ubuntu 13.3.0-6ubuntu2~24.04) 13.3.0 Ubuntu 22.04 Kernel: Depends on container host Compiler: gcc (Ubuntu 11.4.0-1ubuntu1~22.04) 11.4.0 To view detailed results, visit: https://lab.dpdk.org/results/dashboard/patchsets/32966/ UNH-IOL DPDK Community Lab To manage your email subscriptions, visit: https://lab.dpdk.org/results/dashboard/preferences/subscriptions/