From mboxrd@z Thu Jan  1 00:00:00 1970
Return-Path: <test-report-bounces@dpdk.org>
Received: from mails.dpdk.org (mails.dpdk.org [217.70.189.124])
	by inbox.dpdk.org (Postfix) with ESMTP id CEB2846536
	for <public@inbox.dpdk.org>; Tue,  8 Apr 2025 18:56:38 +0200 (CEST)
Received: from mails.dpdk.org (localhost [127.0.0.1])
	by mails.dpdk.org (Postfix) with ESMTP id C975F40267;
	Tue,  8 Apr 2025 18:56:38 +0200 (CEST)
Received: from mail-il1-f225.google.com (mail-il1-f225.google.com
 [209.85.166.225])
 by mails.dpdk.org (Postfix) with ESMTP id A847440264
 for <test-report@dpdk.org>; Tue,  8 Apr 2025 18:56:37 +0200 (CEST)
Received: by mail-il1-f225.google.com with SMTP id
 e9e14a558f8ab-3d45503af24so53051965ab.2
 for <test-report@dpdk.org>; Tue, 08 Apr 2025 09:56:37 -0700 (PDT)
DKIM-Signature: v=1; a=rsa-sha256; c=relaxed/relaxed;
 d=iol.unh.edu; s=unh-iol; t=1744131397; x=1744736197; darn=dpdk.org;
 h=references:in-reply-to:cc:to:from:subject:message-id:date:from:to
 :cc:subject:date:message-id:reply-to;
 bh=ht8p8I2WnykArINHaHwBdinxU+qDS/1cAnmg/yn0VeY=;
 b=F21ZM4LEfEMNbUfSJBRxfVkaGA8HXg2oAn/36EkIu450jG6QEoXGMbKt5EfKFYtnkT
 F5qPdVIr9UmpkF8oW/RMTgUXvq+WZjAcVWnR+cwliHY7kSYhLHX4O4sgKihkTFxQpKHf
 fSVlbCW63t74/ZrXkCi4M3dcOBR7oUDGCWVDQ=
X-Google-DKIM-Signature: v=1; a=rsa-sha256; c=relaxed/relaxed;
 d=1e100.net; s=20230601; t=1744131397; x=1744736197;
 h=references:in-reply-to:cc:to:from:subject:message-id:date
 :x-gm-message-state:from:to:cc:subject:date:message-id:reply-to;
 bh=ht8p8I2WnykArINHaHwBdinxU+qDS/1cAnmg/yn0VeY=;
 b=JomSIIFiywVBwYhz8vWOih1igtiaPPbS4+2Xpt7YAcVIHb3fOJuzERG5GadTfDUF8j
 8cVGLQHzcOREIRqckfaFewSlbWtgUZfqBVWLY5+NzwrTe4YMxWxSxw/pcfiz7AfF8o7z
 mQ1s0iy6NKKvq09zYvkcyb/agxo9SRUC1ssUR/dXGyWJbA3p3uGos8Cp1Km/zwlfAEh4
 fCWkjs2YeGKcCvpjPcA6zwATIxku7rQGik83IY0pylzi8RJw7naIiWG6u7KM9BgeGn9y
 R6fMxN2A6nLZAA8F+7QshzE64atipsJ95Zml6fX5Cm378KN5NitUT3sq01mk/HGFRZBb
 lFqw==
X-Gm-Message-State: AOJu0YzOwlvMZ1CZqkzi/cF0i5L9fVHgQ1X7K8qxXYgbxpoaEzY0m7Ky
 Er1s1g0lrbpkOijwpZaREJq1aZwSN//TmQ4MrFh441CsdS9xM+26JzIWvBLdHf4j0ieBIAo9eaO
 UxK+tzCQnJTXyf1Fya4Z3xQVXYb+WnIz36X6Ny/8i
X-Gm-Gg: ASbGnctey0mI4iP+X+cA5L11LauEMU6BLMOoGoRjP0atT6J7dGhxcXBIDYJILSAnYwx
 hZ9Hai6GeyorGt/K+b2jzL57NiZJ4m1fkNlIDmtW37kfEnzwn+ZBQ/X2UxQws1uRXX61GiK0VV1
 dLxkNApw8niZF4hg35f/cieK3SXvu3o1WIbnBxzCIBezUaLnzRMd50TQ4byo/SiX63GHBW+2+2R
 UlO9TBL8OSei4pMAAxJNKDdL3iq5yJnT0v5Y/sKLAiYkOJlgkuezPGLNworpm22c2Ct/petvdTE
 K1FPAMAw3ihe011T3Ok5ZVmZaMxe1B0x5kPOdfdh
X-Google-Smtp-Source: AGHT+IGYaodRYD51Qsnp9k1lith7sOkVzjNyap48cGedlrkQQ71HBmiI2m1hi+9UiuZS5uE2KZe6ZTdDoIlk
X-Received: by 2002:a05:6e02:1c2b:b0:3d0:239a:c46a with SMTP id
 e9e14a558f8ab-3d6e3f056admr173139415ab.9.1744131396940; 
 Tue, 08 Apr 2025 09:56:36 -0700 (PDT)
Received: from postal.iol.unh.edu (postal.iol.unh.edu. [132.177.123.84])
 by smtp-relay.gmail.com with ESMTPS id
 8926c6da1cb9f-4f4f44cf2c5sm123185173.69.2025.04.08.09.56.36
 (version=TLS1_2 cipher=ECDHE-ECDSA-AES128-GCM-SHA256 bits=128/128);
 Tue, 08 Apr 2025 09:56:36 -0700 (PDT)
X-Relaying-Domain: iol.unh.edu
Date: Tue, 08 Apr 2025 09:56:36 -0700 (PDT)
Message-ID: <67f55544.050a0220.1d3107.6ecfSMTPIN_ADDED_MISSING@mx.google.com>
Received: from [172.17.0.5] (unknown [172.18.0.217])
 by postal.iol.unh.edu (Postfix) with ESMTP id 74EBE6052472;
 Tue,  8 Apr 2025 12:56:36 -0400 (EDT)
Subject: |SUCCESS| pw152831 [PATCH] [RFC,1/1] build: support ThreadSanitizer
From: dpdklab@iol.unh.edu
To: Test Report <test-report@dpdk.org>
Cc: dpdk-test-reports@iol.unh.edu
In-Reply-To: <20250408130556.1054041-2-huangdengdui@huawei.com>
References: <20250408130556.1054041-2-huangdengdui@huawei.com>
Content-Type: text/plain
X-BeenThere: test-report@dpdk.org
X-Mailman-Version: 2.1.29
Precedence: list
List-Id: automatic DPDK test reports <test-report.dpdk.org>
List-Unsubscribe: <https://mails.dpdk.org/options/test-report>,
 <mailto:test-report-request@dpdk.org?subject=unsubscribe>
List-Archive: <http://mails.dpdk.org/archives/test-report/>
List-Post: <mailto:test-report@dpdk.org>
List-Help: <mailto:test-report-request@dpdk.org?subject=help>
List-Subscribe: <https://mails.dpdk.org/listinfo/test-report>,
 <mailto:test-report-request@dpdk.org?subject=subscribe>
Errors-To: test-report-bounces@dpdk.org

Test-Label: iol-unit-amd64-testing
Test-Status: SUCCESS
http://dpdk.org/patch/152831

_Testing PASS_

Submitter: Dengdui Huang <huangdengdui@huawei.com>
Date: Tuesday, April 08 2025 13:05:56 
DPDK git baseline: Repo:dpdk
  Branch: master
  CommitID:8ee74a69abcf48563f05adeafecd298bb03477a8

152831 --> testing pass

Upstream job id: Generic-VM-Unit-Test-DPDK#27851

Test environment and result as below:

+---------------------+----------------+
|     Environment     | dpdk_unit_test |
+=====================+================+
| Debian 12           | PASS           |
+---------------------+----------------+
| CentOS Stream 10    | PASS           |
+---------------------+----------------+
| CentOS Stream 9     | PASS           |
+---------------------+----------------+
| Fedora 40 (Clang)   | PASS           |
+---------------------+----------------+
| Fedora 41 (Clang)   | PASS           |
+---------------------+----------------+
| RHEL9               | PASS           |
+---------------------+----------------+
| Fedora 40           | PASS           |
+---------------------+----------------+
| RHEL8               | PASS           |
+---------------------+----------------+
| Fedora 41           | PASS           |
+---------------------+----------------+
| Ubuntu 20.04        | PASS           |
+---------------------+----------------+
| Ubuntu 24.04        | PASS           |
+---------------------+----------------+
| Ubuntu 22.04        | PASS           |
+---------------------+----------------+
| Windows Server 2022 | PASS           |
+---------------------+----------------+


Debian 12
	Kernel: Depends on container host
	Compiler: gcc (Debian 12.2.0-14) 12.2.0

CentOS Stream 10
	Kernel: Depends on container host
	Compiler: gcc 14.2.1 20241104 (Red Hat 14.2.1-6)

CentOS Stream 9
	Kernel: Depends on container host
	Compiler: gcc 11.5.0 20240719 (Red Hat 11.5.0-2)

Fedora 40 (Clang)
	Kernel: Depends on container host
	Compiler: clang 18.1.8 (Fedora 18.1.8-1.fc40)

Fedora 41 (Clang)
	Kernel: Depends on container host
	Compiler: clang 19.1.5 (Fedora 19.1.5-1.fc41)

RHEL9
	Kernel: Depends on container host
	Compiler: gcc 11.5.0 20240719 (Red Hat 11.5.0-2)

Fedora 40
	Kernel: Depends on container host
	Compiler: gcc 14.2.1 20240912 (Red Hat 14.2.1-3)

RHEL8
	Kernel: Depends on container host
	Compiler: gcc 8.5.0 20210514 (Red Hat 8.5.0-22)

Fedora 41
	Kernel: Depends on container host
	Compiler: gcc 14.2.1 20240912 (Red Hat 14.2.1-3)

Ubuntu 20.04
	Kernel: Depends on container host
	Compiler: gcc (Ubuntu 9.4.0-1ubuntu1~20.04.2) 9.4.0

Ubuntu 24.04
	Kernel: Depends on container host
	Compiler: gcc (Ubuntu 13.3.0-6ubuntu2~24.04) 13.3.0

Ubuntu 22.04
	Kernel: Depends on container host
	Compiler: gcc (Ubuntu 11.4.0-1ubuntu1~22.04) 11.4.0

Windows Server 2022
	Kernel: 10.0.20348.2031
	Compiler: clang 15.0.7, gcc 14.1.0 (MinGW), and MSVC VS 19.39.33521

To view detailed results, visit:
https://lab.dpdk.org/results/dashboard/patchsets/32966/

UNH-IOL DPDK Community Lab

To manage your email subscriptions, visit: 
https://lab.dpdk.org/results/dashboard/preferences/subscriptions/