From mboxrd@z Thu Jan 1 00:00:00 1970 Return-Path: Received: from mails.dpdk.org (mails.dpdk.org [217.70.189.124]) by inbox.dpdk.org (Postfix) with ESMTP id 748D846536 for ; Tue, 8 Apr 2025 19:02:19 +0200 (CEST) Received: from mails.dpdk.org (localhost [127.0.0.1]) by mails.dpdk.org (Postfix) with ESMTP id 6EF3040267; Tue, 8 Apr 2025 19:02:19 +0200 (CEST) Received: from mail-qt1-f225.google.com (mail-qt1-f225.google.com [209.85.160.225]) by mails.dpdk.org (Postfix) with ESMTP id CB47040264 for ; Tue, 8 Apr 2025 19:02:17 +0200 (CEST) Received: by mail-qt1-f225.google.com with SMTP id d75a77b69052e-476af5479feso56931661cf.2 for ; Tue, 08 Apr 2025 10:02:17 -0700 (PDT) DKIM-Signature: v=1; a=rsa-sha256; c=relaxed/relaxed; d=iol.unh.edu; s=unh-iol; t=1744131737; x=1744736537; darn=dpdk.org; h=references:in-reply-to:cc:to:from:subject:message-id:date:from:to :cc:subject:date:message-id:reply-to; bh=noweqNz2a1Km61D+I4Vg0PVUUP1pt+RjxsT6nG3Cn2Y=; b=IDZKGraQWqtzJQnHpNbB/zB2MD+ScYPjEqWzyJCcVuNo9tC0MUm/G3pvMjfJYkqP05 2vEv5r8gAbznBV4dTJPpX5u+f07XGVQ9ci7P82dqjaJD1HhR+PCDI+ke9/0hJWtqq0b7 pH4f//lWsYeae5Gu1SK9K130KdQKlk4OiCRbA= X-Google-DKIM-Signature: v=1; a=rsa-sha256; c=relaxed/relaxed; d=1e100.net; s=20230601; t=1744131737; x=1744736537; h=references:in-reply-to:cc:to:from:subject:message-id:date :x-gm-message-state:from:to:cc:subject:date:message-id:reply-to; bh=noweqNz2a1Km61D+I4Vg0PVUUP1pt+RjxsT6nG3Cn2Y=; b=a1DURL4KJ8Ho7Kn8+qpPbZoHubnGAjq+B1twXCTwjDcLyaiBXCIRK8iko7fZ3fzC6y fhWKllCahws8mepVdrAmICSBd3VT9O+NRe5W3OmGpdIjVemDiIOy9bi8TgiVndem0mnL 4RunE1qRYeuVH5PYdQC/uCd2bUuP8VVbIbDkRGIqEc8gr2NA8j7C2O9iWYHr6C5oQkqA ONTaEX6+l2EuhagwOIQJ49o7FE8tZaUlXgbYW9J/bv8WuudPBLVPABet5RE569o04qTk EfoaNMswuuif797E3el/K8lh2zTzSXDzezph4WkNFBUFngfgH5G6PYiLsPlK5PDBOHiz GxRw== X-Gm-Message-State: AOJu0YysATNkQLvMEECCbjfOgA38O7WlX4i8qnXkGl97vqcYqKFfD78x XsrBQAfpDt6HQ3mdrT0gj6AOAnH/OQqmd9pmLnT+55LLlpafC1w3sFmzrD7mmDUGgo+FHkoj0MR bR2mpqK4FfCYSU/bwfVVlcR+xEjtRFc4mphMaenm5O6GqNEcOd/V8DXBx X-Gm-Gg: ASbGnct8QXpX2PVbbGv8/lRzE59IJhGyrZshE8wNaOogfRleldHYltBxumlVVqeFIvV DeK5NEhLPaGmUOTIn1QE48lDofRzdvJM9QiRN+yeLDKUJj8/Mrix9mAVNEV9N83zzHHEBbIiUWz Vb4nIYpKeEnddCk/qt4aK40m6rHFgw+xXoYDpxIM0iHntC+syD7fYosdyszgBwtXUqN1o5jz5OU /yWFvpLS6rqV1BMCFlY3NBQHLI/+FTMY2TF8gEFcEPfh3WF6wyH2DcTMUbvpdO0pj43rV2P5NKi nec8HI9FcLbMFKwrE6GcY0y47uGEbS0j5tS4F1e5Ex2pc/V/vzkV X-Google-Smtp-Source: AGHT+IHsJ7CnTgAI4yWXbCFCWQBTRIWNl0lzTVsQTKbZ9gzhPpZGfQeYKKODwVujPuXFszGDCSuGk8Bmtz4H X-Received: by 2002:a05:622a:1188:b0:476:5fd5:4de6 with SMTP id d75a77b69052e-479249ac2e3mr256317431cf.40.1744131737064; Tue, 08 Apr 2025 10:02:17 -0700 (PDT) Received: from postal.iol.unh.edu (postal.iol.unh.edu. [2606:4100:3880:1234::84]) by smtp-relay.gmail.com with ESMTPS id d75a77b69052e-4791b120274sm7164881cf.19.2025.04.08.10.02.17 (version=TLS1_2 cipher=ECDHE-ECDSA-AES128-GCM-SHA256 bits=128/128); Tue, 08 Apr 2025 10:02:17 -0700 (PDT) X-Relaying-Domain: iol.unh.edu Date: Tue, 08 Apr 2025 10:02:17 -0700 (PDT) Message-ID: <67f55699.c80a0220.3906cd.dd78SMTPIN_ADDED_MISSING@mx.google.com> Received: from [172.17.0.4] (unknown [172.18.0.217]) by postal.iol.unh.edu (Postfix) with ESMTP id C2CD06052471; Tue, 8 Apr 2025 13:02:16 -0400 (EDT) Subject: |SUCCESS| pw152831 [PATCH] [RFC,1/1] build: support ThreadSanitizer From: dpdklab@iol.unh.edu To: Test Report Cc: dpdk-test-reports@iol.unh.edu In-Reply-To: <20250408130556.1054041-2-huangdengdui@huawei.com> References: <20250408130556.1054041-2-huangdengdui@huawei.com> Content-Type: text/plain X-BeenThere: test-report@dpdk.org X-Mailman-Version: 2.1.29 Precedence: list List-Id: automatic DPDK test reports List-Unsubscribe: , List-Archive: List-Post: List-Help: List-Subscribe: , Errors-To: test-report-bounces@dpdk.org Test-Label: iol-abi-testing Test-Status: SUCCESS http://dpdk.org/patch/152831 _Testing PASS_ Submitter: Dengdui Huang Date: Tuesday, April 08 2025 13:05:56 DPDK git baseline: Repo:dpdk Branch: master CommitID:8ee74a69abcf48563f05adeafecd298bb03477a8 152831 --> testing pass Upstream job id: Generic-DPDK-Compile-ABI#122610 Test environment and result as below: +-------------------+----------+ | Environment | abi_test | +===================+==========+ | CentOS Stream 10 | PASS | +-------------------+----------+ | CentOS Stream 9 | PASS | +-------------------+----------+ | Fedora 40 (Clang) | PASS | +-------------------+----------+ | Fedora 40 | PASS | +-------------------+----------+ | Debian 12 | PASS | +-------------------+----------+ | Fedora 41 (Clang) | PASS | +-------------------+----------+ | Fedora 41 | PASS | +-------------------+----------+ | openSUSE Leap 15 | PASS | +-------------------+----------+ | RHEL8 | PASS | +-------------------+----------+ | RHEL9 | PASS | +-------------------+----------+ | Ubuntu 24.04 | PASS | +-------------------+----------+ | Ubuntu 22.04 | PASS | +-------------------+----------+ CentOS Stream 10 Kernel: Depends on container host Compiler: gcc 14.2.1 20241104 (Red Hat 14.2.1-6) CentOS Stream 9 Kernel: Depends on container host Compiler: gcc 11.5.0 20240719 (Red Hat 11.5.0-2) Fedora 40 (Clang) Kernel: Depends on container host Compiler: clang 18.1.8 (Fedora 18.1.8-1.fc40) Fedora 40 Kernel: Depends on container host Compiler: gcc 14.2.1 20240912 (Red Hat 14.2.1-3) Debian 12 Kernel: Depends on container host Compiler: gcc (Debian 12.2.0-14) 12.2.0 Fedora 41 (Clang) Kernel: Depends on container host Compiler: clang 19.1.5 (Fedora 19.1.5-1.fc41) Fedora 41 Kernel: Depends on container host Compiler: gcc 14.2.1 20240912 (Red Hat 14.2.1-3) openSUSE Leap 15 Kernel: Depends on container host Compiler: gcc (SUSE Linux) 7.5.0 RHEL8 Kernel: Depends on container host Compiler: gcc 8.5.0 20210514 (Red Hat 8.5.0-22) RHEL9 Kernel: Depends on container host Compiler: gcc 11.5.0 20240719 (Red Hat 11.5.0-2) Ubuntu 24.04 Kernel: Depends on container host Compiler: gcc (Ubuntu 13.3.0-6ubuntu2~24.04) 13.3.0 Ubuntu 22.04 Kernel: Depends on container host Compiler: gcc (Ubuntu 11.4.0-1ubuntu1~22.04) 11.4.0 To view detailed results, visit: https://lab.dpdk.org/results/dashboard/patchsets/32966/ UNH-IOL DPDK Community Lab To manage your email subscriptions, visit: https://lab.dpdk.org/results/dashboard/preferences/subscriptions/