From mboxrd@z Thu Jan 1 00:00:00 1970 Return-Path: Received: from mails.dpdk.org (mails.dpdk.org [217.70.189.124]) by inbox.dpdk.org (Postfix) with ESMTP id 15F5246536 for ; Tue, 8 Apr 2025 19:15:50 +0200 (CEST) Received: from mails.dpdk.org (localhost [127.0.0.1]) by mails.dpdk.org (Postfix) with ESMTP id 0007640267; Tue, 8 Apr 2025 19:15:49 +0200 (CEST) Received: from mail-il1-f226.google.com (mail-il1-f226.google.com [209.85.166.226]) by mails.dpdk.org (Postfix) with ESMTP id 5A7C840264 for ; Tue, 8 Apr 2025 19:15:49 +0200 (CEST) Received: by mail-il1-f226.google.com with SMTP id e9e14a558f8ab-3d46fddf357so20558995ab.2 for ; Tue, 08 Apr 2025 10:15:49 -0700 (PDT) DKIM-Signature: v=1; a=rsa-sha256; c=relaxed/relaxed; d=iol.unh.edu; s=unh-iol; t=1744132548; x=1744737348; darn=dpdk.org; h=references:in-reply-to:cc:to:from:subject:message-id:date:from:to :cc:subject:date:message-id:reply-to; bh=FeMYCo2OdXNupD+73sTDodKPdw80VWYZrut73Aw1Hy8=; b=R1DhZQ5V0ZaXmA2c9Gdkm/QViXiCShgXRmCdt2HFg+6EcqCib/nD07EiTULjjfYFxL 9HgAXlVvnArtILD3Yvp0LtxpSPREMclRAFb+IU/Zc66Wn6IpP5h9LobJiAVByFXvIV7Y wBGLst5MZ4LyvvIbwYpDBr+cob4Qa/ZmJxRnY= X-Google-DKIM-Signature: v=1; a=rsa-sha256; c=relaxed/relaxed; d=1e100.net; s=20230601; t=1744132548; x=1744737348; h=references:in-reply-to:cc:to:from:subject:message-id:date :x-gm-message-state:from:to:cc:subject:date:message-id:reply-to; bh=FeMYCo2OdXNupD+73sTDodKPdw80VWYZrut73Aw1Hy8=; b=JyKFG/voc57mfkQW4GODbsFfvLIO683IWZXP1xoVQmLN8RSVSIdKIx6VfroVBlv0Pq pBf0D8/jHHdLSGfcouzrH6oE+FVArUsI12FmYNYaP+YGlJg5JwIiJa7+I0GRvmC61qZC LGhSGV5/JOSjIpWrVXQmZsxs9u6ovM/26Ag+3y8VikBwSXsrUeflNm0lzuMF8fR5n71a 1wqscAihg5+fqcQ1C9nq8OQ5JIXeJY8WX1GBHusG3V8xybTn81zN4Pm3X3ODq71CwhpK mbmD0ATm7sz5uDH6eI9NX8372kF7FRAnEL/Gf0wAwuxmrqh9bYJFs74N8iPB2NXg1Oya K6Ng== X-Gm-Message-State: AOJu0YxKQtIDoQ5CEVtcCxYY+1OE1h6zs1MhfZ86eeZeORz7XNZ38lA/ ebt6I3ZqYJHoJVQaPXKxUoJSp5IBKcvisVe1EcajTb3YJdSeWqT7SLof5pniIrWpLmGN7XYlwVM vPkM3wEkC5xDSMw+vPPkkKHZf1z9Cgdle/jK8a0S4jPpzPxuFlBDBuLZA X-Gm-Gg: ASbGncuqns0TGsYoBJaXVvedhY1lGKy6syWPDehKxcz3cR0gsPJ9gmFpDuOQWsB/Tow OgVI291BysoLEF8xuwMYI9SblQKM30mb/fhRNdS4/0UrNn5YAD5hOKDOm1vmX3QVTCevdIVDO1N GFaG1g9CY5pmxWd6OTuLrn1apxSDqDf3y0kZVQVZxfJi4tjCSOHnyrWZyhMLAc1iSWXo6W7RXvU uJ4v9JMplcrOelKHXfM7ndjVV7X1kx3esZBW7bMsc4gEU7qoRy8n4yF9wfpCE2j7pE+EmClPxGp SFP6DvQrK1bmEMrAe0XxfBgYpyLw+PTKTOPN5UchcSPlDQxWfi0x X-Google-Smtp-Source: AGHT+IGGPxNasflFx1rmSuN1+HI0YJ6EHmvQq5JoT8QMYhc2HCcCccDuO/eUu2MBfGx+UYZ15qK1xXLoeP3t X-Received: by 2002:a05:6e02:3398:b0:3d1:97dc:2f93 with SMTP id e9e14a558f8ab-3d6e586cd73mr161273185ab.20.1744132548462; Tue, 08 Apr 2025 10:15:48 -0700 (PDT) Received: from postal.iol.unh.edu (postal.iol.unh.edu. [2606:4100:3880:1234::84]) by smtp-relay.gmail.com with ESMTPS id e9e14a558f8ab-3d703b989f6sm1358635ab.33.2025.04.08.10.15.48 (version=TLS1_2 cipher=ECDHE-ECDSA-AES128-GCM-SHA256 bits=128/128); Tue, 08 Apr 2025 10:15:48 -0700 (PDT) X-Relaying-Domain: iol.unh.edu Date: Tue, 08 Apr 2025 10:15:48 -0700 (PDT) Message-ID: <67f559c4.920a0220.129768.805fSMTPIN_ADDED_MISSING@mx.google.com> Received: from [172.17.0.4] (unknown [172.18.0.217]) by postal.iol.unh.edu (Postfix) with ESMTP id F38CF6052471; Tue, 8 Apr 2025 13:15:47 -0400 (EDT) Subject: |SUCCESS| pw152831 [PATCH] [RFC,1/1] build: support ThreadSanitizer From: dpdklab@iol.unh.edu To: Test Report Cc: dpdk-test-reports@iol.unh.edu In-Reply-To: <20250408130556.1054041-2-huangdengdui@huawei.com> References: <20250408130556.1054041-2-huangdengdui@huawei.com> Content-Type: text/plain X-BeenThere: test-report@dpdk.org X-Mailman-Version: 2.1.29 Precedence: list List-Id: automatic DPDK test reports List-Unsubscribe: , List-Archive: List-Post: List-Help: List-Subscribe: , Errors-To: test-report-bounces@dpdk.org Test-Label: iol-sample-apps-testing Test-Status: SUCCESS http://dpdk.org/patch/152831 _Testing PASS_ Submitter: Dengdui Huang Date: Tuesday, April 08 2025 13:05:56 DPDK git baseline: Repo:dpdk Branch: master CommitID:8ee74a69abcf48563f05adeafecd298bb03477a8 152831 --> testing pass Upstream job id: ACVP-FIPS-testing#9476 Test environment and result as below: +--------------------+----------------------+----------------------+ | Environment | compressdev_zlib_pmd | dpdk_fips_validation | +====================+======================+======================+ | Ubuntu 22.04 (ARM) | PASS | SKIPPED | +--------------------+----------------------+----------------------+ | Ubuntu 22.04 | PASS | SKIPPED | +--------------------+----------------------+----------------------+ | Ubuntu 20.04 | SKIPPED | PASS | +--------------------+----------------------+----------------------+ Ubuntu 22.04 (ARM) Kernel: 5.15.0-97-generic Compiler: gcc gcc (Ubuntu 11.4.0-1ubuntu1~22.04) 11.4.0 Ubuntu 22.04 Kernel: 5.15.0-100-generic Compiler: gcc gcc (Ubuntu 11.4.0-1ubuntu1~22.04) 11.4.0 Ubuntu 20.04 Kernel: Depends on container host Compiler: gcc (Ubuntu 9.4.0-1ubuntu1~20.04.2) 9.4.0 To view detailed results, visit: https://lab.dpdk.org/results/dashboard/patchsets/32966/ UNH-IOL DPDK Community Lab To manage your email subscriptions, visit: https://lab.dpdk.org/results/dashboard/preferences/subscriptions/