From mboxrd@z Thu Jan 1 00:00:00 1970 Return-Path: Received: from mails.dpdk.org (mails.dpdk.org [217.70.189.124]) by inbox.dpdk.org (Postfix) with ESMTP id 2DD5C46536 for ; Tue, 8 Apr 2025 19:16:46 +0200 (CEST) Received: from mails.dpdk.org (localhost [127.0.0.1]) by mails.dpdk.org (Postfix) with ESMTP id 2973040267; Tue, 8 Apr 2025 19:16:46 +0200 (CEST) Received: from mail-qv1-f98.google.com (mail-qv1-f98.google.com [209.85.219.98]) by mails.dpdk.org (Postfix) with ESMTP id 75B0A40264 for ; Tue, 8 Apr 2025 19:16:45 +0200 (CEST) Received: by mail-qv1-f98.google.com with SMTP id 6a1803df08f44-6f0c30a1cb6so15777056d6.2 for ; Tue, 08 Apr 2025 10:16:45 -0700 (PDT) DKIM-Signature: v=1; a=rsa-sha256; c=relaxed/relaxed; d=iol.unh.edu; s=unh-iol; t=1744132605; x=1744737405; darn=dpdk.org; h=references:in-reply-to:cc:to:from:subject:message-id:date:from:to :cc:subject:date:message-id:reply-to; bh=HCGHARw7JGfiDTEDbohNUm7h7Ic6SDaFoUXUA7LBMmg=; b=LZfUGO2E0va9lHClTyYdI6t4Vfz7tWSnYtbFSpJ0VdkHZrB8WF5G+eNXWWpDqIMW01 k+pd5q5XWB3CDKren1fFy249q66PoMA1bokkqD0lK9ox6n8blFFs+JgRoKkV8cdHhzsr Rss4H5n6zkrEn5z3z1qZ7lCBOsJlbKYbMx0Y8= X-Google-DKIM-Signature: v=1; a=rsa-sha256; c=relaxed/relaxed; d=1e100.net; s=20230601; t=1744132605; x=1744737405; h=references:in-reply-to:cc:to:from:subject:message-id:date :x-gm-message-state:from:to:cc:subject:date:message-id:reply-to; bh=HCGHARw7JGfiDTEDbohNUm7h7Ic6SDaFoUXUA7LBMmg=; b=v09pQpE05GWOl0dinIUL14OwE2EnnT45daHWHSYBseFEXedo1G8OgM/S7yRdz31lmk msaTe5w8zEvm04oNNvG1xnzhUoqilHnl6oO9ljJZ+v8sZBe0HGQrNQIKOgc2zW6fen6s mFub50VU294jW6o3Nv3iEl22D43XsexmdnVKbZoxGhtN+2Dglex8L5GKR8kF/Sru769a 9WHAis1EHl321QKyqniBUi9hUGLLCqb0In15ZoLmb65Oiqu8UkpohlSp995Z1gyOVAcB /SGSaFeTTkLKr8sUunGj/V/3AV/HWOqeHdmnDIhAlrDlojbEvRZNL53JCfw8mVSu/zgG LLog== X-Gm-Message-State: AOJu0Yyw87em60BLUBouNl4IVhRK5wDjZ3wb3G4tALB9dF9zoTeHoKlQ s+Hi7dtlK9lAFR0lUa1FTjPoVMRi/1cD4hQQhcSj1cF1qfNyM968xrl83Fk0hah6sjX3VHWpf+7 pSu1OxChKd9SGoK6M3+wprzddKLx5KkrzbSFR/VlQ X-Gm-Gg: ASbGncuQm1Mwoq6PKJ+OYDLZ1LNeozSzAJpwmGRTa9VIuVGtf5BXqwy3MhhQDimMgiY +1P5I0QDVVxxbujacVVrkEVskcdefgYZfWTmiTHPlCQUrwOwO2RFjYzRjP/fqsIdiZgAz9bftEs QHshdZrUmXzNszbhK4qgi+Ad0triL7pyydIGv9UjXqeT9ArHN77tIDF0ygUWlHzU1eio9ApX177 vdiS/JBtqfxbP+xTw/9ezhXPCyc56Ui3uPdwbz/5v3v2m2zet2qaXmj0nH3WqEKYFUdCT/LPgG/ Qi7uheFWjbtepRq8p8+QBxpGLT70zKNKgVsk4tDk X-Google-Smtp-Source: AGHT+IELm5VIQwFjG0dQctvWnTbsepOuBlGLtYQSP6FK0S7a8LK76JUlzjp6KZdWu+KiJzp/i/qMQgBM+NLm X-Received: by 2002:ad4:576d:0:b0:6e6:684f:7f78 with SMTP id 6a1803df08f44-6f0dbb7ae64mr710156d6.3.1744132604950; Tue, 08 Apr 2025 10:16:44 -0700 (PDT) Received: from postal.iol.unh.edu (postal.iol.unh.edu. [132.177.123.84]) by smtp-relay.gmail.com with ESMTPS id 6a1803df08f44-6ef0efc0616sm8888406d6.10.2025.04.08.10.16.44 (version=TLS1_2 cipher=ECDHE-ECDSA-AES128-GCM-SHA256 bits=128/128); Tue, 08 Apr 2025 10:16:44 -0700 (PDT) X-Relaying-Domain: iol.unh.edu Date: Tue, 08 Apr 2025 10:16:44 -0700 (PDT) Message-ID: <67f559fc.050a0220.25876c.3b30SMTPIN_ADDED_MISSING@mx.google.com> Received: from [172.17.0.4] (unknown [172.18.0.217]) by postal.iol.unh.edu (Postfix) with ESMTP id A4A7F6052471; Tue, 8 Apr 2025 13:16:44 -0400 (EDT) Subject: |SUCCESS| pw152831 [PATCH] [RFC,1/1] build: support ThreadSanitizer From: dpdklab@iol.unh.edu To: Test Report Cc: dpdk-test-reports@iol.unh.edu In-Reply-To: <20250408130556.1054041-2-huangdengdui@huawei.com> References: <20250408130556.1054041-2-huangdengdui@huawei.com> Content-Type: text/plain X-BeenThere: test-report@dpdk.org X-Mailman-Version: 2.1.29 Precedence: list List-Id: automatic DPDK test reports List-Unsubscribe: , List-Archive: List-Post: List-Help: List-Subscribe: , Errors-To: test-report-bounces@dpdk.org Test-Label: iol-unit-amd64-testing Test-Status: SUCCESS http://dpdk.org/patch/152831 _Testing PASS_ Submitter: Dengdui Huang Date: Tuesday, April 08 2025 13:05:56 DPDK git baseline: Repo:dpdk Branch: master CommitID:8ee74a69abcf48563f05adeafecd298bb03477a8 152831 --> testing pass Upstream job id: Generic-Unit-Test-DPDK#329473 Test environment and result as below: +-------------------+----------------+ | Environment | dpdk_unit_test | +===================+================+ | CentOS Stream 9 | PASS | +-------------------+----------------+ | CentOS Stream 10 | PASS | +-------------------+----------------+ | Fedora 40 (Clang) | PASS | +-------------------+----------------+ | Fedora 41 | PASS | +-------------------+----------------+ | Fedora 41 (Clang) | PASS | +-------------------+----------------+ | Debian 12 | PASS | +-------------------+----------------+ | Fedora 40 | PASS | +-------------------+----------------+ | RHEL9 | PASS | +-------------------+----------------+ | Ubuntu 20.04 | PASS | +-------------------+----------------+ | Ubuntu 24.04 | PASS | +-------------------+----------------+ | RHEL8 | PASS | +-------------------+----------------+ | Ubuntu 22.04 | PASS | +-------------------+----------------+ CentOS Stream 9 Kernel: Depends on container host Compiler: gcc 11.5.0 20240719 (Red Hat 11.5.0-2) CentOS Stream 10 Kernel: Depends on container host Compiler: gcc 14.2.1 20241104 (Red Hat 14.2.1-6) Fedora 40 (Clang) Kernel: Depends on container host Compiler: clang 18.1.8 (Fedora 18.1.8-1.fc40) Fedora 41 Kernel: Depends on container host Compiler: gcc 14.2.1 20240912 (Red Hat 14.2.1-3) Fedora 41 (Clang) Kernel: Depends on container host Compiler: clang 19.1.5 (Fedora 19.1.5-1.fc41) Debian 12 Kernel: Depends on container host Compiler: gcc (Debian 12.2.0-14) 12.2.0 Fedora 40 Kernel: Depends on container host Compiler: gcc 14.2.1 20240912 (Red Hat 14.2.1-3) RHEL9 Kernel: Depends on container host Compiler: gcc 11.5.0 20240719 (Red Hat 11.5.0-2) Ubuntu 20.04 Kernel: Depends on container host Compiler: gcc (Ubuntu 9.4.0-1ubuntu1~20.04.2) 9.4.0 Ubuntu 24.04 Kernel: Depends on container host Compiler: gcc (Ubuntu 13.3.0-6ubuntu2~24.04) 13.3.0 RHEL8 Kernel: Depends on container host Compiler: gcc 8.5.0 20210514 (Red Hat 8.5.0-22) Ubuntu 22.04 Kernel: Depends on container host Compiler: gcc (Ubuntu 11.4.0-1ubuntu1~22.04) 11.4.0 To view detailed results, visit: https://lab.dpdk.org/results/dashboard/patchsets/32966/ UNH-IOL DPDK Community Lab To manage your email subscriptions, visit: https://lab.dpdk.org/results/dashboard/preferences/subscriptions/