From mboxrd@z Thu Jan 1 00:00:00 1970 Return-Path: Received: from mails.dpdk.org (mails.dpdk.org [217.70.189.124]) by inbox.dpdk.org (Postfix) with ESMTP id 48CCC46536 for ; Tue, 8 Apr 2025 19:35:02 +0200 (CEST) Received: from mails.dpdk.org (localhost [127.0.0.1]) by mails.dpdk.org (Postfix) with ESMTP id 42B9040267; Tue, 8 Apr 2025 19:35:02 +0200 (CEST) Received: from mail-io1-f98.google.com (mail-io1-f98.google.com [209.85.166.98]) by mails.dpdk.org (Postfix) with ESMTP id E97D740264 for ; Tue, 8 Apr 2025 19:35:00 +0200 (CEST) Received: by mail-io1-f98.google.com with SMTP id ca18e2360f4ac-85b3f92c866so105799339f.3 for ; Tue, 08 Apr 2025 10:35:00 -0700 (PDT) DKIM-Signature: v=1; a=rsa-sha256; c=relaxed/relaxed; d=iol.unh.edu; s=unh-iol; t=1744133700; x=1744738500; darn=dpdk.org; h=references:in-reply-to:cc:to:from:subject:message-id:date:from:to :cc:subject:date:message-id:reply-to; bh=NbwGN6G0KXJGktxenvIVSB8o51agx6EgJQ9Z6KrBPgo=; b=aeyZ8QLQT1kl1L5cPM/ucx/AYT2odu1ENVtc/nS91Pl50kFX4SY2BRL61YEw8WsWoo m+sbrBpBxW7HH8xgUHOYgEcnUakvd4ZOAeODgN2HDSoMBny2deGaE1aInqJWuEsFW308 eJxvOPx/ERJ/GkDJEs6zgcp9OpXttqFmKZ+0M= X-Google-DKIM-Signature: v=1; a=rsa-sha256; c=relaxed/relaxed; d=1e100.net; s=20230601; t=1744133700; x=1744738500; h=references:in-reply-to:cc:to:from:subject:message-id:date :x-gm-message-state:from:to:cc:subject:date:message-id:reply-to; bh=NbwGN6G0KXJGktxenvIVSB8o51agx6EgJQ9Z6KrBPgo=; b=KCt46cSzWG16uVFpMjVkMoz+B3GGOrL2sIEgpD2w6lPZwB4DsvQh1JhdBx8+oBxFMh QUVhbazmxxCjJ/bqzy4E6WnIMoneCommRpdUs5W20Iw6wPusLRYFfgsqXKdxUdAZ4UCp oExJg8sRl3nm5M7DPnfQSYnloc5Vl3la6dBRLwd9uDLWaprDFAdndEHuySC9TwgjTYiH N1/78y5FjtsETh6eLQwihdAxJpBINUYWIQY1cRYLou022tGIRHiqISvJXruGXpcv+hFy 55vJDsLwMLE4DLBc9/KTuRyk9v/Psq7rjoVO8ghjYy3vlLqmjNdtp9VXGF9d8ss6AjOZ NF1w== X-Gm-Message-State: AOJu0Yygq57sfGAvOvtIX0CFzQ6q21hXF0Zjd/h0R0XAjLpFn4pjzK4m w/0YepambkgV+Yljew0qTJALKX9f3SUvlqjC9VLGHamTiTf60WhOULbfYcpUaW7TBBF+0htYKdO YatCCAUhfqzoDDyZyxgo5qqlJyUlHH3aUDC3ndjXi7pX2NTQG21oNULx7 X-Gm-Gg: ASbGnctrbUjFSC+Us4OSv2iXS6fscPtme/+Fzd0aayY6JuRsH2fKVlpgwXOfwIIwOxc 07ZiBOadaiuhhLqeKw1vgObUA8fF+43uKLV+TkRL49iR49M+JDz+PZAx5OOGSXOTzAuCWIvEohH FfWf8QhZyyRk1jkjOWjgTsmNhvkGQYxA9cPdoxGoC+Uwi+zKuI0N018mp1GKpMEIohZvVMX1b80 UWcoYw6eYBUbJyxHKu9NgX28OyrKbTFyM5hDiEcNAGmqFvK2ZqU5Q7phC/okG/nROE91136SOI2 Z5ZXX08m79aBxkLadrQvFcXUmMOITbNXgZbClfZML6EXj7UEpSoB X-Google-Smtp-Source: AGHT+IGvvTmH9CEPMXySXE9Ir/N9MMB00s3PQlOcBg6r1bVMNhewH1mo+kFn3BWG1bGxKOsECSo1fwsXAlyX X-Received: by 2002:a05:6602:394d:b0:85b:538e:1fad with SMTP id ca18e2360f4ac-8616119ceefmr2413439f.6.1744133700254; Tue, 08 Apr 2025 10:35:00 -0700 (PDT) Received: from postal.iol.unh.edu (postal.iol.unh.edu. [2606:4100:3880:1234::84]) by smtp-relay.gmail.com with ESMTPS id 8926c6da1cb9f-4f4f44cebe9sm130404173.65.2025.04.08.10.35.00 (version=TLS1_2 cipher=ECDHE-ECDSA-AES128-GCM-SHA256 bits=128/128); Tue, 08 Apr 2025 10:35:00 -0700 (PDT) X-Relaying-Domain: iol.unh.edu Date: Tue, 08 Apr 2025 10:35:00 -0700 (PDT) Message-ID: <67f55e44.050a0220.1f9633.71fbSMTPIN_ADDED_MISSING@mx.google.com> Received: from [172.17.0.4] (unknown [172.18.0.217]) by postal.iol.unh.edu (Postfix) with ESMTP id E2EE26052471; Tue, 8 Apr 2025 13:34:59 -0400 (EDT) Subject: |SUCCESS| pw152831 [PATCH] [RFC,1/1] build: support ThreadSanitizer From: dpdklab@iol.unh.edu To: Test Report Cc: dpdk-test-reports@iol.unh.edu In-Reply-To: <20250408130556.1054041-2-huangdengdui@huawei.com> References: <20250408130556.1054041-2-huangdengdui@huawei.com> Content-Type: text/plain X-BeenThere: test-report@dpdk.org X-Mailman-Version: 2.1.29 Precedence: list List-Id: automatic DPDK test reports List-Unsubscribe: , List-Archive: List-Post: List-Help: List-Subscribe: , Errors-To: test-report-bounces@dpdk.org Test-Label: iol-unit-arm64-testing Test-Status: SUCCESS http://dpdk.org/patch/152831 _Testing PASS_ Submitter: Dengdui Huang Date: Tuesday, April 08 2025 13:05:56 DPDK git baseline: Repo:dpdk Branch: master CommitID:8ee74a69abcf48563f05adeafecd298bb03477a8 152831 --> testing pass Upstream job id: Aarch32-Unit-Test#5869 Test environment and result as below: +-----------------------------+----------------+--------------+---------------------------+------------------------------+ | Environment | dpdk_unit_test | lpm_autotest | cryptodev_sw_zuc_autotest | cryptodev_sw_snow3g_autotest | +=============================+================+==============+===========================+==============================+ | CentOS Stream 9 (ARM) | PASS | SKIPPED | SKIPPED | SKIPPED | +-----------------------------+----------------+--------------+---------------------------+------------------------------+ | CentOS Stream 10 (ARM) | PASS | SKIPPED | SKIPPED | SKIPPED | +-----------------------------+----------------+--------------+---------------------------+------------------------------+ | Fedora 40 (ARM) | PASS | SKIPPED | SKIPPED | SKIPPED | +-----------------------------+----------------+--------------+---------------------------+------------------------------+ | Debian 12 (arm) | PASS | SKIPPED | PASS | PASS | +-----------------------------+----------------+--------------+---------------------------+------------------------------+ | Fedora 40 (ARM Clang) | PASS | SKIPPED | SKIPPED | SKIPPED | +-----------------------------+----------------+--------------+---------------------------+------------------------------+ | Fedora 41 (ARM Clang) | PASS | SKIPPED | SKIPPED | SKIPPED | +-----------------------------+----------------+--------------+---------------------------+------------------------------+ | RHEL9 (ARM) | PASS | SKIPPED | SKIPPED | SKIPPED | +-----------------------------+----------------+--------------+---------------------------+------------------------------+ | Ubuntu 20.04 (ARM) | PASS | SKIPPED | SKIPPED | SKIPPED | +-----------------------------+----------------+--------------+---------------------------+------------------------------+ | Fedora 41 (ARM) | PASS | SKIPPED | SKIPPED | SKIPPED | +-----------------------------+----------------+--------------+---------------------------+------------------------------+ | Ubuntu 22.04 (ARM) | PASS | SKIPPED | SKIPPED | SKIPPED | +-----------------------------+----------------+--------------+---------------------------+------------------------------+ | Ubuntu 24.04 (ARM) | PASS | SKIPPED | SKIPPED | SKIPPED | +-----------------------------+----------------+--------------+---------------------------+------------------------------+ | 32-bit Ubuntu 22.04.4 (ARM) | PASS | SKIPPED | SKIPPED | SKIPPED | +-----------------------------+----------------+--------------+---------------------------+------------------------------+ | Ubuntu 20.04 ARM SVE | SKIPPED | PASS | SKIPPED | SKIPPED | +-----------------------------+----------------+--------------+---------------------------+------------------------------+ CentOS Stream 9 (ARM) Kernel: Depends on container host Compiler: gcc 11.5.0 20240719 (Red Hat 11.5.0-2) CentOS Stream 10 (ARM) Kernel: Depends on container host Compiler: gcc 14.2.1 20241104 (Red Hat 14.2.1-6) Fedora 40 (ARM) Kernel: Depends on container host Compiler: gcc 14.2.1 20240912 (Red Hat 14.2.1-3) Debian 12 (arm) Kernel: Depends on container host Compiler: gcc (Debian 12.2.0-14) 12.2.0 Fedora 40 (ARM Clang) Kernel: Depends on container host Compiler: clang 18.1.8 (Fedora 18.1.8-1.fc40) Fedora 41 (ARM Clang) Kernel: Depends on container host Compiler: clang 19.1.5 (Fedora 19.1.5-1.fc41) RHEL9 (ARM) Kernel: Depends on container host Compiler: gcc 11.5.0 20240719 (Red Hat 11.5.0-2) Ubuntu 20.04 (ARM) Kernel: Depends on container host Compiler: gcc (Ubuntu 9.4.0-1ubuntu1~20.04.2) 9.4.0 Fedora 41 (ARM) Kernel: Depends on container host Compiler: gcc 14.2.1 20240912 (Red Hat 14.2.1-3) Ubuntu 22.04 (ARM) Kernel: Depends on container host Compiler: gcc (Ubuntu 11.4.0-1ubuntu1~22.04) 11.4.0 Ubuntu 24.04 (ARM) Kernel: Depends on container host Compiler: gcc (Ubuntu 13.3.0-6ubuntu2~24.04) 13.3.0 32-bit Ubuntu 22.04.4 (ARM) Kernel: 5.15.83+ aarch64 Compiler: gcc (Ubuntu 11.4.0-1ubuntu1~22.04) 11.4.0 Ubuntu 20.04 ARM SVE Kernel: Depends on container host Compiler: gcc (Ubuntu 10.5.0-1ubuntu1~20.04) 10.5.0 To view detailed results, visit: https://lab.dpdk.org/results/dashboard/patchsets/32966/ UNH-IOL DPDK Community Lab To manage your email subscriptions, visit: https://lab.dpdk.org/results/dashboard/preferences/subscriptions/