From mboxrd@z Thu Jan 1 00:00:00 1970 Return-Path: Received: from mails.dpdk.org (mails.dpdk.org [217.70.189.124]) by inbox.dpdk.org (Postfix) with ESMTP id 495E246536 for ; Tue, 8 Apr 2025 19:55:29 +0200 (CEST) Received: from mails.dpdk.org (localhost [127.0.0.1]) by mails.dpdk.org (Postfix) with ESMTP id 4262A4026B; Tue, 8 Apr 2025 19:55:29 +0200 (CEST) Received: from mail-il1-f225.google.com (mail-il1-f225.google.com [209.85.166.225]) by mails.dpdk.org (Postfix) with ESMTP id 92D9140267 for ; Tue, 8 Apr 2025 19:55:28 +0200 (CEST) Received: by mail-il1-f225.google.com with SMTP id e9e14a558f8ab-3d6d162e516so46260835ab.1 for ; Tue, 08 Apr 2025 10:55:28 -0700 (PDT) DKIM-Signature: v=1; a=rsa-sha256; c=relaxed/relaxed; d=iol.unh.edu; s=unh-iol; t=1744134928; x=1744739728; darn=dpdk.org; h=references:in-reply-to:cc:to:from:subject:message-id:date:from:to :cc:subject:date:message-id:reply-to; bh=ThTNOmEEhlvBBfYMvHiVpGmk+DtlzsT1S9BjOUTAyfc=; b=LZIq4C/JBH4HIfSqRn1y49/34d7OkGQhdOamRQPhrN5dN98eBGZoEcFBoxjMWEQmkn q5tnmV3jwf5UXavn9WCP9kGZABYtsbBMvOLJU8YUtnTInVmQzWyDBjOCcxMahY0x1yB6 58HKsF6ztSh2Bo6TRgkRzpX2b6fjjL4drqTnM= X-Google-DKIM-Signature: v=1; a=rsa-sha256; c=relaxed/relaxed; d=1e100.net; s=20230601; t=1744134928; x=1744739728; h=references:in-reply-to:cc:to:from:subject:message-id:date :x-gm-message-state:from:to:cc:subject:date:message-id:reply-to; bh=ThTNOmEEhlvBBfYMvHiVpGmk+DtlzsT1S9BjOUTAyfc=; b=rgrTS8nV7XABw0vkdu1Aih3lYKk4y8I48/T7svy4N5T4ypP0H9Hy4DB2qw847QOFZ9 9747DNN768VIZZQu2kpQnCf6wfWCY5jrwf2GRCTX5NDWnneul+QE8rBFhA7NG4805RTS 8v3xvkuVQm17gXXGeOJRTzcg26iXKXmoebsC39Pd4I923q7k50oF1f0aQWFhmEZ7z3k2 3mfO3InjvWGtwiYm1q/9Sm1R1SDp71/pIoZWth+eZ+rzc8rkeOYegEugEEn/wNJ/RgSG R0v+UfF7sF/vvb1pT1BGujkHKi1xN5uT3iGvF9xe0WyqyEetgcshnJkFnmuBKZ4g+YCa F49g== X-Gm-Message-State: AOJu0YyZT55CQBoHtN/adCOJIHZ5SNRdv32K0tG9kXdk7maO/TjtEQeh sH5K7aM4o0vy1Ik8NqaYLSR2aSyV/cAgYyO3MCpGfhUcQb4ukKW7yEa4e+MUk0a7vgoayiHGjts 8qI+a0nyUipcFYR3y31SmhDkd3i1gZ946eV6LATAHO22mc5Yia99QuLKd X-Gm-Gg: ASbGncuTTDrBIzgXmOmIN27XXcqaoQ9cXRm85SMoHDRtuNXnx2ujfb5TBvg2/qfB+d4 uLJWCTGHHaWazVPGh06qQoKKdl7nFttb+OcGpyDn2p918Dlbe6VC+3ZBHpqmQrvwXEuZBkOn9IO 5EL0jpjDUE4r2vkYjou/A3SYV/3l5yEiSADCJgloVMHBBnF2snTVgIgtG5a0zi4L24H9oH4kzFu pjlJ+jC+BbKcTE6AkNQEKe7KsvNX8dQcezVoxyzsBcKXOXJW89KCYaHzK6EDBCWf50BHa7lpFrS IugkzjW3AhzeWk00IlCV7bXTgSF2UapB7d8RGk8MkCDFvgj/jk5g X-Google-Smtp-Source: AGHT+IGZ95IEuUWrHfDkpT/m4eFCmZGmt64H1BlUYEQpvtfugwhfDaJwkrAWa6tgTPEmyZ/ZMDZi6bLycxTJ X-Received: by 2002:a05:6e02:180a:b0:3d3:d074:b0d2 with SMTP id e9e14a558f8ab-3d6ec52ce46mr166129325ab.2.1744134927922; Tue, 08 Apr 2025 10:55:27 -0700 (PDT) Received: from postal.iol.unh.edu (postal.iol.unh.edu. [2606:4100:3880:1234::84]) by smtp-relay.gmail.com with ESMTPS id 8926c6da1cb9f-4f4f43fc398sm132756173.41.2025.04.08.10.55.27 (version=TLS1_2 cipher=ECDHE-ECDSA-AES128-GCM-SHA256 bits=128/128); Tue, 08 Apr 2025 10:55:27 -0700 (PDT) X-Relaying-Domain: iol.unh.edu Date: Tue, 08 Apr 2025 10:55:27 -0700 (PDT) Message-ID: <67f5630f.050a0220.3280af.748cSMTPIN_ADDED_MISSING@mx.google.com> Received: from [172.21.0.6] (unknown [172.18.0.240]) by postal.iol.unh.edu (Postfix) with ESMTP id 73AF16052471; Tue, 8 Apr 2025 13:55:27 -0400 (EDT) Subject: |SUCCESS| pw152831 [PATCH] [RFC,1/1] build: support ThreadSanitizer From: dpdklab@iol.unh.edu To: Test Report Cc: dpdk-test-reports@iol.unh.edu In-Reply-To: <20250408130556.1054041-2-huangdengdui@huawei.com> References: <20250408130556.1054041-2-huangdengdui@huawei.com> Content-Type: text/plain X-BeenThere: test-report@dpdk.org X-Mailman-Version: 2.1.29 Precedence: list List-Id: automatic DPDK test reports List-Unsubscribe: , List-Archive: List-Post: List-Help: List-Subscribe: , Errors-To: test-report-bounces@dpdk.org Test-Label: iol-unit-amd64-testing Test-Status: SUCCESS http://dpdk.org/patch/152831 _Testing PASS_ Submitter: Dengdui Huang Date: Tuesday, April 08 2025 13:05:56 DPDK git baseline: Repo:dpdk Branch: master CommitID:8ee74a69abcf48563f05adeafecd298bb03477a8 152831 --> testing pass Upstream job id: Generic-VM-Unit-Test-DPDK#27852 Test environment and result as below: +---------------------+----------------+ | Environment | dpdk_unit_test | +=====================+================+ | Debian 12 | PASS | +---------------------+----------------+ | CentOS Stream 10 | PASS | +---------------------+----------------+ | CentOS Stream 9 | PASS | +---------------------+----------------+ | Fedora 40 (Clang) | PASS | +---------------------+----------------+ | Fedora 41 (Clang) | PASS | +---------------------+----------------+ | RHEL9 | PASS | +---------------------+----------------+ | Fedora 40 | PASS | +---------------------+----------------+ | RHEL8 | PASS | +---------------------+----------------+ | Fedora 41 | PASS | +---------------------+----------------+ | Ubuntu 20.04 | PASS | +---------------------+----------------+ | Ubuntu 24.04 | PASS | +---------------------+----------------+ | Ubuntu 22.04 | PASS | +---------------------+----------------+ | Windows Server 2022 | PASS | +---------------------+----------------+ Debian 12 Kernel: Depends on container host Compiler: gcc (Debian 12.2.0-14) 12.2.0 CentOS Stream 10 Kernel: Depends on container host Compiler: gcc 14.2.1 20241104 (Red Hat 14.2.1-6) CentOS Stream 9 Kernel: Depends on container host Compiler: gcc 11.5.0 20240719 (Red Hat 11.5.0-2) Fedora 40 (Clang) Kernel: Depends on container host Compiler: clang 18.1.8 (Fedora 18.1.8-1.fc40) Fedora 41 (Clang) Kernel: Depends on container host Compiler: clang 19.1.5 (Fedora 19.1.5-1.fc41) RHEL9 Kernel: Depends on container host Compiler: gcc 11.5.0 20240719 (Red Hat 11.5.0-2) Fedora 40 Kernel: Depends on container host Compiler: gcc 14.2.1 20240912 (Red Hat 14.2.1-3) RHEL8 Kernel: Depends on container host Compiler: gcc 8.5.0 20210514 (Red Hat 8.5.0-22) Fedora 41 Kernel: Depends on container host Compiler: gcc 14.2.1 20240912 (Red Hat 14.2.1-3) Ubuntu 20.04 Kernel: Depends on container host Compiler: gcc (Ubuntu 9.4.0-1ubuntu1~20.04.2) 9.4.0 Ubuntu 24.04 Kernel: Depends on container host Compiler: gcc (Ubuntu 13.3.0-6ubuntu2~24.04) 13.3.0 Ubuntu 22.04 Kernel: Depends on container host Compiler: gcc (Ubuntu 11.4.0-1ubuntu1~22.04) 11.4.0 Windows Server 2022 Kernel: 10.0.20348.2031 Compiler: clang 15.0.7, gcc 14.1.0 (MinGW), and MSVC VS 19.39.33521 To view detailed results, visit: https://lab.dpdk.org/results/dashboard/patchsets/32966/ UNH-IOL DPDK Community Lab To manage your email subscriptions, visit: https://lab.dpdk.org/results/dashboard/preferences/subscriptions/