From mboxrd@z Thu Jan 1 00:00:00 1970 Return-Path: Received: from mails.dpdk.org (mails.dpdk.org [217.70.189.124]) by inbox.dpdk.org (Postfix) with ESMTP id BAEBA46537 for ; Tue, 8 Apr 2025 20:07:59 +0200 (CEST) Received: from mails.dpdk.org (localhost [127.0.0.1]) by mails.dpdk.org (Postfix) with ESMTP id 925F94026B; Tue, 8 Apr 2025 20:07:59 +0200 (CEST) Received: from mail-pg1-f228.google.com (mail-pg1-f228.google.com [209.85.215.228]) by mails.dpdk.org (Postfix) with ESMTP id D362A40267 for ; Tue, 8 Apr 2025 20:07:58 +0200 (CEST) Received: by mail-pg1-f228.google.com with SMTP id 41be03b00d2f7-af9925bbeb7so4492767a12.3 for ; Tue, 08 Apr 2025 11:07:58 -0700 (PDT) DKIM-Signature: v=1; a=rsa-sha256; c=relaxed/relaxed; d=iol.unh.edu; s=unh-iol; t=1744135678; x=1744740478; darn=dpdk.org; h=references:in-reply-to:cc:to:from:subject:message-id:date:from:to :cc:subject:date:message-id:reply-to; bh=rwI3r0g96zYTasFOE9OaiYRo3hSbElQfjPaHLQturUk=; b=beL4/84vF5+6wIwY79Y59KCJKSVOCq8WSEASA/z5C2HU0QhEXfZftR9BRwwjmUsYgl +0GOOIfuG0kiJJYE53F9FZ5DvsNjDzWyXy1ko3vtHLSPkP/eMOePNb2+A+XS5VlcKsOn tRhYvmpvhCJFdgTwfj1I/yJrkoCkhboU6Qf7s= X-Google-DKIM-Signature: v=1; a=rsa-sha256; c=relaxed/relaxed; d=1e100.net; s=20230601; t=1744135678; x=1744740478; h=references:in-reply-to:cc:to:from:subject:message-id:date :x-gm-message-state:from:to:cc:subject:date:message-id:reply-to; bh=rwI3r0g96zYTasFOE9OaiYRo3hSbElQfjPaHLQturUk=; b=rWnbsOcaVdR3oz4mJts40NYTT4+REZxp992pCc5b0s1bRfz51ByIEii0yDGNd7I0cd 3OxPBx56tOWgeYDPmgHe70FpXKj9+I3mMRYwv85rUbdhzM23WewYs3g3oALOmGaLhFNc nMDqgqvE6BR9Pdcnz8l/ybzOjkmCZMX5h8Y0Uakv4foBsDSchqhQuMnBrqpysIak6r2k FlJ0hCq9Uh6PZXTDwFb9jodxuOcMwbKlgSQXlVa4sNRAu8EOk1ClCuUwDzTpD9r0/yuN 86D49e96Uo0++QnQNs5Rd3/tWgJtsXYXrUXPHAsxo0XbLE0PKZxw5jCIkA9WVvj1Od2x TL7Q== X-Gm-Message-State: AOJu0YzQJHUwKsh1cmONuPkU9Si7v7QD84SVwR3XXXV4z5fDTkdl8FPX +AK4I9vkm3jiOJmIuVJ26vEmnVc+mz4oOiOHC1Go1CiG54KxQf+gPC2r5ZQ0nfT0Yoyl8HnQftR 2Jgm5azCzuBvh6Z0f5yRTSiXng53XgEeJPKoh3YBL X-Gm-Gg: ASbGncuFdrD7cDcw1Im9H+s72m49qy/Y6S7V1GvKRGrIRg4tBE4bNw9RYVN9OTP6Yur rXLcfi6Ya4fA9zK9kC3OzClmO37Cy3BApkjKkvLAU/vQsecpfKGIA19jVm9zXe/AG7w/z1/PEv4 6tlR2uhsCfoQHeOJ8NHHxmsBbyMaH0z04EUdBN1YJdK4f/t2ryS5oippa0LC4EU62GtxkhdkmOI zrvwV/9A4dOEE0ES06pfhnC7y6uL/cgUoL8y7jdAo1AnyFTqZXhaN4VAKc6Y3K5Crahg8ldtXV7 B+8OpgOpSzu2fArT/OrX7sjclvD02NqbJiO1O4Cx X-Google-Smtp-Source: AGHT+IHwI7AdY2RVrPA5ivp+A8lvHmLZ7GiM9GtmVaiPltfrYy+UWacX4Wk0JebjFhuP6dkFF6Foikz5bgT2 X-Received: by 2002:a17:90b:51c3:b0:2f4:434d:c7f0 with SMTP id 98e67ed59e1d1-306dbb948d6mr313111a91.12.1744135677884; Tue, 08 Apr 2025 11:07:57 -0700 (PDT) Received: from postal.iol.unh.edu (postal.iol.unh.edu. [132.177.123.84]) by smtp-relay.gmail.com with ESMTPS id 98e67ed59e1d1-3057daabfd8sm929461a91.0.2025.04.08.11.07.57 (version=TLS1_2 cipher=ECDHE-ECDSA-AES128-GCM-SHA256 bits=128/128); Tue, 08 Apr 2025 11:07:57 -0700 (PDT) X-Relaying-Domain: iol.unh.edu Date: Tue, 08 Apr 2025 11:07:57 -0700 (PDT) Message-ID: <67f565fd.170a0220.d9445.661cSMTPIN_ADDED_MISSING@mx.google.com> Received: from [172.17.0.4] (unknown [172.18.0.217]) by postal.iol.unh.edu (Postfix) with ESMTP id 184456052471; Tue, 8 Apr 2025 14:07:57 -0400 (EDT) Subject: |SUCCESS| pw152831 [PATCH] [RFC,1/1] build: support ThreadSanitizer From: dpdklab@iol.unh.edu To: Test Report Cc: dpdk-test-reports@iol.unh.edu In-Reply-To: <20250408130556.1054041-2-huangdengdui@huawei.com> References: <20250408130556.1054041-2-huangdengdui@huawei.com> Content-Type: text/plain X-BeenThere: test-report@dpdk.org X-Mailman-Version: 2.1.29 Precedence: list List-Id: automatic DPDK test reports List-Unsubscribe: , List-Archive: List-Post: List-Help: List-Subscribe: , Errors-To: test-report-bounces@dpdk.org Test-Label: iol-compile-arm64-testing Test-Status: SUCCESS http://dpdk.org/patch/152831 _Testing PASS_ Submitter: Dengdui Huang Date: Tuesday, April 08 2025 13:05:56 DPDK git baseline: Repo:dpdk Branch: master CommitID:8ee74a69abcf48563f05adeafecd298bb03477a8 152831 --> testing pass Upstream job id: Generic-DPDK-Compile-Meson#378158 Test environment and result as below: +----------------------------------------+--------------------+ | Environment | dpdk_meson_compile | +========================================+====================+ | RHEL9 (ARM) | PASS | +----------------------------------------+--------------------+ | Ubuntu 20.04 ARM GCC Cross Compile | PASS | +----------------------------------------+--------------------+ | Ubuntu 20.04 ARM SVE | PASS | +----------------------------------------+--------------------+ | Debian 12 with MUSDK | PASS | +----------------------------------------+--------------------+ | Fedora 40 (ARM) | PASS | +----------------------------------------+--------------------+ | Fedora 41 (ARM) | PASS | +----------------------------------------+--------------------+ | Fedora 40 (ARM Clang) | PASS | +----------------------------------------+--------------------+ | Ubuntu 20.04 (ARM) | PASS | +----------------------------------------+--------------------+ | Ubuntu 22.04 (ARM) | PASS | +----------------------------------------+--------------------+ | Fedora 41 (ARM Clang) | PASS | +----------------------------------------+--------------------+ | Ubuntu 24.04 (ARM) | PASS | +----------------------------------------+--------------------+ | CentOS Stream 10 (ARM) | PASS | +----------------------------------------+--------------------+ | Debian 12 (arm) | PASS | +----------------------------------------+--------------------+ | CentOS Stream 9 (ARM) | PASS | +----------------------------------------+--------------------+ | Ubuntu 20.04 aarch32 GCC Cross Compile | PASS | +----------------------------------------+--------------------+ | Ubuntu 20.04 ARM Clang Cross Compile | PASS | +----------------------------------------+--------------------+ RHEL9 (ARM) Kernel: Depends on container host Compiler: gcc 11.5.0 20240719 (Red Hat 11.5.0-2) Ubuntu 20.04 ARM GCC Cross Compile Kernel: Depends on container host Compiler: aarch64-linux-gnu-gcc (Ubuntu 9.4.0-1ubuntu1~20.04.2) 9.4.0 Ubuntu 20.04 ARM SVE Kernel: Depends on container host Compiler: gcc (Ubuntu 10.5.0-1ubuntu1~20.04) 10.5.0 Debian 12 with MUSDK Kernel: Depends on container host Compiler: gcc (Debian 12.2.0-14) 12.2.0 Fedora 40 (ARM) Kernel: Depends on container host Compiler: gcc 14.2.1 20240912 (Red Hat 14.2.1-3) Fedora 41 (ARM) Kernel: Depends on container host Compiler: gcc 14.2.1 20240912 (Red Hat 14.2.1-3) Fedora 40 (ARM Clang) Kernel: Depends on container host Compiler: clang 18.1.8 (Fedora 18.1.8-1.fc40) Ubuntu 20.04 (ARM) Kernel: Depends on container host Compiler: gcc (Ubuntu 9.4.0-1ubuntu1~20.04.2) 9.4.0 Ubuntu 22.04 (ARM) Kernel: Depends on container host Compiler: gcc (Ubuntu 11.4.0-1ubuntu1~22.04) 11.4.0 Fedora 41 (ARM Clang) Kernel: Depends on container host Compiler: clang 19.1.5 (Fedora 19.1.5-1.fc41) Ubuntu 24.04 (ARM) Kernel: Depends on container host Compiler: gcc (Ubuntu 13.3.0-6ubuntu2~24.04) 13.3.0 CentOS Stream 10 (ARM) Kernel: Depends on container host Compiler: gcc 14.2.1 20241104 (Red Hat 14.2.1-6) Debian 12 (arm) Kernel: Depends on container host Compiler: gcc (Debian 12.2.0-14) 12.2.0 CentOS Stream 9 (ARM) Kernel: Depends on container host Compiler: gcc 11.5.0 20240719 (Red Hat 11.5.0-2) Ubuntu 20.04 aarch32 GCC Cross Compile Kernel: Depends on container host Compiler: gcc 9.4.0 Ubuntu 20.04 ARM Clang Cross Compile Kernel: Depends on container host Compiler: clang 10.0.0-4ubuntu1 To view detailed results, visit: https://lab.dpdk.org/results/dashboard/patchsets/32966/ UNH-IOL DPDK Community Lab To manage your email subscriptions, visit: https://lab.dpdk.org/results/dashboard/preferences/subscriptions/