From mboxrd@z Thu Jan  1 00:00:00 1970
Return-Path: <test-report-bounces@dpdk.org>
Received: from mails.dpdk.org (mails.dpdk.org [217.70.189.124])
	by inbox.dpdk.org (Postfix) with ESMTP id AF52E46537
	for <public@inbox.dpdk.org>; Tue,  8 Apr 2025 20:08:28 +0200 (CEST)
Received: from mails.dpdk.org (localhost [127.0.0.1])
	by mails.dpdk.org (Postfix) with ESMTP id AB9834026B;
	Tue,  8 Apr 2025 20:08:28 +0200 (CEST)
Received: from mail-yb1-f228.google.com (mail-yb1-f228.google.com
 [209.85.219.228])
 by mails.dpdk.org (Postfix) with ESMTP id 56A1940267
 for <test-report@dpdk.org>; Tue,  8 Apr 2025 20:08:27 +0200 (CEST)
Received: by mail-yb1-f228.google.com with SMTP id
 3f1490d57ef6-e6deb3eb7dbso4892869276.0
 for <test-report@dpdk.org>; Tue, 08 Apr 2025 11:08:27 -0700 (PDT)
DKIM-Signature: v=1; a=rsa-sha256; c=relaxed/relaxed;
 d=iol.unh.edu; s=unh-iol; t=1744135706; x=1744740506; darn=dpdk.org;
 h=references:in-reply-to:cc:to:from:subject:message-id:date:from:to
 :cc:subject:date:message-id:reply-to;
 bh=oRVPqyibhFje24uDu1PJnrJ34FYryIAuR7fShCR5kHo=;
 b=Iz6Q3hRflOah2b/bwzLAtdV+BkPlFa6C8q4ELt1dbWjL0ZOvJ4yCe7bylWt4o6VNrn
 SUAo85jpKRs53EMWoLEY8lEtulXUI4nK5xEItaguc9Jws/DtgCNO4m732AIjZB9jqe23
 IE5UJ7VlyRzeCGVwFQf5H1B7TzHh1zuNNH4Mc=
X-Google-DKIM-Signature: v=1; a=rsa-sha256; c=relaxed/relaxed;
 d=1e100.net; s=20230601; t=1744135706; x=1744740506;
 h=references:in-reply-to:cc:to:from:subject:message-id:date
 :x-gm-message-state:from:to:cc:subject:date:message-id:reply-to;
 bh=oRVPqyibhFje24uDu1PJnrJ34FYryIAuR7fShCR5kHo=;
 b=be5A29hJgUwf2nRpSYT53Zwnu9TqYT98O5ehFV3+HACXlCCbS8GZxELjNZDRTQS3/N
 HgfZs6JCtuYSkDiNUNZmtO40aa5yz0eA8BD7a0vJAfwK87X5cwtpptem0WrCahPI9zm+
 vIM5+X3NDFLrxoQJ+f8sM8MLFCHRVPJjp/n0zPWNG6V98BuOMiGQFT3Qgx9nSKBInFQd
 bZiaj9a2awdqsjldwayL0GvvqspnCBki2jdkhI4Tuz9hwSlYJu5g5HQNDHmXxS1r/NdS
 4yWol8yuDtqLNfLgnWtPbxtaCvwuv5fOQsBwLHoLlob3gXVB01UrXeuYBFyIWjnr060E
 E8IA==
X-Gm-Message-State: AOJu0Yx3VRPih7PYbl+ZRo271/SDN/LX9vmgw0unHJDRV7wQoT+18J4o
 lBU1aDBCKODUSyXV8eC4YBkkSldpmMeFVlMmkY8Ixs906/5nM+sMvTevhQ0sBj5fDHd4q41wnSP
 2F9HkMIYApp4fDXZmQSsD5rFGTdMKBZi9nizmWLtf
X-Gm-Gg: ASbGncvDN+5Yi355tjz1Vsz6u4tc2nHcjpnOKy1umQyzmJEbCwOClEQEihVuyPSpr4v
 EoOMl8ojQJEmIWXZrXXZnZ9rujHEihmnPJUA64CkzAnaLZfX45gzQsGOALHH/54fQLansDYoVAk
 LHPnsCyBOzdYos8hw98yq3xqaX4IUPA8g2IY+OLMGGFprD0lqhnZJxupH9ionzJHbLWR9ps+f/9
 qU5CWF7D8U1CA031k1tA8ekbwPyqTpcr7nn+k1F4yLjLQXheoqO09c5eLgfuY/g/GjII+SlFuyS
 fvA5YKPVI6s8x9HT8tdIjxoWvh4PQcOLDelKMBbW
X-Google-Smtp-Source: AGHT+IEdz8cpokz8GKt/REcRsvYyYXnK0lgbIbwBNSADyreu0YmigRSFL+FGBLFbRVAVCS7XRS3WzW42gQGa
X-Received: by 2002:a05:6902:2741:b0:e6d:f351:d611 with SMTP id
 3f1490d57ef6-e6e1f9a53demr27968452276.16.1744135706553; 
 Tue, 08 Apr 2025 11:08:26 -0700 (PDT)
Received: from postal.iol.unh.edu (postal.iol.unh.edu. [132.177.123.84])
 by smtp-relay.gmail.com with ESMTPS id
 00721157ae682-703d1e81bbasm10809307b3.38.2025.04.08.11.08.26
 (version=TLS1_2 cipher=ECDHE-ECDSA-AES128-GCM-SHA256 bits=128/128);
 Tue, 08 Apr 2025 11:08:26 -0700 (PDT)
X-Relaying-Domain: iol.unh.edu
Date: Tue, 08 Apr 2025 11:08:26 -0700 (PDT)
Message-ID: <67f5661a.810a0220.307d24.0af3SMTPIN_ADDED_MISSING@mx.google.com>
Received: from [172.17.0.4] (unknown [172.18.0.217])
 by postal.iol.unh.edu (Postfix) with ESMTP id 38BA86052471;
 Tue,  8 Apr 2025 14:08:26 -0400 (EDT)
Subject: |SUCCESS| pw152831 [PATCH] [RFC,1/1] build: support ThreadSanitizer
From: dpdklab@iol.unh.edu
To: Test Report <test-report@dpdk.org>
Cc: dpdk-test-reports@iol.unh.edu
In-Reply-To: <20250408130556.1054041-2-huangdengdui@huawei.com>
References: <20250408130556.1054041-2-huangdengdui@huawei.com>
Content-Type: text/plain
X-BeenThere: test-report@dpdk.org
X-Mailman-Version: 2.1.29
Precedence: list
List-Id: automatic DPDK test reports <test-report.dpdk.org>
List-Unsubscribe: <https://mails.dpdk.org/options/test-report>,
 <mailto:test-report-request@dpdk.org?subject=unsubscribe>
List-Archive: <http://mails.dpdk.org/archives/test-report/>
List-Post: <mailto:test-report@dpdk.org>
List-Help: <mailto:test-report-request@dpdk.org?subject=help>
List-Subscribe: <https://mails.dpdk.org/listinfo/test-report>,
 <mailto:test-report-request@dpdk.org?subject=subscribe>
Errors-To: test-report-bounces@dpdk.org

Test-Label: iol-unit-amd64-testing
Test-Status: SUCCESS
http://dpdk.org/patch/152831

_Testing PASS_

Submitter: Dengdui Huang <huangdengdui@huawei.com>
Date: Tuesday, April 08 2025 13:05:56 
DPDK git baseline: Repo:dpdk
  Branch: master
  CommitID:8ee74a69abcf48563f05adeafecd298bb03477a8

152831 --> testing pass

Upstream job id: Generic-VM-Unit-Test-DPDK#27853

Test environment and result as below:

+---------------------+----------------+
|     Environment     | dpdk_unit_test |
+=====================+================+
| CentOS Stream 9     | PASS           |
+---------------------+----------------+
| CentOS Stream 10    | PASS           |
+---------------------+----------------+
| Fedora 40 (Clang)   | PASS           |
+---------------------+----------------+
| Fedora 41           | PASS           |
+---------------------+----------------+
| Fedora 41 (Clang)   | PASS           |
+---------------------+----------------+
| Debian 12           | PASS           |
+---------------------+----------------+
| Fedora 40           | PASS           |
+---------------------+----------------+
| RHEL9               | PASS           |
+---------------------+----------------+
| Ubuntu 20.04        | PASS           |
+---------------------+----------------+
| Ubuntu 24.04        | PASS           |
+---------------------+----------------+
| RHEL8               | PASS           |
+---------------------+----------------+
| Ubuntu 22.04        | PASS           |
+---------------------+----------------+
| Windows Server 2022 | PASS           |
+---------------------+----------------+


CentOS Stream 9
	Kernel: Depends on container host
	Compiler: gcc 11.5.0 20240719 (Red Hat 11.5.0-2)

CentOS Stream 10
	Kernel: Depends on container host
	Compiler: gcc 14.2.1 20241104 (Red Hat 14.2.1-6)

Fedora 40 (Clang)
	Kernel: Depends on container host
	Compiler: clang 18.1.8 (Fedora 18.1.8-1.fc40)

Fedora 41
	Kernel: Depends on container host
	Compiler: gcc 14.2.1 20240912 (Red Hat 14.2.1-3)

Fedora 41 (Clang)
	Kernel: Depends on container host
	Compiler: clang 19.1.5 (Fedora 19.1.5-1.fc41)

Debian 12
	Kernel: Depends on container host
	Compiler: gcc (Debian 12.2.0-14) 12.2.0

Fedora 40
	Kernel: Depends on container host
	Compiler: gcc 14.2.1 20240912 (Red Hat 14.2.1-3)

RHEL9
	Kernel: Depends on container host
	Compiler: gcc 11.5.0 20240719 (Red Hat 11.5.0-2)

Ubuntu 20.04
	Kernel: Depends on container host
	Compiler: gcc (Ubuntu 9.4.0-1ubuntu1~20.04.2) 9.4.0

Ubuntu 24.04
	Kernel: Depends on container host
	Compiler: gcc (Ubuntu 13.3.0-6ubuntu2~24.04) 13.3.0

RHEL8
	Kernel: Depends on container host
	Compiler: gcc 8.5.0 20210514 (Red Hat 8.5.0-22)

Ubuntu 22.04
	Kernel: Depends on container host
	Compiler: gcc (Ubuntu 11.4.0-1ubuntu1~22.04) 11.4.0

Windows Server 2022
	Kernel: 10.0.20348.2031
	Compiler: clang 15.0.7, gcc 14.1.0 (MinGW), and MSVC VS 19.39.33521

To view detailed results, visit:
https://lab.dpdk.org/results/dashboard/patchsets/32966/

UNH-IOL DPDK Community Lab

To manage your email subscriptions, visit: 
https://lab.dpdk.org/results/dashboard/preferences/subscriptions/