From mboxrd@z Thu Jan 1 00:00:00 1970 Return-Path: Received: from mails.dpdk.org (mails.dpdk.org [217.70.189.124]) by inbox.dpdk.org (Postfix) with ESMTP id 54CAA46537 for ; Tue, 8 Apr 2025 20:23:39 +0200 (CEST) Received: from mails.dpdk.org (localhost [127.0.0.1]) by mails.dpdk.org (Postfix) with ESMTP id 275264026B; Tue, 8 Apr 2025 20:23:39 +0200 (CEST) Received: from mail-pl1-f226.google.com (mail-pl1-f226.google.com [209.85.214.226]) by mails.dpdk.org (Postfix) with ESMTP id AC65A40267 for ; Tue, 8 Apr 2025 20:23:37 +0200 (CEST) Received: by mail-pl1-f226.google.com with SMTP id d9443c01a7336-2295d78b433so59175595ad.2 for ; Tue, 08 Apr 2025 11:23:37 -0700 (PDT) DKIM-Signature: v=1; a=rsa-sha256; c=relaxed/relaxed; d=iol.unh.edu; s=unh-iol; t=1744136617; x=1744741417; darn=dpdk.org; h=references:in-reply-to:cc:to:from:subject:message-id:date:from:to :cc:subject:date:message-id:reply-to; bh=YPH/WsinOg9pekG0n/ad4T7MyEnkXQw1hfmn+6ks19g=; b=cwEczM+wPcq2n8MG19bKz7KV/8D3/7lJcta0FZOXaqO5iICy5V70eZtHGM9pZdWShu X/fan0k/7rFfsLAs6+8zuRK/Wl9xbn5sS3AZ8Vw8ghTq/6nssk0Wr4eS2Qf2TZpYiVNr CM6F5jbjyTukYWxVvsmDwwQEiteZ4LablQkmY= X-Google-DKIM-Signature: v=1; a=rsa-sha256; c=relaxed/relaxed; d=1e100.net; s=20230601; t=1744136617; x=1744741417; h=references:in-reply-to:cc:to:from:subject:message-id:date :x-gm-message-state:from:to:cc:subject:date:message-id:reply-to; bh=YPH/WsinOg9pekG0n/ad4T7MyEnkXQw1hfmn+6ks19g=; b=vx9RntFgd8PJfMfFHsa+z9sa03ha4vIvSaAwS7W7/2jfCR+0xGP/cIGw2/ASTVJLey EPpF6WLnXpWO4MjGZXHO2XLjpEukhBcGM++efRpx+08NZt9wylyQ+jXkdvxu/JCQMV5F WU/f423xKgHbtJv01EjmHL5FAFHazBr4XvANCc6IRa303IuOBp4ZkPK3eBIplhnWkP4Q JsiWsO6XPiMHkoFkuhGLEdbfktTbEboqRAa02d9TQ1HOiwAVUbiP0iCkOHq1Nhr3Ck8S dYO/6v6Y7m06DiHSNZDd2HIoho0QtwJ4We0ESm3SM6DPK2hzkBvqP/hLFZnWAjHBhPUz iung== X-Gm-Message-State: AOJu0YzPwfPceMI5npR3oAPQx8NuRRf7BckirFKCpT3fxmBrKuCU1ssC wgEKWa++3q5rI0yzpJly4Vmmm8GPxun8e/U4rPKgT/FA5GXf7U2klVOP8V0GVEiF6UXTjFAjQ9V eV2u6Nx5Fwrzr+iz5HBPk0AZuepD5rVuahARypkrZ X-Gm-Gg: ASbGnctp/rwbf1OujCChHeEN4sDxCOWcfDp+ImwkcuyPrsMdU+R1Dn43CJyMNrRebg5 KZA0nkfMC7uCawOEEGrwBy4GhtSRU9JqrHcw64jAgnU++C/2sk1wKveI/EnbpMcIHqpOAVBPlso DVQTmxG36LBf2MC21bPiX8Ov2GaHO180nxERdobbgvNAOkh4PI3n6iaLIzmgMnzchmP9yCm5+KU H0/pQtfazXspXUR7ExB4XeyAnl1Si5KHFhOqCPHF1MY7tojXSojIgnkSDXIu/uENt2Dl4yPGD6j SC9zYI0onAS8Q0KsozvvlgIjmyagTAqnkxX8W+rM X-Google-Smtp-Source: AGHT+IHCX7w4DrEFOR4OKnwp0vUI+s3XEge7eQ9azqMSmo0LNkSjBVl4vGeCdEdpRlRGwV5FtcOheqjRw/YT X-Received: by 2002:a17:902:d4cf:b0:21f:2a2:3c8b with SMTP id d9443c01a7336-22ac295cf69mr3159095ad.11.1744136616785; Tue, 08 Apr 2025 11:23:36 -0700 (PDT) Received: from postal.iol.unh.edu (postal.iol.unh.edu. [132.177.123.84]) by smtp-relay.gmail.com with ESMTPS id d9443c01a7336-2297899bc9dsm9101295ad.45.2025.04.08.11.23.36 (version=TLS1_2 cipher=ECDHE-ECDSA-AES128-GCM-SHA256 bits=128/128); Tue, 08 Apr 2025 11:23:36 -0700 (PDT) X-Relaying-Domain: iol.unh.edu Date: Tue, 08 Apr 2025 11:23:36 -0700 (PDT) Message-ID: <67f569a8.170a0220.c8dce.0e0fSMTPIN_ADDED_MISSING@mx.google.com> Received: from [172.17.0.3] (unknown [172.18.0.217]) by postal.iol.unh.edu (Postfix) with ESMTP id EE4B26052471; Tue, 8 Apr 2025 14:23:35 -0400 (EDT) Subject: |SUCCESS| pw152831 [PATCH] [RFC,1/1] build: support ThreadSanitizer From: dpdklab@iol.unh.edu To: Test Report Cc: dpdk-test-reports@iol.unh.edu In-Reply-To: <20250408130556.1054041-2-huangdengdui@huawei.com> References: <20250408130556.1054041-2-huangdengdui@huawei.com> Content-Type: text/plain X-BeenThere: test-report@dpdk.org X-Mailman-Version: 2.1.29 Precedence: list List-Id: automatic DPDK test reports List-Unsubscribe: , List-Archive: List-Post: List-Help: List-Subscribe: , Errors-To: test-report-bounces@dpdk.org Test-Label: iol-sample-apps-testing Test-Status: SUCCESS http://dpdk.org/patch/152831 _Testing PASS_ Submitter: Dengdui Huang Date: Tuesday, April 08 2025 13:05:56 DPDK git baseline: Repo:dpdk Branch: master CommitID:8ee74a69abcf48563f05adeafecd298bb03477a8 152831 --> testing pass Upstream job id: ACVP-FIPS-testing#9477 Test environment and result as below: +--------------------+----------------------+----------------------+ | Environment | compressdev_zlib_pmd | dpdk_fips_validation | +====================+======================+======================+ | Ubuntu 22.04 (ARM) | PASS | SKIPPED | +--------------------+----------------------+----------------------+ | Ubuntu 22.04 | PASS | SKIPPED | +--------------------+----------------------+----------------------+ | Ubuntu 20.04 | SKIPPED | PASS | +--------------------+----------------------+----------------------+ Ubuntu 22.04 (ARM) Kernel: 5.15.0-97-generic Compiler: gcc gcc (Ubuntu 11.4.0-1ubuntu1~22.04) 11.4.0 Ubuntu 22.04 Kernel: 5.15.0-100-generic Compiler: gcc gcc (Ubuntu 11.4.0-1ubuntu1~22.04) 11.4.0 Ubuntu 20.04 Kernel: Depends on container host Compiler: gcc (Ubuntu 9.4.0-1ubuntu1~20.04.2) 9.4.0 To view detailed results, visit: https://lab.dpdk.org/results/dashboard/patchsets/32966/ UNH-IOL DPDK Community Lab To manage your email subscriptions, visit: https://lab.dpdk.org/results/dashboard/preferences/subscriptions/