From mboxrd@z Thu Jan 1 00:00:00 1970 Return-Path: Received: from mails.dpdk.org (mails.dpdk.org [217.70.189.124]) by inbox.dpdk.org (Postfix) with ESMTP id E548E46537 for ; Tue, 8 Apr 2025 20:56:58 +0200 (CEST) Received: from mails.dpdk.org (localhost [127.0.0.1]) by mails.dpdk.org (Postfix) with ESMTP id DFA5B402B9; Tue, 8 Apr 2025 20:56:58 +0200 (CEST) Received: from mail-oa1-f98.google.com (mail-oa1-f98.google.com [209.85.160.98]) by mails.dpdk.org (Postfix) with ESMTP id 54F594026B for ; Tue, 8 Apr 2025 20:56:58 +0200 (CEST) Received: by mail-oa1-f98.google.com with SMTP id 586e51a60fabf-2cc57330163so3255445fac.2 for ; Tue, 08 Apr 2025 11:56:58 -0700 (PDT) DKIM-Signature: v=1; a=rsa-sha256; c=relaxed/relaxed; d=iol.unh.edu; s=unh-iol; t=1744138617; x=1744743417; darn=dpdk.org; h=references:in-reply-to:cc:to:from:subject:message-id:date:from:to :cc:subject:date:message-id:reply-to; bh=xdBo0ifDZ0kzGjsjZNgvpbcfIKKzmqrRr+mBraoSNc4=; b=anJHBzXMifkKneGsgUGj5kNiO1+ePmJLDnI4aekkqm3wkmMgkr47MtRpm/uFQbVM3z vN7aYYBqkAFPCT/wAq9Cp19su68G3KqXpSB2CKWnzJOR9PXklV4a9OrRZNTvmAdRlX0u 4MO9AyB9vPgHCpui6BAttCAqFCR0G79NfwS6M= X-Google-DKIM-Signature: v=1; a=rsa-sha256; c=relaxed/relaxed; d=1e100.net; s=20230601; t=1744138617; x=1744743417; h=references:in-reply-to:cc:to:from:subject:message-id:date :x-gm-message-state:from:to:cc:subject:date:message-id:reply-to; bh=xdBo0ifDZ0kzGjsjZNgvpbcfIKKzmqrRr+mBraoSNc4=; b=eCz4k0OwBYeQNazlNub/e6EQteO3+xrxwFC4ircktuYjeeT1zhgJTnVVmCNFrQXMxK QI8sh0znvNd+ywUMv5uYKbYfYdJZ3BoctmOGbm0sI2/7K+UDyUi67Ivb0s88kv9LaeKG a6VoxKZgzjpFaN9KJXE+LhBNnd1f1ZI/8DgvwUTHXD0UDHH5L9WB+eVpUVVUXNQZa6v3 ta4RyWfdL6FU+7WeVSU+D31fAnpKIU7PSIVYGVqkGQfe8MSEwj1GXQ+0XZPN5KbiMEAp iGjlgvXX2Wo2WCvy+4skBlw+OHgJDhcMX/VWMcD77LciJUk/p86hpU5n2j8SpW6krBxH 6eqw== X-Gm-Message-State: AOJu0YxW53lpe6qFT7bilIOlveGuIEO/enOV3wKdxWG2NS1MuCb1w1an PKg7DXhjsXL8+KQSCd1M06AWqXc2Px6R2+71jmI8/Qr4WjF2SdFa+YidfasKG/VHexa3mvanyNf xVPJOV6TSDCQW3BpsHVmTre65LSQWSYOlMa5BvTlDEjbVr0R0LarqbQpU X-Gm-Gg: ASbGncu1nv2ORssotRuKjT+r7sUlEKnmkr9VletWhUtcqO8ZBO9GpgET98AOVJ+nOVn af5E6stzdwv0AO66mKfMdIZIpy/818DQMbTDmly7bjnQljdpODWzvQEGx61jQT9OpPMIjBXDv2G 5WCuJeOLdhbOBohdN3PZIVYNrsKUKoKZcwZTo834yaM1MG3nGHCL2j3XzVRvst/GoWv+J1nYN6l kRydvkzfpBMIfL0AZ0c9dVWA04e8b5pa2WvBCk70i2V77mMMc5xHiB+3oy7QKuYd/23pBPC+7WB mwwi4sRV7ToUxkanZp2qLHTRtY8MoElijDBkNqynf59ReL6GRZmw X-Google-Smtp-Source: AGHT+IGrhz1M2cdBbTSZ3M5Qu64cOUjgFHKcWdB6XOP+dzkrQ5vurAKlIXUXdoLrB/Kq73tHzsylkqJANly/ X-Received: by 2002:a05:6871:442:b0:2c8:5831:8d4 with SMTP id 586e51a60fabf-2d08e09d124mr70306fac.39.1744138617512; Tue, 08 Apr 2025 11:56:57 -0700 (PDT) Received: from postal.iol.unh.edu (postal.iol.unh.edu. [2606:4100:3880:1234::84]) by smtp-relay.gmail.com with ESMTPS id 006d021491bc7-6044f4af06asm72576eaf.10.2025.04.08.11.56.57 (version=TLS1_2 cipher=ECDHE-ECDSA-AES128-GCM-SHA256 bits=128/128); Tue, 08 Apr 2025 11:56:57 -0700 (PDT) X-Relaying-Domain: iol.unh.edu Date: Tue, 08 Apr 2025 11:56:57 -0700 (PDT) Message-ID: <67f57179.050a0220.340e3e.42d7SMTPIN_ADDED_MISSING@mx.google.com> Received: from [172.21.0.5] (unknown [172.18.0.240]) by postal.iol.unh.edu (Postfix) with ESMTP id EFDCB6052471; Tue, 8 Apr 2025 14:56:56 -0400 (EDT) Subject: |SUCCESS| pw152831 [PATCH] [RFC,1/1] build: support ThreadSanitizer From: dpdklab@iol.unh.edu To: Test Report Cc: dpdk-test-reports@iol.unh.edu In-Reply-To: <20250408130556.1054041-2-huangdengdui@huawei.com> References: <20250408130556.1054041-2-huangdengdui@huawei.com> Content-Type: text/plain X-BeenThere: test-report@dpdk.org X-Mailman-Version: 2.1.29 Precedence: list List-Id: automatic DPDK test reports List-Unsubscribe: , List-Archive: List-Post: List-Help: List-Subscribe: , Errors-To: test-report-bounces@dpdk.org Test-Label: iol-compile-arm64-testing Test-Status: SUCCESS http://dpdk.org/patch/152831 _Testing PASS_ Submitter: Dengdui Huang Date: Tuesday, April 08 2025 13:05:56 DPDK git baseline: Repo:dpdk Branch: master CommitID:8ee74a69abcf48563f05adeafecd298bb03477a8 152831 --> testing pass Upstream job id: Generic-DPDK-Compile-Meson#378174 Test environment and result as below: +----------------------------------------+--------------------+ | Environment | dpdk_meson_compile | +========================================+====================+ | RHEL9 (ARM) | PASS | +----------------------------------------+--------------------+ | Ubuntu 20.04 ARM GCC Cross Compile | PASS | +----------------------------------------+--------------------+ | Ubuntu 20.04 ARM SVE | PASS | +----------------------------------------+--------------------+ | Debian 12 with MUSDK | PASS | +----------------------------------------+--------------------+ | Fedora 40 (ARM) | PASS | +----------------------------------------+--------------------+ | Fedora 40 (ARM Clang) | PASS | +----------------------------------------+--------------------+ | Fedora 41 (ARM) | PASS | +----------------------------------------+--------------------+ | Fedora 41 (ARM Clang) | PASS | +----------------------------------------+--------------------+ | Ubuntu 20.04 (ARM) | PASS | +----------------------------------------+--------------------+ | Ubuntu 22.04 (ARM) | PASS | +----------------------------------------+--------------------+ | CentOS Stream 9 (ARM) | PASS | +----------------------------------------+--------------------+ | CentOS Stream 10 (ARM) | PASS | +----------------------------------------+--------------------+ | Debian 12 (arm) | PASS | +----------------------------------------+--------------------+ | Ubuntu 20.04 aarch32 GCC Cross Compile | PASS | +----------------------------------------+--------------------+ | Ubuntu 20.04 ARM Clang Cross Compile | PASS | +----------------------------------------+--------------------+ | Ubuntu 24.04 (ARM) | PASS | +----------------------------------------+--------------------+ RHEL9 (ARM) Kernel: Depends on container host Compiler: gcc 11.5.0 20240719 (Red Hat 11.5.0-2) Ubuntu 20.04 ARM GCC Cross Compile Kernel: Depends on container host Compiler: aarch64-linux-gnu-gcc (Ubuntu 9.4.0-1ubuntu1~20.04.2) 9.4.0 Ubuntu 20.04 ARM SVE Kernel: Depends on container host Compiler: gcc (Ubuntu 10.5.0-1ubuntu1~20.04) 10.5.0 Debian 12 with MUSDK Kernel: Depends on container host Compiler: gcc (Debian 12.2.0-14) 12.2.0 Fedora 40 (ARM) Kernel: Depends on container host Compiler: gcc 14.2.1 20240912 (Red Hat 14.2.1-3) Fedora 40 (ARM Clang) Kernel: Depends on container host Compiler: clang 18.1.8 (Fedora 18.1.8-1.fc40) Fedora 41 (ARM) Kernel: Depends on container host Compiler: gcc 14.2.1 20240912 (Red Hat 14.2.1-3) Fedora 41 (ARM Clang) Kernel: Depends on container host Compiler: clang 19.1.5 (Fedora 19.1.5-1.fc41) Ubuntu 20.04 (ARM) Kernel: Depends on container host Compiler: gcc (Ubuntu 9.4.0-1ubuntu1~20.04.2) 9.4.0 Ubuntu 22.04 (ARM) Kernel: Depends on container host Compiler: gcc (Ubuntu 11.4.0-1ubuntu1~22.04) 11.4.0 CentOS Stream 9 (ARM) Kernel: Depends on container host Compiler: gcc 11.5.0 20240719 (Red Hat 11.5.0-2) CentOS Stream 10 (ARM) Kernel: Depends on container host Compiler: gcc 14.2.1 20241104 (Red Hat 14.2.1-6) Debian 12 (arm) Kernel: Depends on container host Compiler: gcc (Debian 12.2.0-14) 12.2.0 Ubuntu 20.04 aarch32 GCC Cross Compile Kernel: Depends on container host Compiler: gcc 9.4.0 Ubuntu 20.04 ARM Clang Cross Compile Kernel: Depends on container host Compiler: clang 10.0.0-4ubuntu1 Ubuntu 24.04 (ARM) Kernel: Depends on container host Compiler: gcc (Ubuntu 13.3.0-6ubuntu2~24.04) 13.3.0 To view detailed results, visit: https://lab.dpdk.org/results/dashboard/patchsets/32966/ UNH-IOL DPDK Community Lab To manage your email subscriptions, visit: https://lab.dpdk.org/results/dashboard/preferences/subscriptions/