From mboxrd@z Thu Jan 1 00:00:00 1970 Return-Path: Received: from mails.dpdk.org (mails.dpdk.org [217.70.189.124]) by inbox.dpdk.org (Postfix) with ESMTP id 4738C46537 for ; Tue, 8 Apr 2025 21:27:11 +0200 (CEST) Received: from mails.dpdk.org (localhost [127.0.0.1]) by mails.dpdk.org (Postfix) with ESMTP id 2284E402CC; Tue, 8 Apr 2025 21:27:11 +0200 (CEST) Received: from mail-io1-f97.google.com (mail-io1-f97.google.com [209.85.166.97]) by mails.dpdk.org (Postfix) with ESMTP id DA07D4026B for ; Tue, 8 Apr 2025 21:27:09 +0200 (CEST) Received: by mail-io1-f97.google.com with SMTP id ca18e2360f4ac-85e1b1f08a5so137133039f.2 for ; Tue, 08 Apr 2025 12:27:09 -0700 (PDT) DKIM-Signature: v=1; a=rsa-sha256; c=relaxed/relaxed; d=iol.unh.edu; s=unh-iol; t=1744140429; x=1744745229; darn=dpdk.org; h=references:in-reply-to:cc:to:from:subject:message-id:date:from:to :cc:subject:date:message-id:reply-to; bh=RtkvL3MvadO3CD0tOTZXXCwFIW3hSjCSN6/X4X+48W4=; b=btOhDQaidLSJcxvjrhULR1s+l9Kf85uerYOcj5bvIizCiJKAyQXLQnT+vz/2g9ZhBc Km1T3zCI8+Mi0HGfWW82EIZwQH69J6OAHU3gzRcDJBU8BbRgTVggKnSMQGF9yBfMgLPu b81tAZtqwgSqP1pPkYyHun2ibpt8RRpqpCHFY= X-Google-DKIM-Signature: v=1; a=rsa-sha256; c=relaxed/relaxed; d=1e100.net; s=20230601; t=1744140429; x=1744745229; h=references:in-reply-to:cc:to:from:subject:message-id:date :x-gm-message-state:from:to:cc:subject:date:message-id:reply-to; bh=RtkvL3MvadO3CD0tOTZXXCwFIW3hSjCSN6/X4X+48W4=; b=IiurzhkqRUn5YpjwunKN5xyCp6qURbOLkr5fIiF8VqHrFirNZqvsfwggE+Gj7U2MMo 5sXYmjRBQF2cc8pWq1EmoQVWAVehdmPtzuqbHFx5I7z+Ba9aUfuoNfhbYNqC0lcp32wk /htLvaldobLdsRpovXDGx/K8RXNlqwVpinfSpHfXvkxrLem5Yn2/AcifNmuVgvvR0Ldd 8zHlBmk1H6OB6/P2csOW9LJL2v6mnTVMPGuymmDud+rXYAG8pHpiyuf+N3UulXHioE+B 01dACSFN35TbV9ZQWXn0sIK8r4JBp3GqmpuJNq2PsllEKXiOzyQw8abqoG0r4Iy+uwI9 AaEw== X-Gm-Message-State: AOJu0YypMjY5Utu5NkYrdJAEDjFsI+6vT+jKFevZg+FGqIjwOAD1u32g NH29jkzYMVVmC8r+zOBqKo073S/ShLtTnp1RZOip4Quh6EeoGYBj9MJzkXSg9VBSlqmhPm+5l0O 9n/+Wo7ZwjbaR4q7rX7xqqbqAdYtYheUDZl6XNIix X-Gm-Gg: ASbGncs0ezUT72czjZ5+5yL025TH0R6dq+/1OomaqYU/GkEPDEoc3V7v5ydQzVCyB2A cG/cJ+WuJ6J6/gjSvYmZobLEvg1E69SaqT2Ji1/LDwZhnINsT9a4mga9MaDErMkFXGgemrvZsva Th9Jrp9OvDWoVwJHxoYBi9zWDKq0luR5YTzMRM/qj2iRQR848RUySlr9yO1FQYTH2Of5yqc6oHL 4N+tH0NFx6tBu0yJaJiQHDY49httACDgspOx5/ap/u+8klGk778zHKRFjxBb0NntDBodPEz2ovC JbejwmD891wzEe5x6VAp+/96x/F07Rr2jFpA6ilO X-Google-Smtp-Source: AGHT+IFZMmmfwyirQDwIg4oX7vWU9w6O9Qu3+g/IDNfNhkN33iXL+z6+ZptmQP8wGSYtWtrLXJjJCO70fM2M X-Received: by 2002:a05:6e02:3a01:b0:3d6:d179:a311 with SMTP id e9e14a558f8ab-3d776c9ac11mr2015805ab.6.1744140428963; Tue, 08 Apr 2025 12:27:08 -0700 (PDT) Received: from postal.iol.unh.edu (postal.iol.unh.edu. [132.177.123.84]) by smtp-relay.gmail.com with ESMTPS id e9e14a558f8ab-3d703b7f745sm1480025ab.20.2025.04.08.12.27.08 (version=TLS1_2 cipher=ECDHE-ECDSA-AES128-GCM-SHA256 bits=128/128); Tue, 08 Apr 2025 12:27:08 -0700 (PDT) X-Relaying-Domain: iol.unh.edu Date: Tue, 08 Apr 2025 12:27:08 -0700 (PDT) Message-ID: <67f5788c.920a0220.641c.932fSMTPIN_ADDED_MISSING@mx.google.com> Received: from [172.21.0.6] (unknown [172.18.0.240]) by postal.iol.unh.edu (Postfix) with ESMTP id 9876A6052471; Tue, 8 Apr 2025 15:27:08 -0400 (EDT) Subject: |SUCCESS| pw152824 [PATCH] cryptodev: add SNOW-V algorithms From: dpdklab@iol.unh.edu To: Test Report Cc: dpdk-test-reports@iol.unh.edu In-Reply-To: <20250408110851.2952910-1-radu.nicolau@intel.com> References: <20250408110851.2952910-1-radu.nicolau@intel.com> Content-Type: text/plain X-BeenThere: test-report@dpdk.org X-Mailman-Version: 2.1.29 Precedence: list List-Id: automatic DPDK test reports List-Unsubscribe: , List-Archive: List-Post: List-Help: List-Subscribe: , Errors-To: test-report-bounces@dpdk.org Test-Label: iol-unit-amd64-testing Test-Status: SUCCESS http://dpdk.org/patch/152824 _Testing PASS_ Submitter: Radu Nicolau Date: Tuesday, April 08 2025 11:08:51 DPDK git baseline: Repo:dpdk Branch: master CommitID:e30e194c4d06cf9b0e93f9f0f2a289bef96abc1a 152824 --> testing pass Upstream job id: Generic-Unit-Test-DPDK#329502 Test environment and result as below: +---------------------+----------------+ | Environment | dpdk_unit_test | +=====================+================+ | Fedora 40 (Clang) | PASS | +---------------------+----------------+ | Debian 12 | PASS | +---------------------+----------------+ | RHEL8 | PASS | +---------------------+----------------+ | CentOS Stream 10 | PASS | +---------------------+----------------+ | CentOS Stream 9 | PASS | +---------------------+----------------+ | RHEL9 | PASS | +---------------------+----------------+ | Fedora 40 | PASS | +---------------------+----------------+ | Fedora 41 | PASS | +---------------------+----------------+ | Ubuntu 22.04 | PASS | +---------------------+----------------+ | Ubuntu 20.04 | PASS | +---------------------+----------------+ | Ubuntu 24.04 | PASS | +---------------------+----------------+ | Fedora 41 (Clang) | PASS | +---------------------+----------------+ | Windows Server 2022 | PASS | +---------------------+----------------+ Fedora 40 (Clang) Kernel: Depends on container host Compiler: clang 18.1.8 (Fedora 18.1.8-1.fc40) Debian 12 Kernel: Depends on container host Compiler: gcc (Debian 12.2.0-14) 12.2.0 RHEL8 Kernel: Depends on container host Compiler: gcc 8.5.0 20210514 (Red Hat 8.5.0-22) CentOS Stream 10 Kernel: Depends on container host Compiler: gcc 14.2.1 20241104 (Red Hat 14.2.1-6) CentOS Stream 9 Kernel: Depends on container host Compiler: gcc 11.5.0 20240719 (Red Hat 11.5.0-2) RHEL9 Kernel: Depends on container host Compiler: gcc 11.5.0 20240719 (Red Hat 11.5.0-2) Fedora 40 Kernel: Depends on container host Compiler: gcc 14.2.1 20240912 (Red Hat 14.2.1-3) Fedora 41 Kernel: Depends on container host Compiler: gcc 14.2.1 20240912 (Red Hat 14.2.1-3) Ubuntu 22.04 Kernel: Depends on container host Compiler: gcc (Ubuntu 11.4.0-1ubuntu1~22.04) 11.4.0 Ubuntu 20.04 Kernel: Depends on container host Compiler: gcc (Ubuntu 9.4.0-1ubuntu1~20.04.2) 9.4.0 Ubuntu 24.04 Kernel: Depends on container host Compiler: gcc (Ubuntu 13.3.0-6ubuntu2~24.04) 13.3.0 Fedora 41 (Clang) Kernel: Depends on container host Compiler: clang 19.1.5 (Fedora 19.1.5-1.fc41) Windows Server 2022 Kernel: 10.0.20348.2031 Compiler: clang 15.0.7, gcc 14.1.0 (MinGW), and MSVC VS 19.39.33521 To view detailed results, visit: https://lab.dpdk.org/results/dashboard/patchsets/32963/ UNH-IOL DPDK Community Lab To manage your email subscriptions, visit: https://lab.dpdk.org/results/dashboard/preferences/subscriptions/