From mboxrd@z Thu Jan 1 00:00:00 1970 Return-Path: Received: from mails.dpdk.org (mails.dpdk.org [217.70.189.124]) by inbox.dpdk.org (Postfix) with ESMTP id 372B046537 for ; Tue, 8 Apr 2025 21:27:13 +0200 (CEST) Received: from mails.dpdk.org (localhost [127.0.0.1]) by mails.dpdk.org (Postfix) with ESMTP id 32774402CC; Tue, 8 Apr 2025 21:27:13 +0200 (CEST) Received: from mail-pf1-f226.google.com (mail-pf1-f226.google.com [209.85.210.226]) by mails.dpdk.org (Postfix) with ESMTP id 4F2E3402E5 for ; Tue, 8 Apr 2025 21:27:11 +0200 (CEST) Received: by mail-pf1-f226.google.com with SMTP id d2e1a72fcca58-7390d21bb1cso5852702b3a.2 for ; Tue, 08 Apr 2025 12:27:11 -0700 (PDT) DKIM-Signature: v=1; a=rsa-sha256; c=relaxed/relaxed; d=iol.unh.edu; s=unh-iol; t=1744140430; x=1744745230; darn=dpdk.org; h=references:in-reply-to:cc:to:from:subject:message-id:date:from:to :cc:subject:date:message-id:reply-to; bh=U7JdFGZvlaDGr49tLVyJ6k6lAus0L30BqD2e6xts1h4=; b=PZ5h7GRRolPBCe7l3gaxAUYSM4GEooUkNBzr0Z7GliCg510BLJFjMQzHjV+O4pihI6 wiPjAvTYnVU+AYBG3p3vOaQuBe1aviwMf34Cx+AuYsbNhfrq9/PVQZVzXaZsDOKJz2qz sP69SM5GLoBPbBVoZlc8wjErFmwmkcFfWHMDI= X-Google-DKIM-Signature: v=1; a=rsa-sha256; c=relaxed/relaxed; d=1e100.net; s=20230601; t=1744140430; x=1744745230; h=references:in-reply-to:cc:to:from:subject:message-id:date :x-gm-message-state:from:to:cc:subject:date:message-id:reply-to; bh=U7JdFGZvlaDGr49tLVyJ6k6lAus0L30BqD2e6xts1h4=; b=uuU3l4tUNXno9aHzD3LPw0ArG7QTQUjPVWIbb27/MhHWgN7vnRabdhh0ilNb+Pe1+b +3JOGSp6jW0vOdwv39hbxkziOU49xXxt9+1r0ZjoI4zw0pqzh0mDDVEg0S/a7xDUjai0 B16UWRDbiatfNe77NhUN2RFqIGdCwyThRqLjxVS9qs8Ss7obPwUIf4vPL+IZOnx8kfk0 jvvTmDqX8CnBzi5l40X9BdZ9ehWjyW1S9/l1k2RXJKa/hsPEXh5pUJU1IUOJFm5FvV69 0Tb76GjEJ5ao4ht+UiUgq3f41ldwZdvPRkmB2a0Xhyn7ueZzukYaMwg30ALU+vPFu40I m8pA== X-Gm-Message-State: AOJu0Yyov2h+jNtWztCMwkySw+lnyOBXPDbCwvfLHIsCJMkTxwTw344v UJ5dBIWB+MsRPRllVc8oCB/7gccraerNyBny2Zjz2rNZYZAH73vHvHd3rw7ARONrhis3e+r9HwK InUmS3QXnIQsRv0YdEo4SMmz8AGhpEor6ZAPgQ0jn X-Gm-Gg: ASbGnctCEV4OwsVpkKPBHAGtDSXlqxmi8DqjJm6ismok6eStYxifwfqG/M/sVreLDcW heBaviTXNmy+/wx4+KVT5zwFHAJ8dpltEtLFVD42o3DkefOYV+ZA99BtauRTi6Kv37fR2QIEFMT kTdUA4o2gFq8wPIxzJVpOXm/QZP1e7+dDLjXb3jPK/6S4htCcOic8khgdRFnYbBJ/HMZ8VJTtN8 gmpllA3P9KNMPoyGTgLaWW1P4qN+LLLPgiU2pfo6nYfQOkwLm4DqSJyav4+0SAD2Y2sXp0OYgQQ NXXSav/79Ph5p1nb4k10lZFN3ulHQ41EVQmhyVh+ X-Google-Smtp-Source: AGHT+IFl7s8bW8Ntax6/8vJ6NHL9r94sx9fCkt3qUzoLtRhzP1MgHLu/leubmn8nQlgvTDruxiNVww/TWZNz X-Received: by 2002:a05:6a21:9014:b0:1f5:8a03:ea22 with SMTP id adf61e73a8af0-201592af22fmr187725637.33.1744140430446; Tue, 08 Apr 2025 12:27:10 -0700 (PDT) Received: from postal.iol.unh.edu (postal.iol.unh.edu. [132.177.123.84]) by smtp-relay.gmail.com with ESMTPS id 41be03b00d2f7-af9bc2cb8c4sm437836a12.2.2025.04.08.12.27.10 (version=TLS1_2 cipher=ECDHE-ECDSA-AES128-GCM-SHA256 bits=128/128); Tue, 08 Apr 2025 12:27:10 -0700 (PDT) X-Relaying-Domain: iol.unh.edu Date: Tue, 08 Apr 2025 12:27:10 -0700 (PDT) Message-ID: <67f5788e.650a0220.372003.d851SMTPIN_ADDED_MISSING@mx.google.com> Received: from [172.17.0.6] (unknown [172.18.0.217]) by postal.iol.unh.edu (Postfix) with ESMTP id 9C3D36052471; Tue, 8 Apr 2025 15:27:09 -0400 (EDT) Subject: |SUCCESS| pw152824 [PATCH] cryptodev: add SNOW-V algorithms From: dpdklab@iol.unh.edu To: Test Report Cc: dpdk-test-reports@iol.unh.edu In-Reply-To: <20250408110851.2952910-1-radu.nicolau@intel.com> References: <20250408110851.2952910-1-radu.nicolau@intel.com> Content-Type: text/plain X-BeenThere: test-report@dpdk.org X-Mailman-Version: 2.1.29 Precedence: list List-Id: automatic DPDK test reports List-Unsubscribe: , List-Archive: List-Post: List-Help: List-Subscribe: , Errors-To: test-report-bounces@dpdk.org Test-Label: iol-unit-amd64-testing Test-Status: SUCCESS http://dpdk.org/patch/152824 _Testing PASS_ Submitter: Radu Nicolau Date: Tuesday, April 08 2025 11:08:51 DPDK git baseline: Repo:dpdk Branch: master CommitID:e30e194c4d06cf9b0e93f9f0f2a289bef96abc1a 152824 --> testing pass Upstream job id: Generic-VM-Unit-Test-DPDK#27855 Test environment and result as below: +---------------------+----------------+ | Environment | dpdk_unit_test | +=====================+================+ | Fedora 40 (Clang) | PASS | +---------------------+----------------+ | Debian 12 | PASS | +---------------------+----------------+ | RHEL8 | PASS | +---------------------+----------------+ | CentOS Stream 10 | PASS | +---------------------+----------------+ | CentOS Stream 9 | PASS | +---------------------+----------------+ | RHEL9 | PASS | +---------------------+----------------+ | Fedora 40 | PASS | +---------------------+----------------+ | Fedora 41 | PASS | +---------------------+----------------+ | Ubuntu 22.04 | PASS | +---------------------+----------------+ | Ubuntu 20.04 | PASS | +---------------------+----------------+ | Ubuntu 24.04 | PASS | +---------------------+----------------+ | Fedora 41 (Clang) | PASS | +---------------------+----------------+ | Windows Server 2022 | PASS | +---------------------+----------------+ Fedora 40 (Clang) Kernel: Depends on container host Compiler: clang 18.1.8 (Fedora 18.1.8-1.fc40) Debian 12 Kernel: Depends on container host Compiler: gcc (Debian 12.2.0-14) 12.2.0 RHEL8 Kernel: Depends on container host Compiler: gcc 8.5.0 20210514 (Red Hat 8.5.0-22) CentOS Stream 10 Kernel: Depends on container host Compiler: gcc 14.2.1 20241104 (Red Hat 14.2.1-6) CentOS Stream 9 Kernel: Depends on container host Compiler: gcc 11.5.0 20240719 (Red Hat 11.5.0-2) RHEL9 Kernel: Depends on container host Compiler: gcc 11.5.0 20240719 (Red Hat 11.5.0-2) Fedora 40 Kernel: Depends on container host Compiler: gcc 14.2.1 20240912 (Red Hat 14.2.1-3) Fedora 41 Kernel: Depends on container host Compiler: gcc 14.2.1 20240912 (Red Hat 14.2.1-3) Ubuntu 22.04 Kernel: Depends on container host Compiler: gcc (Ubuntu 11.4.0-1ubuntu1~22.04) 11.4.0 Ubuntu 20.04 Kernel: Depends on container host Compiler: gcc (Ubuntu 9.4.0-1ubuntu1~20.04.2) 9.4.0 Ubuntu 24.04 Kernel: Depends on container host Compiler: gcc (Ubuntu 13.3.0-6ubuntu2~24.04) 13.3.0 Fedora 41 (Clang) Kernel: Depends on container host Compiler: clang 19.1.5 (Fedora 19.1.5-1.fc41) Windows Server 2022 Kernel: 10.0.20348.2031 Compiler: clang 15.0.7, gcc 14.1.0 (MinGW), and MSVC VS 19.39.33521 To view detailed results, visit: https://lab.dpdk.org/results/dashboard/patchsets/32963/ UNH-IOL DPDK Community Lab To manage your email subscriptions, visit: https://lab.dpdk.org/results/dashboard/preferences/subscriptions/