From mboxrd@z Thu Jan 1 00:00:00 1970 Return-Path: Received: from mails.dpdk.org (mails.dpdk.org [217.70.189.124]) by inbox.dpdk.org (Postfix) with ESMTP id BFE1746537 for ; Tue, 8 Apr 2025 21:52:14 +0200 (CEST) Received: from mails.dpdk.org (localhost [127.0.0.1]) by mails.dpdk.org (Postfix) with ESMTP id BA523402CB; Tue, 8 Apr 2025 21:52:14 +0200 (CEST) Received: from mail-pf1-f228.google.com (mail-pf1-f228.google.com [209.85.210.228]) by mails.dpdk.org (Postfix) with ESMTP id BD95D4026B for ; Tue, 8 Apr 2025 21:52:13 +0200 (CEST) Received: by mail-pf1-f228.google.com with SMTP id d2e1a72fcca58-736aa9d0f2aso7170532b3a.0 for ; Tue, 08 Apr 2025 12:52:13 -0700 (PDT) DKIM-Signature: v=1; a=rsa-sha256; c=relaxed/relaxed; d=iol.unh.edu; s=unh-iol; t=1744141933; x=1744746733; darn=dpdk.org; h=references:in-reply-to:cc:to:from:subject:message-id:date:from:to :cc:subject:date:message-id:reply-to; bh=muDsVxN+7bhXiuhTjykkd8LZLaIrD983B4YxsN6f8og=; b=C39WOF0llyq8c+PujMZfs5H0JP2J9/LwM0wzLaMqiQ0RPPbCLPCgBusIUxsrgudzES 9WDSHw19ZrFWRZTBZAOX8QWRuYoKzd4nKkpUckcXbL95nlK3mZJQ8h3epDiV0/8ispx+ 0Z+GrDNuUcdVnyIDGwx2M52RjGjHnXCut8xAg= X-Google-DKIM-Signature: v=1; a=rsa-sha256; c=relaxed/relaxed; d=1e100.net; s=20230601; t=1744141933; x=1744746733; h=references:in-reply-to:cc:to:from:subject:message-id:date :x-gm-message-state:from:to:cc:subject:date:message-id:reply-to; bh=muDsVxN+7bhXiuhTjykkd8LZLaIrD983B4YxsN6f8og=; b=VPdEHUhmwGVuUWbMjgiJrNtbSawfxD/70b1spvcQA5l4xWlZwwjWVmhcV8jXBI2zMW ZJe9iY6bPNvriwNQyLTDeNC1eT4r4SLCGUSeJJbDPNsh/2TYckFz0PZOuCo0MElxqOtz yPIon2SxF0KfLtktEHhSpntKVMApKAWnIq6lwDTNL+h9TtyQJ8zyTH5B6vP7ooAlauSi DdcVvzjXv/bF1X9jrpPby7JKD2E5ZKzFi/B//y2xszNJXwV0NYxAhFAB/iWOY1g/MnWX Xuz5e8dcSJMuIB0FKiM4YlSO6xo+tikTURG02D83vRhMEQpbcvV1aDZ77t5YkWgessr9 NhoQ== X-Gm-Message-State: AOJu0Yy9arVZYz/HSBAkXmRSx1mQ7nFNhrlr2KWXbMIqFQES+lBbmqCz /oQGm/tOg8IoMQAGWKs4fHmzGSvTz6K2zWsY8alXK3VlH9sgJhuFjmVBImRqM/RHODU3uNHO2cO Hrvycah01Eqiox4F9GnZJ7bidzf7P/3k+bTt3UA1V X-Gm-Gg: ASbGncvIbev5MbynNZSzbdQz0ejDVDLsIOFyjP8QR1pTwOYG3RT3Sfi+fkL7GXbDeG4 1PudEkAj2nSBZQJWt6IDzVt7Y33mtWXN0TJrkdq0C1y37wu9D+43suEVaEeUAbeRdnE2mIcA5oz Sjn1onO3qEsSyLbMHgXSusIWOHRjmj732RDWpNvKbbI9oqPftc0jXriEh8uCcSOwQPFIFreCanI L5ToS3+ImbsJYUH/OvwCd5gPgkrZn4yTcIEFznrfreVAOjCovYDZHdioCr56iLxzklfwodl9ENn hcaUkYwwi/8TCymkVTPKQHgg1169IVOPPwTbwPDY X-Google-Smtp-Source: AGHT+IGjGJxmMjfFDFppueX7nSvGkYDgU+Q6LuVfNMDpODKFWBkaGi3PzpyuWKh8LagcbN8NuZaf2q23T+uv X-Received: by 2002:a05:6a00:2185:b0:730:8a5b:6e61 with SMTP id d2e1a72fcca58-73bae494baamr331806b3a.2.1744141932838; Tue, 08 Apr 2025 12:52:12 -0700 (PDT) Received: from postal.iol.unh.edu (postal.iol.unh.edu. [132.177.123.84]) by smtp-relay.gmail.com with ESMTPS id 41be03b00d2f7-af9bc3199e6sm445736a12.7.2025.04.08.12.52.12 (version=TLS1_2 cipher=ECDHE-ECDSA-AES128-GCM-SHA256 bits=128/128); Tue, 08 Apr 2025 12:52:12 -0700 (PDT) X-Relaying-Domain: iol.unh.edu Date: Tue, 08 Apr 2025 12:52:12 -0700 (PDT) Message-ID: <67f57e6c.050a0220.2fc5d7.da32SMTPIN_ADDED_MISSING@mx.google.com> Received: from [172.17.0.5] (unknown [172.18.0.217]) by postal.iol.unh.edu (Postfix) with ESMTP id 0A6576052471; Tue, 8 Apr 2025 15:52:12 -0400 (EDT) Subject: |SUCCESS| pw152824 [PATCH] cryptodev: add SNOW-V algorithms From: dpdklab@iol.unh.edu To: Test Report Cc: dpdk-test-reports@iol.unh.edu In-Reply-To: <20250408110851.2952910-1-radu.nicolau@intel.com> References: <20250408110851.2952910-1-radu.nicolau@intel.com> Content-Type: text/plain X-BeenThere: test-report@dpdk.org X-Mailman-Version: 2.1.29 Precedence: list List-Id: automatic DPDK test reports List-Unsubscribe: , List-Archive: List-Post: List-Help: List-Subscribe: , Errors-To: test-report-bounces@dpdk.org Test-Label: iol-unit-amd64-testing Test-Status: SUCCESS http://dpdk.org/patch/152824 _Testing PASS_ Submitter: Radu Nicolau Date: Tuesday, April 08 2025 11:08:51 DPDK git baseline: Repo:dpdk Branch: master CommitID:e30e194c4d06cf9b0e93f9f0f2a289bef96abc1a 152824 --> testing pass Upstream job id: Generic-VM-Unit-Test-DPDK#27856 Test environment and result as below: +---------------------+----------------+ | Environment | dpdk_unit_test | +=====================+================+ | Fedora 40 (Clang) | PASS | +---------------------+----------------+ | Debian 12 | PASS | +---------------------+----------------+ | RHEL8 | PASS | +---------------------+----------------+ | CentOS Stream 10 | PASS | +---------------------+----------------+ | CentOS Stream 9 | PASS | +---------------------+----------------+ | RHEL9 | PASS | +---------------------+----------------+ | Fedora 40 | PASS | +---------------------+----------------+ | Fedora 41 | PASS | +---------------------+----------------+ | Ubuntu 22.04 | PASS | +---------------------+----------------+ | Ubuntu 20.04 | PASS | +---------------------+----------------+ | Ubuntu 24.04 | PASS | +---------------------+----------------+ | Fedora 41 (Clang) | PASS | +---------------------+----------------+ | Windows Server 2022 | PASS | +---------------------+----------------+ Fedora 40 (Clang) Kernel: Depends on container host Compiler: clang 18.1.8 (Fedora 18.1.8-1.fc40) Debian 12 Kernel: Depends on container host Compiler: gcc (Debian 12.2.0-14) 12.2.0 RHEL8 Kernel: Depends on container host Compiler: gcc 8.5.0 20210514 (Red Hat 8.5.0-22) CentOS Stream 10 Kernel: Depends on container host Compiler: gcc 14.2.1 20241104 (Red Hat 14.2.1-6) CentOS Stream 9 Kernel: Depends on container host Compiler: gcc 11.5.0 20240719 (Red Hat 11.5.0-2) RHEL9 Kernel: Depends on container host Compiler: gcc 11.5.0 20240719 (Red Hat 11.5.0-2) Fedora 40 Kernel: Depends on container host Compiler: gcc 14.2.1 20240912 (Red Hat 14.2.1-3) Fedora 41 Kernel: Depends on container host Compiler: gcc 14.2.1 20240912 (Red Hat 14.2.1-3) Ubuntu 22.04 Kernel: Depends on container host Compiler: gcc (Ubuntu 11.4.0-1ubuntu1~22.04) 11.4.0 Ubuntu 20.04 Kernel: Depends on container host Compiler: gcc (Ubuntu 9.4.0-1ubuntu1~20.04.2) 9.4.0 Ubuntu 24.04 Kernel: Depends on container host Compiler: gcc (Ubuntu 13.3.0-6ubuntu2~24.04) 13.3.0 Fedora 41 (Clang) Kernel: Depends on container host Compiler: clang 19.1.5 (Fedora 19.1.5-1.fc41) Windows Server 2022 Kernel: 10.0.20348.2031 Compiler: clang 15.0.7, gcc 14.1.0 (MinGW), and MSVC VS 19.39.33521 To view detailed results, visit: https://lab.dpdk.org/results/dashboard/patchsets/32963/ UNH-IOL DPDK Community Lab To manage your email subscriptions, visit: https://lab.dpdk.org/results/dashboard/preferences/subscriptions/