From mboxrd@z Thu Jan 1 00:00:00 1970 Return-Path: Received: from mails.dpdk.org (mails.dpdk.org [217.70.189.124]) by inbox.dpdk.org (Postfix) with ESMTP id C95DE46537 for ; Tue, 8 Apr 2025 21:52:17 +0200 (CEST) Received: from mails.dpdk.org (localhost [127.0.0.1]) by mails.dpdk.org (Postfix) with ESMTP id C58D4402CB; Tue, 8 Apr 2025 21:52:17 +0200 (CEST) Received: from mail-il1-f228.google.com (mail-il1-f228.google.com [209.85.166.228]) by mails.dpdk.org (Postfix) with ESMTP id 3292C4026B for ; Tue, 8 Apr 2025 21:52:16 +0200 (CEST) Received: by mail-il1-f228.google.com with SMTP id e9e14a558f8ab-3d450154245so49866175ab.2 for ; Tue, 08 Apr 2025 12:52:16 -0700 (PDT) DKIM-Signature: v=1; a=rsa-sha256; c=relaxed/relaxed; d=iol.unh.edu; s=unh-iol; t=1744141935; x=1744746735; darn=dpdk.org; h=references:in-reply-to:cc:to:from:subject:message-id:date:from:to :cc:subject:date:message-id:reply-to; bh=q4Lp/pU/c2KjCPzaEPDikHfWlniav5VnZtW5sCZTDEM=; b=RR91Uz7r6ER6BbyIuiIXUGWX7dc2SF7/GY6IgRktXZImj2aR/ecQp8LK6k8nCAccRP 13z/VLHmoVGbBOtceTs135+zD2Bw6ZaKn5egQOp/wkHN6RgbHSrWQa0im3eC/EGr3rY7 K6uylJQZX69Eu1Wlltd3Gox/p/u2w5Y0l1Zho= X-Google-DKIM-Signature: v=1; a=rsa-sha256; c=relaxed/relaxed; d=1e100.net; s=20230601; t=1744141935; x=1744746735; h=references:in-reply-to:cc:to:from:subject:message-id:date :x-gm-message-state:from:to:cc:subject:date:message-id:reply-to; bh=q4Lp/pU/c2KjCPzaEPDikHfWlniav5VnZtW5sCZTDEM=; b=Ua21y/tHye2SzgEF6HzAO0SBHoqTleDrEU8fp16fMGMSsC9fnjtFQx6UNVN7H9kAcY JBzknm9PZs/mh9h3gVf41l9vibYhfkhFsZP9WoVYF9buitdcdcI9T31TXat12UP3uRS8 qTPO1IjrtfWm3lk/BmDdGNcOL/QpGwQk67u5F2BnCpvKbhS6n2di0GueUvQwh+ikQBaS 5qDdjgFzkua+fRhfzUR+8WG9QhrailADKlTHAdPgVpam0065QZuJbhg+Quxa6AZaumck t3cQdCqehHgRq8Qnt4eIxlL6EO3q6Md3mO1VLAjvva4aQYdo9R13WSyFpZgTrYOt8mgY wzZA== X-Gm-Message-State: AOJu0YzN6Op19CnceV5MvNkTBqU5sFnr0pUxD7mPj2Ob/obZt2k2qON0 Pg3HCI/TmV1HDph4jJbd3rnAx1nb26fZ10d4rSBka5VY3wK/IgyN2TvmrAeSl0qZutI/mToAdYt W2NMjpls2aIj7TxQ+EtZntuZ0Bg3lCxxd+JbHam9cwRDqWW7rZn3sPZQ1 X-Gm-Gg: ASbGncv7Jth3NqOtn9DbVzGPPFABW1vLznC2tihFbx7mfZZPJR6dq7sXxfQdiFZW0Z+ uQoayHD4gNndv2OPz7B54B14sFLGrpFTJi1rEU644mg7f2gYCp1mqUZIOl4IqCQ/qEfokR+CbH1 B5Zz7PhJq6cCU6kCWqp3rzpDPvxz05wv2YRDMn+ga+mRzw66OTZAMgGBitEWWPEkYuQpwwAs+Xr ZEMtWQWUQiyGfY6kc5OJjHTmK6/RNBMgj93og5PKr6+twb0iRmB8fozsaGKIMbE29yTSeAEj5p2 8TeSJx4qqltjngOBLwus61xfvAW1tc0DMtj9EVAFzhBC45VHaBxq X-Google-Smtp-Source: AGHT+IHBRuhLzs9gethtqKifMzgezU7ltS0sV72PoITjHSglqAJC+Xs4W/hme1Ytog7PJfWmm+JTEdQv8IWf X-Received: by 2002:a05:6e02:b47:b0:3d3:d965:62c3 with SMTP id e9e14a558f8ab-3d77c2b281dmr2809135ab.15.1744141935578; Tue, 08 Apr 2025 12:52:15 -0700 (PDT) Received: from postal.iol.unh.edu (postal.iol.unh.edu. [2606:4100:3880:1234::84]) by smtp-relay.gmail.com with ESMTPS id 8926c6da1cb9f-4f4f44b1ee6sm150015173.56.2025.04.08.12.52.15 (version=TLS1_2 cipher=ECDHE-ECDSA-AES128-GCM-SHA256 bits=128/128); Tue, 08 Apr 2025 12:52:15 -0700 (PDT) X-Relaying-Domain: iol.unh.edu Date: Tue, 08 Apr 2025 12:52:15 -0700 (PDT) Message-ID: <67f57e6f.050a0220.7721e.a22dSMTPIN_ADDED_MISSING@mx.google.com> Received: from [172.21.0.7] (unknown [172.18.0.240]) by postal.iol.unh.edu (Postfix) with ESMTP id 3F5E06052471; Tue, 8 Apr 2025 15:52:15 -0400 (EDT) Subject: |SUCCESS| pw152824 [PATCH] cryptodev: add SNOW-V algorithms From: dpdklab@iol.unh.edu To: Test Report Cc: dpdk-test-reports@iol.unh.edu In-Reply-To: <20250408110851.2952910-1-radu.nicolau@intel.com> References: <20250408110851.2952910-1-radu.nicolau@intel.com> Content-Type: text/plain X-BeenThere: test-report@dpdk.org X-Mailman-Version: 2.1.29 Precedence: list List-Id: automatic DPDK test reports List-Unsubscribe: , List-Archive: List-Post: List-Help: List-Subscribe: , Errors-To: test-report-bounces@dpdk.org Test-Label: iol-abi-testing Test-Status: SUCCESS http://dpdk.org/patch/152824 _Testing PASS_ Submitter: Radu Nicolau Date: Tuesday, April 08 2025 11:08:51 DPDK git baseline: Repo:dpdk Branch: master CommitID:e30e194c4d06cf9b0e93f9f0f2a289bef96abc1a 152824 --> testing pass Upstream job id: Generic-DPDK-Compile-ABI#122628 Test environment and result as below: +-------------------+----------+ | Environment | abi_test | +===================+==========+ | CentOS Stream 9 | PASS | +-------------------+----------+ | CentOS Stream 10 | PASS | +-------------------+----------+ | Debian 12 | PASS | +-------------------+----------+ | Fedora 40 (Clang) | PASS | +-------------------+----------+ | Fedora 40 | PASS | +-------------------+----------+ | RHEL8 | PASS | +-------------------+----------+ | Fedora 41 (Clang) | PASS | +-------------------+----------+ | Fedora 41 | PASS | +-------------------+----------+ | openSUSE Leap 15 | PASS | +-------------------+----------+ | RHEL9 | PASS | +-------------------+----------+ | Ubuntu 22.04 | PASS | +-------------------+----------+ | Ubuntu 24.04 | PASS | +-------------------+----------+ CentOS Stream 9 Kernel: Depends on container host Compiler: gcc 11.5.0 20240719 (Red Hat 11.5.0-2) CentOS Stream 10 Kernel: Depends on container host Compiler: gcc 14.2.1 20241104 (Red Hat 14.2.1-6) Debian 12 Kernel: Depends on container host Compiler: gcc (Debian 12.2.0-14) 12.2.0 Fedora 40 (Clang) Kernel: Depends on container host Compiler: clang 18.1.8 (Fedora 18.1.8-1.fc40) Fedora 40 Kernel: Depends on container host Compiler: gcc 14.2.1 20240912 (Red Hat 14.2.1-3) RHEL8 Kernel: Depends on container host Compiler: gcc 8.5.0 20210514 (Red Hat 8.5.0-22) Fedora 41 (Clang) Kernel: Depends on container host Compiler: clang 19.1.5 (Fedora 19.1.5-1.fc41) Fedora 41 Kernel: Depends on container host Compiler: gcc 14.2.1 20240912 (Red Hat 14.2.1-3) openSUSE Leap 15 Kernel: Depends on container host Compiler: gcc (SUSE Linux) 7.5.0 RHEL9 Kernel: Depends on container host Compiler: gcc 11.5.0 20240719 (Red Hat 11.5.0-2) Ubuntu 22.04 Kernel: Depends on container host Compiler: gcc (Ubuntu 11.4.0-1ubuntu1~22.04) 11.4.0 Ubuntu 24.04 Kernel: Depends on container host Compiler: gcc (Ubuntu 13.3.0-6ubuntu2~24.04) 13.3.0 To view detailed results, visit: https://lab.dpdk.org/results/dashboard/patchsets/32963/ UNH-IOL DPDK Community Lab To manage your email subscriptions, visit: https://lab.dpdk.org/results/dashboard/preferences/subscriptions/