From mboxrd@z Thu Jan 1 00:00:00 1970 Return-Path: Received: from mails.dpdk.org (mails.dpdk.org [217.70.189.124]) by inbox.dpdk.org (Postfix) with ESMTP id E163046537 for ; Tue, 8 Apr 2025 21:52:48 +0200 (CEST) Received: from mails.dpdk.org (localhost [127.0.0.1]) by mails.dpdk.org (Postfix) with ESMTP id DCBA4402CB; Tue, 8 Apr 2025 21:52:48 +0200 (CEST) Received: from mail-qk1-f228.google.com (mail-qk1-f228.google.com [209.85.222.228]) by mails.dpdk.org (Postfix) with ESMTP id 7F6E34026B for ; Tue, 8 Apr 2025 21:52:47 +0200 (CEST) Received: by mail-qk1-f228.google.com with SMTP id af79cd13be357-7c54b651310so803576685a.0 for ; Tue, 08 Apr 2025 12:52:47 -0700 (PDT) DKIM-Signature: v=1; a=rsa-sha256; c=relaxed/relaxed; d=iol.unh.edu; s=unh-iol; t=1744141967; x=1744746767; darn=dpdk.org; h=references:in-reply-to:cc:to:from:subject:message-id:date:from:to :cc:subject:date:message-id:reply-to; bh=aYrmK/ioCvt8yfl3u6vnETkCroXrhknMI9Hb+AM5CXU=; b=JSy5yEszV9Nrg22MRmuLgHpOE8dAHP60RleYBvEOKhyl8muosy7ShIB4gLGLGTIyZu CjCr0AoIwkdDVqOUFTIaBDWjLZ5wCZcKA0C7PuQCUENItZAtM4jbj3zNSEgADoeMF+hb KrU83Q3Y7aPIMFceqo38U9Bn8970KnWefDGLw= X-Google-DKIM-Signature: v=1; a=rsa-sha256; c=relaxed/relaxed; d=1e100.net; s=20230601; t=1744141967; x=1744746767; h=references:in-reply-to:cc:to:from:subject:message-id:date :x-gm-message-state:from:to:cc:subject:date:message-id:reply-to; bh=aYrmK/ioCvt8yfl3u6vnETkCroXrhknMI9Hb+AM5CXU=; b=g6MF6w2sGK10640nj7NoFyU/WaUYMmHzOT/D9mIxt8vMhwgBfPO8Y3yNoRLm1CbxGQ M4c2P3IKS9pOTvMmIFMhBv4eQO2Ao18wcqxT+sUeQ+XoZZG6aHW/yWC87ZZXSNvNpd2d gkkW7qFOnf+wh71ilA1I2YyuRKaLkA7PN5J6K7OoI2Au3zD1SoRQyk3I/slWOZb+ue+r 8oNfLLoaxsiXs9inopvQjEliJ1FCg1prcDlOQ5sHMpWgj0kZ8M77/CiudYSC6gklK1u7 QvW6Gi86wiIy+qG8Npyrw+CpLR6OJVc46n5PeOscbPpR32J+ZbxyU4rmkKgwFleC73Sy eIcA== X-Gm-Message-State: AOJu0YwHmrBEEScFBBb5DuX7O7sJ56aGsosdwKaGGF26/cWJ04QYpoPo 8fI+rVHeAZ6nS2a0G0uruUUv6RLDf2jphCG7eAw6WCrse/psc8BwmFPtPfb6Cmup7Vage8+yP+9 9D9vHHhiAHfVH7SmxQDOjKu+Q/6bjyItHAkavWqqem7dkUAVVs0MIG0Ha X-Gm-Gg: ASbGncvdEAfPRf+HeZyceZ0QcDVr4gfuPEOK7/KQ/ior1LERlLMTBsrIiZBFQhs5LQ0 vvcX9mzwhj26ZekHD14P4wu44L0SWW3nw4fCN3tOEPtW0r1TFU0WUC9F76z3KZRJr9iKJg1b5lD G54GrVxV1mOe0/uohDzyPA7lE1bzx8lzodnMgQHrcnZbsBbNR4pObs3lfElEtzYcpJp3CmwrcRs 9dIT/I+OmPk94eOliW1ZsMkr2HdkXhCk/pHj4n0+bP+vBZB4OmfdfSnQDI1O+f+3RsIQF/3ucKx BLDTycEgDpKLxqmG57KC600wRBw9yVSZcWlDF2xbsc8X0c56hZsu X-Google-Smtp-Source: AGHT+IGXv+KXCNQ+I7oUezKIl+Maj47Xh8cwYDJ3PtxflXVlNjJtCDdLDUaqga8YXf49n3yDsMZ2nZBkGQ/Z X-Received: by 2002:a05:620a:a98:b0:7c5:99a6:7883 with SMTP id af79cd13be357-7c79cc55fa4mr65131085a.54.1744141966932; Tue, 08 Apr 2025 12:52:46 -0700 (PDT) Received: from postal.iol.unh.edu (postal.iol.unh.edu. [2606:4100:3880:1234::84]) by smtp-relay.gmail.com with ESMTPS id af79cd13be357-7c76ea5897fsm67065085a.6.2025.04.08.12.52.46 (version=TLS1_2 cipher=ECDHE-ECDSA-AES128-GCM-SHA256 bits=128/128); Tue, 08 Apr 2025 12:52:46 -0700 (PDT) X-Relaying-Domain: iol.unh.edu Date: Tue, 08 Apr 2025 12:52:46 -0700 (PDT) Message-ID: <67f57e8e.050a0220.1a799.8816SMTPIN_ADDED_MISSING@mx.google.com> Received: from [172.17.0.5] (unknown [172.18.0.217]) by postal.iol.unh.edu (Postfix) with ESMTP id A237F6052471; Tue, 8 Apr 2025 15:52:46 -0400 (EDT) Subject: |SUCCESS| pw152824 [PATCH] cryptodev: add SNOW-V algorithms From: dpdklab@iol.unh.edu To: Test Report Cc: dpdk-test-reports@iol.unh.edu In-Reply-To: <20250408110851.2952910-1-radu.nicolau@intel.com> References: <20250408110851.2952910-1-radu.nicolau@intel.com> Content-Type: text/plain X-BeenThere: test-report@dpdk.org X-Mailman-Version: 2.1.29 Precedence: list List-Id: automatic DPDK test reports List-Unsubscribe: , List-Archive: List-Post: List-Help: List-Subscribe: , Errors-To: test-report-bounces@dpdk.org Test-Label: iol-abi-testing Test-Status: SUCCESS http://dpdk.org/patch/152824 _Testing PASS_ Submitter: Radu Nicolau Date: Tuesday, April 08 2025 11:08:51 DPDK git baseline: Repo:dpdk Branch: master CommitID:e30e194c4d06cf9b0e93f9f0f2a289bef96abc1a 152824 --> testing pass Upstream job id: Generic-DPDK-Compile-ABI#122634 Test environment and result as below: +-------------------+----------+ | Environment | abi_test | +===================+==========+ | CentOS Stream 9 | PASS | +-------------------+----------+ | CentOS Stream 10 | PASS | +-------------------+----------+ | Debian 12 | PASS | +-------------------+----------+ | Fedora 40 (Clang) | PASS | +-------------------+----------+ | Fedora 40 | PASS | +-------------------+----------+ | RHEL8 | PASS | +-------------------+----------+ | Fedora 41 (Clang) | PASS | +-------------------+----------+ | Fedora 41 | PASS | +-------------------+----------+ | openSUSE Leap 15 | PASS | +-------------------+----------+ | RHEL9 | PASS | +-------------------+----------+ | Ubuntu 22.04 | PASS | +-------------------+----------+ | Ubuntu 24.04 | PASS | +-------------------+----------+ CentOS Stream 9 Kernel: Depends on container host Compiler: gcc 11.5.0 20240719 (Red Hat 11.5.0-2) CentOS Stream 10 Kernel: Depends on container host Compiler: gcc 14.2.1 20241104 (Red Hat 14.2.1-6) Debian 12 Kernel: Depends on container host Compiler: gcc (Debian 12.2.0-14) 12.2.0 Fedora 40 (Clang) Kernel: Depends on container host Compiler: clang 18.1.8 (Fedora 18.1.8-1.fc40) Fedora 40 Kernel: Depends on container host Compiler: gcc 14.2.1 20240912 (Red Hat 14.2.1-3) RHEL8 Kernel: Depends on container host Compiler: gcc 8.5.0 20210514 (Red Hat 8.5.0-22) Fedora 41 (Clang) Kernel: Depends on container host Compiler: clang 19.1.5 (Fedora 19.1.5-1.fc41) Fedora 41 Kernel: Depends on container host Compiler: gcc 14.2.1 20240912 (Red Hat 14.2.1-3) openSUSE Leap 15 Kernel: Depends on container host Compiler: gcc (SUSE Linux) 7.5.0 RHEL9 Kernel: Depends on container host Compiler: gcc 11.5.0 20240719 (Red Hat 11.5.0-2) Ubuntu 22.04 Kernel: Depends on container host Compiler: gcc (Ubuntu 11.4.0-1ubuntu1~22.04) 11.4.0 Ubuntu 24.04 Kernel: Depends on container host Compiler: gcc (Ubuntu 13.3.0-6ubuntu2~24.04) 13.3.0 To view detailed results, visit: https://lab.dpdk.org/results/dashboard/patchsets/32963/ UNH-IOL DPDK Community Lab To manage your email subscriptions, visit: https://lab.dpdk.org/results/dashboard/preferences/subscriptions/