From mboxrd@z Thu Jan 1 00:00:00 1970 Return-Path: Received: from mails.dpdk.org (mails.dpdk.org [217.70.189.124]) by inbox.dpdk.org (Postfix) with ESMTP id BD44946538 for ; Tue, 8 Apr 2025 22:29:13 +0200 (CEST) Received: from mails.dpdk.org (localhost [127.0.0.1]) by mails.dpdk.org (Postfix) with ESMTP id A0A72402ED; Tue, 8 Apr 2025 22:29:13 +0200 (CEST) Received: from mail-io1-f100.google.com (mail-io1-f100.google.com [209.85.166.100]) by mails.dpdk.org (Postfix) with ESMTP id 63AEC4026B for ; Tue, 8 Apr 2025 22:29:12 +0200 (CEST) Received: by mail-io1-f100.google.com with SMTP id ca18e2360f4ac-8613f456960so72511739f.1 for ; Tue, 08 Apr 2025 13:29:12 -0700 (PDT) DKIM-Signature: v=1; a=rsa-sha256; c=relaxed/relaxed; d=iol.unh.edu; s=unh-iol; t=1744144151; x=1744748951; darn=dpdk.org; h=references:in-reply-to:cc:to:from:subject:message-id:date:from:to :cc:subject:date:message-id:reply-to; bh=1l+NUY2G68HXPGTF7/dEWUGGI7aHvL5YWbZ60Hx1U7Y=; b=aymEBJ3QePUR2qN/BTd7HYeffkK+ZKkfHV+wAF23FTConFkvbc4Vg/TAmFhp0uOizl R7RJojKkeqxh8QJtnS4eH0gs2kvgvuu4/3mntOhmxou5LE+7xn/z1hgeTWVSfEUyYzeu Pys2q4Y0JDHigNFfEzx/NfJsSQTaSsezyHhjM= X-Google-DKIM-Signature: v=1; a=rsa-sha256; c=relaxed/relaxed; d=1e100.net; s=20230601; t=1744144151; x=1744748951; h=references:in-reply-to:cc:to:from:subject:message-id:date :x-gm-message-state:from:to:cc:subject:date:message-id:reply-to; bh=1l+NUY2G68HXPGTF7/dEWUGGI7aHvL5YWbZ60Hx1U7Y=; b=pmu6/FZepbB2eLoanDOPa75s0vLzkk4StQfG1lQxTJmUU4JN1R8v21/Z4rqjnwDzWk Zs6+SOvT8Rqo+2g82prIZTI5+GIYN1svsP3xQ+kKxMuc1CIKZQpz+RQhKeGRl18m5MX0 qDHv27H3lDMAuLDZIY0klBC3sFwq3ZaKRj3RzEnuPoa56IAXxQVuHk8NdYmMfPyV2uO3 dkNcqdmU6kHKsqJS8rFkiUbWPwozqC0lt2QnKBwDPwXnJG/S//dmHJeTN7q9m3aKyPNP o5Uv/KedzrIil+GEk+E89HxLFaj+eA12rUdQzzUmOdWgEUvQ6ZFjYOKvkDoyt3nHPul9 32WQ== X-Gm-Message-State: AOJu0YzyWPZmYQnqCUxn/Uvd8n7t530g+yY5vey/dkAhOXzafbJr25hf zlKXkz8LfxR032oUsTZObhEntja4+ZmTWKGMxldeNJbjhGDK/5XnKdrmrm2XiXtHpQyvYZsuRrQ faMbKdrNtZEAp9heiRxsVsZCVQPSB0GLKjccxR5Ww X-Gm-Gg: ASbGncv3I+iLl6LM1tIV7K65eSYgz0O9d15iD4zZ2DGZLOp3mUcV9CoxsPAJwr4ukZs KW3vlioi/wy1Mt31AnT/ShV2cATp0P4mVsuChT2orh2fil8DfL4FNFaT51OT7fqe3G4L5u1c7T8 UXKjXag7AOeNWfiHZIZl3UjrWZrS6oSD956HQRQwn75sBMjuHT0DKKHMDNQ8/FG3yFJ2zYk7FuK 9WtOsaAzgFz3VfVu+PEnItTd1sp5jCPU/WUTAW56NuTo80eKVTVe91cKa3Pe0wkF6HACjeow15X lmzV080eQRFtJXqKqHMZV+/hrzitopS7XkV5E6II X-Google-Smtp-Source: AGHT+IGuPFCZxAZrEC+rZryiyKEB+THJXBjyMQ8TmZGj/VPS0m1Ww8m0QI58vMvXsMJfX/0oW+ofVnE99kNS X-Received: by 2002:a05:6602:3897:b0:85b:4319:2a2a with SMTP id ca18e2360f4ac-861611c6bb5mr76837539f.6.1744144151628; Tue, 08 Apr 2025 13:29:11 -0700 (PDT) Received: from postal.iol.unh.edu (postal.iol.unh.edu. [132.177.123.84]) by smtp-relay.gmail.com with ESMTPS id 8926c6da1cb9f-4f4f44b1441sm158465173.58.2025.04.08.13.29.11 (version=TLS1_2 cipher=ECDHE-ECDSA-AES128-GCM-SHA256 bits=128/128); Tue, 08 Apr 2025 13:29:11 -0700 (PDT) X-Relaying-Domain: iol.unh.edu Date: Tue, 08 Apr 2025 13:29:11 -0700 (PDT) Message-ID: <67f58717.050a0220.842cc.835dSMTPIN_ADDED_MISSING@mx.google.com> Received: from [172.17.0.3] (unknown [172.18.0.217]) by postal.iol.unh.edu (Postfix) with ESMTP id 285EA6052472; Tue, 8 Apr 2025 16:29:11 -0400 (EDT) Subject: |SUCCESS| pw152833 [PATCH] net/ice: fix Rx of large packets From: dpdklab@iol.unh.edu To: Test Report Cc: dpdk-test-reports@iol.unh.edu In-Reply-To: <20250408155736.2739406-1-bruce.richardson@intel.com> References: <20250408155736.2739406-1-bruce.richardson@intel.com> Content-Type: text/plain X-BeenThere: test-report@dpdk.org X-Mailman-Version: 2.1.29 Precedence: list List-Id: automatic DPDK test reports List-Unsubscribe: , List-Archive: List-Post: List-Help: List-Subscribe: , Errors-To: test-report-bounces@dpdk.org Test-Label: iol-unit-amd64-testing Test-Status: SUCCESS http://dpdk.org/patch/152833 _Testing PASS_ Submitter: Bruce Richardson Date: Tuesday, April 08 2025 15:57:36 DPDK git baseline: Repo:dpdk Branch: master CommitID:d7817c378fecd07c59360667f93c25dff4b1a145 152833 --> testing pass Upstream job id: Generic-Unit-Test-DPDK#329534 Test environment and result as below: +---------------------+----------------+ | Environment | dpdk_unit_test | +=====================+================+ | CentOS Stream 9 | PASS | +---------------------+----------------+ | CentOS Stream 10 | PASS | +---------------------+----------------+ | Debian 12 | PASS | +---------------------+----------------+ | Fedora 41 | PASS | +---------------------+----------------+ | Ubuntu 20.04 | PASS | +---------------------+----------------+ | Fedora 40 | PASS | +---------------------+----------------+ | Fedora 40 (Clang) | PASS | +---------------------+----------------+ | RHEL9 | PASS | +---------------------+----------------+ | Fedora 41 (Clang) | PASS | +---------------------+----------------+ | RHEL8 | PASS | +---------------------+----------------+ | Ubuntu 24.04 | PASS | +---------------------+----------------+ | Ubuntu 22.04 | PASS | +---------------------+----------------+ | Windows Server 2022 | PASS | +---------------------+----------------+ CentOS Stream 9 Kernel: Depends on container host Compiler: gcc 11.5.0 20240719 (Red Hat 11.5.0-2) CentOS Stream 10 Kernel: Depends on container host Compiler: gcc 14.2.1 20241104 (Red Hat 14.2.1-6) Debian 12 Kernel: Depends on container host Compiler: gcc (Debian 12.2.0-14) 12.2.0 Fedora 41 Kernel: Depends on container host Compiler: gcc 14.2.1 20240912 (Red Hat 14.2.1-3) Ubuntu 20.04 Kernel: Depends on container host Compiler: gcc (Ubuntu 9.4.0-1ubuntu1~20.04.2) 9.4.0 Fedora 40 Kernel: Depends on container host Compiler: gcc 14.2.1 20240912 (Red Hat 14.2.1-3) Fedora 40 (Clang) Kernel: Depends on container host Compiler: clang 18.1.8 (Fedora 18.1.8-1.fc40) RHEL9 Kernel: Depends on container host Compiler: gcc 11.5.0 20240719 (Red Hat 11.5.0-2) Fedora 41 (Clang) Kernel: Depends on container host Compiler: clang 19.1.5 (Fedora 19.1.5-1.fc41) RHEL8 Kernel: Depends on container host Compiler: gcc 8.5.0 20210514 (Red Hat 8.5.0-22) Ubuntu 24.04 Kernel: Depends on container host Compiler: gcc (Ubuntu 13.3.0-6ubuntu2~24.04) 13.3.0 Ubuntu 22.04 Kernel: Depends on container host Compiler: gcc (Ubuntu 11.4.0-1ubuntu1~22.04) 11.4.0 Windows Server 2022 Kernel: 10.0.20348.2031 Compiler: clang 15.0.7, gcc 14.1.0 (MinGW), and MSVC VS 19.39.33521 To view detailed results, visit: https://lab.dpdk.org/results/dashboard/patchsets/32968/ UNH-IOL DPDK Community Lab To manage your email subscriptions, visit: https://lab.dpdk.org/results/dashboard/preferences/subscriptions/