From mboxrd@z Thu Jan 1 00:00:00 1970 Return-Path: Received: from mails.dpdk.org (mails.dpdk.org [217.70.189.124]) by inbox.dpdk.org (Postfix) with ESMTP id E0DE346538 for ; Tue, 8 Apr 2025 22:39:27 +0200 (CEST) Received: from mails.dpdk.org (localhost [127.0.0.1]) by mails.dpdk.org (Postfix) with ESMTP id DCF50402CB; Tue, 8 Apr 2025 22:39:27 +0200 (CEST) Received: from mail-pf1-f227.google.com (mail-pf1-f227.google.com [209.85.210.227]) by mails.dpdk.org (Postfix) with ESMTP id A3842402CB for ; Tue, 8 Apr 2025 22:39:26 +0200 (CEST) Received: by mail-pf1-f227.google.com with SMTP id d2e1a72fcca58-739525d4e12so5484146b3a.3 for ; Tue, 08 Apr 2025 13:39:26 -0700 (PDT) DKIM-Signature: v=1; a=rsa-sha256; c=relaxed/relaxed; d=iol.unh.edu; s=unh-iol; t=1744144766; x=1744749566; darn=dpdk.org; h=references:in-reply-to:cc:to:from:subject:message-id:date:from:to :cc:subject:date:message-id:reply-to; bh=c4YTSY6A2G1lj8CyTpHPxpMGl3/LpFcOUC+ITTX9SIA=; b=OexdN9iXf02y7Q31cYIAg2Z95nAW+f8yNHf7MCeM8xNcE1zT2nb6A2JegMY0FhuiCz 45jbQgX6RM67PrkA3OlKZfv66y44NCFgSQEBTQi6wUNQhLJ76MNlBn/eHI03v624ufAi ccgcjnAnTr3PlwjkMY9jY9//cca08Hxd080WM= X-Google-DKIM-Signature: v=1; a=rsa-sha256; c=relaxed/relaxed; d=1e100.net; s=20230601; t=1744144766; x=1744749566; h=references:in-reply-to:cc:to:from:subject:message-id:date :x-gm-message-state:from:to:cc:subject:date:message-id:reply-to; bh=c4YTSY6A2G1lj8CyTpHPxpMGl3/LpFcOUC+ITTX9SIA=; b=dlZnQdnFEnYwT7jfZgC5McsbeARPmyOa8hLG1eCi4fEBkqjVnsHflGVf1kCHvUttS+ vVrNhoH//Zfp9CvHyIubA8K4DjG4MBEQZgrEf4bXBx1oqc22E+/El8GDcUyH5wepgmfQ gk1DppTh4Nk5QjbYLRJctQY4CdimowxzFaqDjomIxeoxJfFrAo2dCh2BO+yXpaziRRpy 6xRxV+AXBosCSzTUMqgBoY7FXvLLz91WGqQd2G00kLkp3OLce9xy5yoayoQ2zu+Mqnam eXpEOhfSLAtcCKBnJg+nCn7u5Z/vJ6wE2SUV4HUcOPSmLiQq3CpjiZ3XICyW8JTEGmdU w3Tw== X-Gm-Message-State: AOJu0YxJtNQBkPfMjHWyMMM4qRbmmPekw63X43ALkcexWsqnQuVrpqnw KmFlnFk+/qcp27TvbgCkPiyzRwhxB87E3f9tEEWSk0dtFLrtXA/TTcOZ2cAEldOQ+pTsgkauJ/0 TJjc7sV5p3WmqYB4vGou2DFUMYeuSgsWAgE5OwN/lENax7fNqVyvVeJrb X-Gm-Gg: ASbGnctu2nERfa3DxurvILtzlAtho4ichrZdy0YGUG/PCgoqS6c60Nak1SDSRH0UXnc hKpg0TcYZsv0Oh26L7RfSixQA1rMmAZcoDtknX1yBUDM+Mj6bGsa+vJRJxCKtAD3L1YjsDcEZE8 A/JhsNY2tW0zYlg4r3YfVP9Lo/0+QU84sNRf/y9rlrtOQnnob0DHz0fid6gIO25KwFElOIlmbFV 9lgYa7nJhWV54fwipfIcQI9+JHIol2iGb75gdynLiYn0/Vsjdz/dwDFI9MO85U0imzitliZqWOo jiwpTEz3qwUOM714DM/+lgUxwqZPTu9Mp75MuA8APDaWWR51f9qo X-Google-Smtp-Source: AGHT+IETC1klNDt1RbpnyhuNn7Xb0KI7gHbHMCnHn3GIoaCSyxJBxRRqWbrxw4D+/k2nxhivf70gNze1VEQI X-Received: by 2002:a17:90b:274b:b0:2ff:6788:cc67 with SMTP id 98e67ed59e1d1-306dbc40619mr536701a91.34.1744144765900; Tue, 08 Apr 2025 13:39:25 -0700 (PDT) Received: from postal.iol.unh.edu (postal.iol.unh.edu. [2606:4100:3880:1234::84]) by smtp-relay.gmail.com with ESMTPS id 98e67ed59e1d1-30588a2e38esm960671a91.8.2025.04.08.13.39.25 (version=TLS1_2 cipher=ECDHE-ECDSA-AES128-GCM-SHA256 bits=128/128); Tue, 08 Apr 2025 13:39:25 -0700 (PDT) X-Relaying-Domain: iol.unh.edu Date: Tue, 08 Apr 2025 13:39:25 -0700 (PDT) Message-ID: <67f5897d.170a0220.ce914.93c5SMTPIN_ADDED_MISSING@mx.google.com> Received: from [172.21.0.6] (unknown [172.18.0.240]) by postal.iol.unh.edu (Postfix) with ESMTP id 1EC056052471; Tue, 8 Apr 2025 16:39:25 -0400 (EDT) Subject: |SUCCESS| pw152833 [PATCH] net/ice: fix Rx of large packets From: dpdklab@iol.unh.edu To: Test Report Cc: dpdk-test-reports@iol.unh.edu In-Reply-To: <20250408155736.2739406-1-bruce.richardson@intel.com> References: <20250408155736.2739406-1-bruce.richardson@intel.com> Content-Type: text/plain X-BeenThere: test-report@dpdk.org X-Mailman-Version: 2.1.29 Precedence: list List-Id: automatic DPDK test reports List-Unsubscribe: , List-Archive: List-Post: List-Help: List-Subscribe: , Errors-To: test-report-bounces@dpdk.org Test-Label: iol-unit-amd64-testing Test-Status: SUCCESS http://dpdk.org/patch/152833 _Testing PASS_ Submitter: Bruce Richardson Date: Tuesday, April 08 2025 15:57:36 DPDK git baseline: Repo:dpdk Branch: master CommitID:d7817c378fecd07c59360667f93c25dff4b1a145 152833 --> testing pass Upstream job id: Generic-VM-Unit-Test-DPDK#27858 Test environment and result as below: +---------------------+----------------+ | Environment | dpdk_unit_test | +=====================+================+ | CentOS Stream 9 | PASS | +---------------------+----------------+ | CentOS Stream 10 | PASS | +---------------------+----------------+ | Debian 12 | PASS | +---------------------+----------------+ | Fedora 41 | PASS | +---------------------+----------------+ | Ubuntu 20.04 | PASS | +---------------------+----------------+ | Fedora 40 | PASS | +---------------------+----------------+ | Fedora 40 (Clang) | PASS | +---------------------+----------------+ | RHEL9 | PASS | +---------------------+----------------+ | Fedora 41 (Clang) | PASS | +---------------------+----------------+ | RHEL8 | PASS | +---------------------+----------------+ | Ubuntu 24.04 | PASS | +---------------------+----------------+ | Ubuntu 22.04 | PASS | +---------------------+----------------+ | Windows Server 2022 | PASS | +---------------------+----------------+ CentOS Stream 9 Kernel: Depends on container host Compiler: gcc 11.5.0 20240719 (Red Hat 11.5.0-2) CentOS Stream 10 Kernel: Depends on container host Compiler: gcc 14.2.1 20241104 (Red Hat 14.2.1-6) Debian 12 Kernel: Depends on container host Compiler: gcc (Debian 12.2.0-14) 12.2.0 Fedora 41 Kernel: Depends on container host Compiler: gcc 14.2.1 20240912 (Red Hat 14.2.1-3) Ubuntu 20.04 Kernel: Depends on container host Compiler: gcc (Ubuntu 9.4.0-1ubuntu1~20.04.2) 9.4.0 Fedora 40 Kernel: Depends on container host Compiler: gcc 14.2.1 20240912 (Red Hat 14.2.1-3) Fedora 40 (Clang) Kernel: Depends on container host Compiler: clang 18.1.8 (Fedora 18.1.8-1.fc40) RHEL9 Kernel: Depends on container host Compiler: gcc 11.5.0 20240719 (Red Hat 11.5.0-2) Fedora 41 (Clang) Kernel: Depends on container host Compiler: clang 19.1.5 (Fedora 19.1.5-1.fc41) RHEL8 Kernel: Depends on container host Compiler: gcc 8.5.0 20210514 (Red Hat 8.5.0-22) Ubuntu 24.04 Kernel: Depends on container host Compiler: gcc (Ubuntu 13.3.0-6ubuntu2~24.04) 13.3.0 Ubuntu 22.04 Kernel: Depends on container host Compiler: gcc (Ubuntu 11.4.0-1ubuntu1~22.04) 11.4.0 Windows Server 2022 Kernel: 10.0.20348.2031 Compiler: clang 15.0.7, gcc 14.1.0 (MinGW), and MSVC VS 19.39.33521 To view detailed results, visit: https://lab.dpdk.org/results/dashboard/patchsets/32968/ UNH-IOL DPDK Community Lab To manage your email subscriptions, visit: https://lab.dpdk.org/results/dashboard/preferences/subscriptions/