From mboxrd@z Thu Jan 1 00:00:00 1970 Return-Path: Received: from mails.dpdk.org (mails.dpdk.org [217.70.189.124]) by inbox.dpdk.org (Postfix) with ESMTP id BE9EF46538 for ; Tue, 8 Apr 2025 22:45:29 +0200 (CEST) Received: from mails.dpdk.org (localhost [127.0.0.1]) by mails.dpdk.org (Postfix) with ESMTP id 95710402CB; Tue, 8 Apr 2025 22:45:29 +0200 (CEST) Received: from mail-pf1-f228.google.com (mail-pf1-f228.google.com [209.85.210.228]) by mails.dpdk.org (Postfix) with ESMTP id 0A1004026B for ; Tue, 8 Apr 2025 22:45:28 +0200 (CEST) Received: by mail-pf1-f228.google.com with SMTP id d2e1a72fcca58-739525d4e12so5487918b3a.3 for ; Tue, 08 Apr 2025 13:45:27 -0700 (PDT) DKIM-Signature: v=1; a=rsa-sha256; c=relaxed/relaxed; d=iol.unh.edu; s=unh-iol; t=1744145127; x=1744749927; darn=dpdk.org; h=references:in-reply-to:cc:to:from:subject:message-id:date:from:to :cc:subject:date:message-id:reply-to; bh=DRQ9esIPR10bCvBkhbT+eZPCe5LAwEBtZHhPq0oI+2E=; b=SV14Zl7lh7VEUtB9VIcszVYxCz6eJN2z1THTNPO8DMex7azK8FD3c2OVXIOj3H8N0/ PvI3ILRCk1LCWM60ewvZksgqgQ6xWmtOkmmWeMixlqKQtJUgboPUwsayX5JWYfLjHajL cyMEJHRYtSOSPs59tkZirPwIp4UJVFFn9XH5E= X-Google-DKIM-Signature: v=1; a=rsa-sha256; c=relaxed/relaxed; d=1e100.net; s=20230601; t=1744145127; x=1744749927; h=references:in-reply-to:cc:to:from:subject:message-id:date :x-gm-message-state:from:to:cc:subject:date:message-id:reply-to; bh=DRQ9esIPR10bCvBkhbT+eZPCe5LAwEBtZHhPq0oI+2E=; b=RxpsOAb9mgZco9pmOqCO/c/VJGEp1fp9qMhLiYQ4/LUAevJ4rVCCqjIOW9uYPMjMIo U0eqcL/9uxR0yU/Ndd3FpqQjjPrFM4fh8Fr3sZUWPk+1zDY4Z20aGil1rgbcwtJVGNAI BIY+VuzXPd+bi4ahmM4Hkkd5E/AP20w71jwSHPvqeMG584vUDFPK9PgJZxn21oF0DfrV KPAoiaoOQ8834kOddVomm+8cjUxTFs3PRXxebipzLxsbFb7HIZJoo3OHJvfVFISaFQmh rfXaFr8cERPX7zdgQxlUY7K7gQSicYvER6tpxb2lEKwraXt9anblBtb0V2mswEvJM2tL Mubg== X-Gm-Message-State: AOJu0YxB3jpLbfQQt6nocB7jaxM1XZNBGZGYpRNVmC1ahVvtRVch9BJ2 u6zLXuaGGvYRUZu+51kFgIRaYNYL6R2f08fEdTSt5rnw6FomrX91oAue2XOyCyrt6iQbXtEE1ex iE38BLnrkFoNM7ie449DJUrRAjkiDEPAUybA1Q0GRfogaGbhk01HUQ5d8 X-Gm-Gg: ASbGnctJE7+Bp84aK/WfDs6PdZT5k1gRAloGBPL0ubEDV631bpJ6cjY7ZnO/gRq/UOQ YkQAkEw4KQQZiPDRQdEBfG6F3MbDVgalrSKCj5HT2jCwGgcALyWii5oByGiCX7ObiFZsQSw6Jyi XH/9sC7V1cRQiUQmaQmNcIV5Uyn8KSLdU45JYmrygwKvAU4HGcaXdMGTYWI+XGTExIzWbajcUsj 5yJsD7GVKlAvMzlYzoVpSRr8l+R2Xu7hNKHqgE2aZx7tz2BzDjV3CW3/dq//mOj1SzbzP9qdsWd sK1MiSwSkhKxsaN4E9bRo/Mv9biJ0PujoDVSZEVF9XlSLtmneAQs X-Google-Smtp-Source: AGHT+IG4W4M396KPe+BQuddCaQL+YxhqIl2pHqchNubUh67lvEphmgHNhyRVDB3N7RQRFuqfDCR0aUgk5R7F X-Received: by 2002:a05:6a21:3387:b0:1ee:a914:1d64 with SMTP id adf61e73a8af0-201592ad426mr376681637.28.1744145127113; Tue, 08 Apr 2025 13:45:27 -0700 (PDT) Received: from postal.iol.unh.edu (postal.iol.unh.edu. [2606:4100:3880:1234::84]) by smtp-relay.gmail.com with ESMTPS id 41be03b00d2f7-af9bc40d146sm761190a12.26.2025.04.08.13.45.26 (version=TLS1_2 cipher=ECDHE-ECDSA-AES128-GCM-SHA256 bits=128/128); Tue, 08 Apr 2025 13:45:27 -0700 (PDT) X-Relaying-Domain: iol.unh.edu Date: Tue, 08 Apr 2025 13:45:27 -0700 (PDT) Message-ID: <67f58ae7.630a0220.357ab2.175cSMTPIN_ADDED_MISSING@mx.google.com> Received: from [172.21.0.6] (unknown [172.18.0.240]) by postal.iol.unh.edu (Postfix) with ESMTP id 53C856052471; Tue, 8 Apr 2025 16:45:26 -0400 (EDT) Subject: |SUCCESS| pw152824 [PATCH] cryptodev: add SNOW-V algorithms From: dpdklab@iol.unh.edu To: Test Report Cc: dpdk-test-reports@iol.unh.edu In-Reply-To: <20250408110851.2952910-1-radu.nicolau@intel.com> References: <20250408110851.2952910-1-radu.nicolau@intel.com> Content-Type: text/plain X-BeenThere: test-report@dpdk.org X-Mailman-Version: 2.1.29 Precedence: list List-Id: automatic DPDK test reports List-Unsubscribe: , List-Archive: List-Post: List-Help: List-Subscribe: , Errors-To: test-report-bounces@dpdk.org Test-Label: iol-unit-arm64-testing Test-Status: SUCCESS http://dpdk.org/patch/152824 _Testing PASS_ Submitter: Radu Nicolau Date: Tuesday, April 08 2025 11:08:51 DPDK git baseline: Repo:dpdk Branch: master CommitID:e30e194c4d06cf9b0e93f9f0f2a289bef96abc1a 152824 --> testing pass Upstream job id: Generic-Unit-Test-DPDK#329499 Test environment and result as below: +-----------------------------+----------------+--------------+---------------------------+------------------------------+ | Environment | dpdk_unit_test | lpm_autotest | cryptodev_sw_zuc_autotest | cryptodev_sw_snow3g_autotest | +=============================+================+==============+===========================+==============================+ | CentOS Stream 9 (ARM) | PASS | SKIPPED | SKIPPED | SKIPPED | +-----------------------------+----------------+--------------+---------------------------+------------------------------+ | Fedora 41 (ARM Clang) | PASS | SKIPPED | SKIPPED | SKIPPED | +-----------------------------+----------------+--------------+---------------------------+------------------------------+ | Fedora 41 (ARM) | PASS | SKIPPED | SKIPPED | SKIPPED | +-----------------------------+----------------+--------------+---------------------------+------------------------------+ | Fedora 40 (ARM) | PASS | SKIPPED | SKIPPED | SKIPPED | +-----------------------------+----------------+--------------+---------------------------+------------------------------+ | 32-bit Ubuntu 22.04.4 (ARM) | PASS | SKIPPED | SKIPPED | SKIPPED | +-----------------------------+----------------+--------------+---------------------------+------------------------------+ | CentOS Stream 10 (ARM) | PASS | SKIPPED | SKIPPED | SKIPPED | +-----------------------------+----------------+--------------+---------------------------+------------------------------+ | Debian 12 (arm) | PASS | SKIPPED | PASS | PASS | +-----------------------------+----------------+--------------+---------------------------+------------------------------+ | Ubuntu 20.04 (ARM) | PASS | SKIPPED | SKIPPED | SKIPPED | +-----------------------------+----------------+--------------+---------------------------+------------------------------+ | RHEL9 (ARM) | PASS | SKIPPED | SKIPPED | SKIPPED | +-----------------------------+----------------+--------------+---------------------------+------------------------------+ | Ubuntu 24.04 (ARM) | PASS | SKIPPED | SKIPPED | SKIPPED | +-----------------------------+----------------+--------------+---------------------------+------------------------------+ | Ubuntu 22.04 (ARM) | PASS | SKIPPED | SKIPPED | SKIPPED | +-----------------------------+----------------+--------------+---------------------------+------------------------------+ | Fedora 40 (ARM Clang) | PASS | SKIPPED | SKIPPED | SKIPPED | +-----------------------------+----------------+--------------+---------------------------+------------------------------+ | Ubuntu 20.04 ARM SVE | SKIPPED | PASS | SKIPPED | SKIPPED | +-----------------------------+----------------+--------------+---------------------------+------------------------------+ CentOS Stream 9 (ARM) Kernel: Depends on container host Compiler: gcc 11.5.0 20240719 (Red Hat 11.5.0-2) Fedora 41 (ARM Clang) Kernel: Depends on container host Compiler: clang 19.1.5 (Fedora 19.1.5-1.fc41) Fedora 41 (ARM) Kernel: Depends on container host Compiler: gcc 14.2.1 20240912 (Red Hat 14.2.1-3) Fedora 40 (ARM) Kernel: Depends on container host Compiler: gcc 14.2.1 20240912 (Red Hat 14.2.1-3) 32-bit Ubuntu 22.04.4 (ARM) Kernel: 5.15.83+ aarch64 Compiler: gcc (Ubuntu 11.4.0-1ubuntu1~22.04) 11.4.0 CentOS Stream 10 (ARM) Kernel: Depends on container host Compiler: gcc 14.2.1 20241104 (Red Hat 14.2.1-6) Debian 12 (arm) Kernel: Depends on container host Compiler: gcc (Debian 12.2.0-14) 12.2.0 Ubuntu 20.04 (ARM) Kernel: Depends on container host Compiler: gcc (Ubuntu 9.4.0-1ubuntu1~20.04.2) 9.4.0 RHEL9 (ARM) Kernel: Depends on container host Compiler: gcc 11.5.0 20240719 (Red Hat 11.5.0-2) Ubuntu 24.04 (ARM) Kernel: Depends on container host Compiler: gcc (Ubuntu 13.3.0-6ubuntu2~24.04) 13.3.0 Ubuntu 22.04 (ARM) Kernel: Depends on container host Compiler: gcc (Ubuntu 11.4.0-1ubuntu1~22.04) 11.4.0 Fedora 40 (ARM Clang) Kernel: Depends on container host Compiler: clang 18.1.8 (Fedora 18.1.8-1.fc40) Ubuntu 20.04 ARM SVE Kernel: Depends on container host Compiler: gcc (Ubuntu 10.5.0-1ubuntu1~20.04) 10.5.0 To view detailed results, visit: https://lab.dpdk.org/results/dashboard/patchsets/32963/ UNH-IOL DPDK Community Lab To manage your email subscriptions, visit: https://lab.dpdk.org/results/dashboard/preferences/subscriptions/