From mboxrd@z Thu Jan 1 00:00:00 1970 Return-Path: Received: from mails.dpdk.org (mails.dpdk.org [217.70.189.124]) by inbox.dpdk.org (Postfix) with ESMTP id F027D46538 for ; Tue, 8 Apr 2025 22:57:03 +0200 (CEST) Received: from mails.dpdk.org (localhost [127.0.0.1]) by mails.dpdk.org (Postfix) with ESMTP id C7CA2402ED; Tue, 8 Apr 2025 22:57:03 +0200 (CEST) Received: from mail-pl1-f228.google.com (mail-pl1-f228.google.com [209.85.214.228]) by mails.dpdk.org (Postfix) with ESMTP id 73E364026B for ; Tue, 8 Apr 2025 22:57:02 +0200 (CEST) Received: by mail-pl1-f228.google.com with SMTP id d9443c01a7336-227b650504fso55388355ad.0 for ; Tue, 08 Apr 2025 13:57:02 -0700 (PDT) DKIM-Signature: v=1; a=rsa-sha256; c=relaxed/relaxed; d=iol.unh.edu; s=unh-iol; t=1744145821; x=1744750621; darn=dpdk.org; h=references:in-reply-to:cc:to:from:subject:message-id:date:from:to :cc:subject:date:message-id:reply-to; bh=WiIFAjDTXPL/sjBCU7hbLtkUdFyFWeP0XGkJaFmtsQU=; b=Ul2cWm3CH7q32MEX2ds+wwywXC0yCW1AX+Rfj6/ES0YmCjzG+Fo+xHlB0L4rN6+yPp UlBw0t2TW6ibe0m9XUcGk23a5XhVwivjCuxrHZWHemKljUK6XU4+Yu0iefRVnCfhT2IB e0hv0hLxTBeUjpoh3oeBb4wAxlmW25u5gyyDk= X-Google-DKIM-Signature: v=1; a=rsa-sha256; c=relaxed/relaxed; d=1e100.net; s=20230601; t=1744145821; x=1744750621; h=references:in-reply-to:cc:to:from:subject:message-id:date :x-gm-message-state:from:to:cc:subject:date:message-id:reply-to; bh=WiIFAjDTXPL/sjBCU7hbLtkUdFyFWeP0XGkJaFmtsQU=; b=W0t0eaD2yC+0WIX49LPBRGfhMNNs2E/0LzeIjrEOGgCdQZtGGl/TAJJdbRAMfijYTU xnBKEU3WZvRB54ICVPXEQHJfvLfGLPInNZ0SsdkpZ65BzU6KJSEbuLSusoz3pgUV7Aui mdf1AoDHf/RnDxDVJc3RN15qZDMrXrmLIdNLbGhoNPQgnWifchfmY/qxqIjfoJ0NvTal 5NJzl6M4uLaOIPJM773NBx/R83D5x/X3/SZ6sJ1pUdy9hadZDuvtMzFF+ASLWCGpgEXU VhMdozDwv69o00frqsYAgz6lvPf+DVhBUs2VBvC6oqpqnlDJr2+2TsVfiSoBAFHRVh2W dIMg== X-Gm-Message-State: AOJu0Yx8++MomMikcTfaO+hsud32i+xQ/ILRVYXhA7l/5N6zMCP5HWym NHGB2IUeMBkNjsQppIpwZ3GoxGe5/AN0PpTrguV6IYCvOEq4S0Hd5kE5UQDMvPHr+RX27VB/a9j 0RD5gkaDp+3Dp8BkbyeDuX96R+NovUiKzKHyBKeDGcygqSKTd6bGFl6fs X-Gm-Gg: ASbGncspCbpArAp5SbdmX9jEKcoJnPLWbxuDBOZoepe1ttBdp5ChVOkxXVPHDe8nG9d ta6wK82f7jRPEycMVNPcNnuBpwk1b05hKykgtAOF/uJz2hHMzFMkNieTCoFhC/YTvP4PBbeXFv+ MdMjQ50KqOIcu9/0beQPG9lyUjQwpRVSt3k/6af13GVuWN8+1tFfxaYOnf+g/iew/MZp8yB9vDl wNzE7+PjN1g8y/OUvw83tDWc6TCCAj96TsaL//aUC4eYRxcLLlPSqSD6TQupX4xrt6mWtN+Yf0o xY1Fus0XMPy3R2/b1M/N8GZyZCUSDZ1O6py1ANMYfLttFNo+Ejrc X-Google-Smtp-Source: AGHT+IHKZ1G4LqlBxJ0UvSbndcUQPTe9E/NAqVjaljb2sB6/QdVtrmlFF2IC1PVJgbr57B0wIKeyPvpZ5uyI X-Received: by 2002:a17:903:1b04:b0:224:c7c:7146 with SMTP id d9443c01a7336-22ac3f2da6amr1911405ad.6.1744145821595; Tue, 08 Apr 2025 13:57:01 -0700 (PDT) Received: from postal.iol.unh.edu (postal.iol.unh.edu. [2606:4100:3880:1234::84]) by smtp-relay.gmail.com with ESMTPS id d9443c01a7336-22978a405b6sm9745625ad.120.2025.04.08.13.57.01 (version=TLS1_2 cipher=ECDHE-ECDSA-AES128-GCM-SHA256 bits=128/128); Tue, 08 Apr 2025 13:57:01 -0700 (PDT) X-Relaying-Domain: iol.unh.edu Date: Tue, 08 Apr 2025 13:57:01 -0700 (PDT) Message-ID: <67f58d9d.170a0220.2339bf.3bc5SMTPIN_ADDED_MISSING@mx.google.com> Received: from [172.21.0.6] (unknown [172.18.0.240]) by postal.iol.unh.edu (Postfix) with ESMTP id C5DF76052471; Tue, 8 Apr 2025 16:57:00 -0400 (EDT) Subject: |SUCCESS| pw152833 [PATCH] net/ice: fix Rx of large packets From: dpdklab@iol.unh.edu To: Test Report Cc: dpdk-test-reports@iol.unh.edu In-Reply-To: <20250408155736.2739406-1-bruce.richardson@intel.com> References: <20250408155736.2739406-1-bruce.richardson@intel.com> Content-Type: text/plain X-BeenThere: test-report@dpdk.org X-Mailman-Version: 2.1.29 Precedence: list List-Id: automatic DPDK test reports List-Unsubscribe: , List-Archive: List-Post: List-Help: List-Subscribe: , Errors-To: test-report-bounces@dpdk.org Test-Label: iol-sample-apps-testing Test-Status: SUCCESS http://dpdk.org/patch/152833 _Testing PASS_ Submitter: Bruce Richardson Date: Tuesday, April 08 2025 15:57:36 DPDK git baseline: Repo:dpdk Branch: master CommitID:d7817c378fecd07c59360667f93c25dff4b1a145 152833 --> testing pass Upstream job id: ACVP-FIPS-testing#9479 Test environment and result as below: +--------------------+----------------------+----------------------+ | Environment | compressdev_zlib_pmd | dpdk_fips_validation | +====================+======================+======================+ | Ubuntu 22.04 (ARM) | PASS | SKIPPED | +--------------------+----------------------+----------------------+ | Ubuntu 22.04 | PASS | SKIPPED | +--------------------+----------------------+----------------------+ | Ubuntu 20.04 | SKIPPED | PASS | +--------------------+----------------------+----------------------+ Ubuntu 22.04 (ARM) Kernel: 5.15.0-97-generic Compiler: gcc gcc (Ubuntu 11.4.0-1ubuntu1~22.04) 11.4.0 Ubuntu 22.04 Kernel: 5.15.0-100-generic Compiler: gcc gcc (Ubuntu 11.4.0-1ubuntu1~22.04) 11.4.0 Ubuntu 20.04 Kernel: Depends on container host Compiler: gcc (Ubuntu 9.4.0-1ubuntu1~20.04.2) 9.4.0 To view detailed results, visit: https://lab.dpdk.org/results/dashboard/patchsets/32968/ UNH-IOL DPDK Community Lab To manage your email subscriptions, visit: https://lab.dpdk.org/results/dashboard/preferences/subscriptions/