From mboxrd@z Thu Jan 1 00:00:00 1970 Return-Path: Received: from mails.dpdk.org (mails.dpdk.org [217.70.189.124]) by inbox.dpdk.org (Postfix) with ESMTP id 6F51746538 for ; Tue, 8 Apr 2025 23:19:01 +0200 (CEST) Received: from mails.dpdk.org (localhost [127.0.0.1]) by mails.dpdk.org (Postfix) with ESMTP id 4CCFF40270; Tue, 8 Apr 2025 23:19:01 +0200 (CEST) Received: from mail-pl1-f228.google.com (mail-pl1-f228.google.com [209.85.214.228]) by mails.dpdk.org (Postfix) with ESMTP id 621904026B for ; Tue, 8 Apr 2025 23:19:00 +0200 (CEST) Received: by mail-pl1-f228.google.com with SMTP id d9443c01a7336-227b828de00so60571205ad.1 for ; Tue, 08 Apr 2025 14:19:00 -0700 (PDT) DKIM-Signature: v=1; a=rsa-sha256; c=relaxed/relaxed; d=iol.unh.edu; s=unh-iol; t=1744147139; x=1744751939; darn=dpdk.org; h=references:in-reply-to:cc:to:from:subject:message-id:date:from:to :cc:subject:date:message-id:reply-to; bh=pkajUErEqiOTZpnXmidmCdUvI+ySsNBI8ICWtWiF1wU=; b=CxlDyVVMlYwIAGt3jsRjUeQBTApNLGWJpyb0V1nkMSNLKW41Zmb79kH7S8ezlF7Hi9 HWBK+YI0TrGsSnW1Y+4qm4OwhJV2asdQ+3ZRMTOG/LR2eI26dpBqNb4xVEHH8Quo+SwP 2gWHUjRta9n1Exz3BFkJqXMKUXD76/Uw18lVo= X-Google-DKIM-Signature: v=1; a=rsa-sha256; c=relaxed/relaxed; d=1e100.net; s=20230601; t=1744147139; x=1744751939; h=references:in-reply-to:cc:to:from:subject:message-id:date :x-gm-message-state:from:to:cc:subject:date:message-id:reply-to; bh=pkajUErEqiOTZpnXmidmCdUvI+ySsNBI8ICWtWiF1wU=; b=PuOGjCOqE0aXg5IMMCceFelLp1JivpcaGM+aC/jcSCVL7NZF79mY8MiVwB9qqqeFWn yOaGE8MMwqbgYQ3yFjKHpvDra1h1u/cqFGVbSi6Q5rQs2uQbbil0xjqWSrE80E7U/C+Z eH1NJB12aPtzXuMqrhFzc/6b2DptoIrvl9uC0q4PGBpDk9lyLFNhhZUZ2veu3HCPwcD2 pnKeYZZlt4rI9w39IE39dF9btCpOj+HUlMTP4UiwtbMfmeo18YMUhkNBoKWIremS2HKo zoxZHe5YZfLus4tgaCUTKmtcAdwtDYZOdaEhPveJ2WWKZI0etqsavdoazLrqe4v6UT50 JPGQ== X-Gm-Message-State: AOJu0YyeP+L0/B+KNvTXJ4G3tRXCG/d9v3oywbdxijtL11lPaFUQ11tb jowtoBGs2VBtXyunYK9Ff7Y29QqCxLqEygbZ/uiKO+MWZAUaFnVXxhmWqQWF7+HdQPr49x/bQev H0C/1VCQLqeXsklMNoAbdLeNeOMhI60cWc4485atZ X-Gm-Gg: ASbGncsIo+CBJ1+O7zHv6IbX/OVX3NYofnuEqQwAYe0F804zU7GNorPdr2UzvdM6s4P FtAoNm7Ka+pH1qfqG2ENl8q3Kv5Q1tibOf9AkheoBC0MHcHg8+x1iYDg6ML1MQ/XcGYnyr7lvym M6pdj5HisYTxfnN16frQV4uixdF0cUHCWBcIOSX4BHnWFLTUJN4niJNXrHX4J6Bfpi20HbS+v+c h4jdcREjaB6lrh7N7Zy4i5UlUXcfgihDxDIqXQntuZNuP1sZWZsSM7JEAlpKY3KJmcbsUminqXp Un8ETF6dOccjYpeYVDopmApgr4mKy6hSJgQ8Qy73 X-Google-Smtp-Source: AGHT+IHjBx27lu7zsGtVAbJ6W8vMd1D0bv2hIXrX49JQijFv24xW1byq3JYUOfVk5CjvI82CbefouMuIBtAZ X-Received: by 2002:a17:903:1787:b0:224:1220:7f40 with SMTP id d9443c01a7336-22ac298441fmr9982995ad.3.1744147139290; Tue, 08 Apr 2025 14:18:59 -0700 (PDT) Received: from postal.iol.unh.edu (postal.iol.unh.edu. [132.177.123.84]) by smtp-relay.gmail.com with ESMTPS id d9443c01a7336-22978a29b44sm9417625ad.77.2025.04.08.14.18.59 (version=TLS1_2 cipher=ECDHE-ECDSA-AES128-GCM-SHA256 bits=128/128); Tue, 08 Apr 2025 14:18:59 -0700 (PDT) X-Relaying-Domain: iol.unh.edu Date: Tue, 08 Apr 2025 14:18:59 -0700 (PDT) Message-ID: <67f592c3.170a0220.5a040.0eadSMTPIN_ADDED_MISSING@mx.google.com> Received: from [172.21.0.6] (unknown [172.18.0.240]) by postal.iol.unh.edu (Postfix) with ESMTP id B83E86052471; Tue, 8 Apr 2025 17:18:58 -0400 (EDT) Subject: |SUCCESS| pw152833 [PATCH] net/ice: fix Rx of large packets From: dpdklab@iol.unh.edu To: Test Report Cc: dpdk-test-reports@iol.unh.edu In-Reply-To: <20250408155736.2739406-1-bruce.richardson@intel.com> References: <20250408155736.2739406-1-bruce.richardson@intel.com> Content-Type: text/plain X-BeenThere: test-report@dpdk.org X-Mailman-Version: 2.1.29 Precedence: list List-Id: automatic DPDK test reports List-Unsubscribe: , List-Archive: List-Post: List-Help: List-Subscribe: , Errors-To: test-report-bounces@dpdk.org Test-Label: iol-unit-arm64-testing Test-Status: SUCCESS http://dpdk.org/patch/152833 _Testing PASS_ Submitter: Bruce Richardson Date: Tuesday, April 08 2025 15:57:36 DPDK git baseline: Repo:dpdk Branch: master CommitID:d7817c378fecd07c59360667f93c25dff4b1a145 152833 --> testing pass Upstream job id: Generic-Unit-Test-DPDK#329528 Test environment and result as below: +-----------------------------+----------------+------------------------------+---------------------------+--------------+ | Environment | dpdk_unit_test | cryptodev_sw_snow3g_autotest | cryptodev_sw_zuc_autotest | lpm_autotest | +=============================+================+==============================+===========================+==============+ | 32-bit Ubuntu 22.04.4 (ARM) | PASS | SKIPPED | SKIPPED | SKIPPED | +-----------------------------+----------------+------------------------------+---------------------------+--------------+ | Debian 12 (arm) | PASS | PASS | PASS | SKIPPED | +-----------------------------+----------------+------------------------------+---------------------------+--------------+ | Fedora 40 (ARM) | PASS | SKIPPED | SKIPPED | SKIPPED | +-----------------------------+----------------+------------------------------+---------------------------+--------------+ | Fedora 41 (ARM Clang) | PASS | SKIPPED | SKIPPED | SKIPPED | +-----------------------------+----------------+------------------------------+---------------------------+--------------+ | RHEL9 (ARM) | PASS | SKIPPED | SKIPPED | SKIPPED | +-----------------------------+----------------+------------------------------+---------------------------+--------------+ | CentOS Stream 10 (ARM) | PASS | SKIPPED | SKIPPED | SKIPPED | +-----------------------------+----------------+------------------------------+---------------------------+--------------+ | Fedora 41 (ARM) | PASS | SKIPPED | SKIPPED | SKIPPED | +-----------------------------+----------------+------------------------------+---------------------------+--------------+ | CentOS Stream 9 (ARM) | PASS | SKIPPED | SKIPPED | SKIPPED | +-----------------------------+----------------+------------------------------+---------------------------+--------------+ | Ubuntu 24.04 (ARM) | PASS | SKIPPED | SKIPPED | SKIPPED | +-----------------------------+----------------+------------------------------+---------------------------+--------------+ | Ubuntu 22.04 (ARM) | PASS | SKIPPED | SKIPPED | SKIPPED | +-----------------------------+----------------+------------------------------+---------------------------+--------------+ | Fedora 40 (ARM Clang) | PASS | SKIPPED | SKIPPED | SKIPPED | +-----------------------------+----------------+------------------------------+---------------------------+--------------+ | Ubuntu 20.04 (ARM) | PASS | SKIPPED | SKIPPED | SKIPPED | +-----------------------------+----------------+------------------------------+---------------------------+--------------+ | Ubuntu 20.04 ARM SVE | SKIPPED | SKIPPED | SKIPPED | PASS | +-----------------------------+----------------+------------------------------+---------------------------+--------------+ 32-bit Ubuntu 22.04.4 (ARM) Kernel: 5.15.83+ aarch64 Compiler: gcc (Ubuntu 11.4.0-1ubuntu1~22.04) 11.4.0 Debian 12 (arm) Kernel: Depends on container host Compiler: gcc (Debian 12.2.0-14) 12.2.0 Fedora 40 (ARM) Kernel: Depends on container host Compiler: gcc 14.2.1 20240912 (Red Hat 14.2.1-3) Fedora 41 (ARM Clang) Kernel: Depends on container host Compiler: clang 19.1.5 (Fedora 19.1.5-1.fc41) RHEL9 (ARM) Kernel: Depends on container host Compiler: gcc 11.5.0 20240719 (Red Hat 11.5.0-2) CentOS Stream 10 (ARM) Kernel: Depends on container host Compiler: gcc 14.2.1 20241104 (Red Hat 14.2.1-6) Fedora 41 (ARM) Kernel: Depends on container host Compiler: gcc 14.2.1 20240912 (Red Hat 14.2.1-3) CentOS Stream 9 (ARM) Kernel: Depends on container host Compiler: gcc 11.5.0 20240719 (Red Hat 11.5.0-2) Ubuntu 24.04 (ARM) Kernel: Depends on container host Compiler: gcc (Ubuntu 13.3.0-6ubuntu2~24.04) 13.3.0 Ubuntu 22.04 (ARM) Kernel: Depends on container host Compiler: gcc (Ubuntu 11.4.0-1ubuntu1~22.04) 11.4.0 Fedora 40 (ARM Clang) Kernel: Depends on container host Compiler: clang 18.1.8 (Fedora 18.1.8-1.fc40) Ubuntu 20.04 (ARM) Kernel: Depends on container host Compiler: gcc (Ubuntu 9.4.0-1ubuntu1~20.04.2) 9.4.0 Ubuntu 20.04 ARM SVE Kernel: Depends on container host Compiler: gcc (Ubuntu 10.5.0-1ubuntu1~20.04) 10.5.0 To view detailed results, visit: https://lab.dpdk.org/results/dashboard/patchsets/32968/ UNH-IOL DPDK Community Lab To manage your email subscriptions, visit: https://lab.dpdk.org/results/dashboard/preferences/subscriptions/