From mboxrd@z Thu Jan 1 00:00:00 1970 Return-Path: Received: from mails.dpdk.org (mails.dpdk.org [217.70.189.124]) by inbox.dpdk.org (Postfix) with ESMTP id 192C346539 for ; Tue, 8 Apr 2025 23:42:14 +0200 (CEST) Received: from mails.dpdk.org (localhost [127.0.0.1]) by mails.dpdk.org (Postfix) with ESMTP id EEE2840609; Tue, 8 Apr 2025 23:42:13 +0200 (CEST) Received: from mail-qv1-f98.google.com (mail-qv1-f98.google.com [209.85.219.98]) by mails.dpdk.org (Postfix) with ESMTP id 487C640265 for ; Tue, 8 Apr 2025 23:42:13 +0200 (CEST) Received: by mail-qv1-f98.google.com with SMTP id 6a1803df08f44-6e8fc176825so50444096d6.0 for ; Tue, 08 Apr 2025 14:42:13 -0700 (PDT) DKIM-Signature: v=1; a=rsa-sha256; c=relaxed/relaxed; d=iol.unh.edu; s=unh-iol; t=1744148532; x=1744753332; darn=dpdk.org; h=references:in-reply-to:cc:to:from:subject:message-id:date:from:to :cc:subject:date:message-id:reply-to; bh=7kIUckMzz/vlB4ROK1ulnDMASbE6Wgxz/rMsi2Xygx8=; b=Oo4KEku2kxa6HbkMo1y1ueK+QZMP1Xx9Z9dJ1gIsOVqdw8zLNMKIsCjXURB9Odbvi/ RN4L3JS+0lGM9fArDAd899e52UxxxfBCLkQETa3Qv+OxXJ2ayKk6AMg1TxdzS6gFLQ+D ZyiUkuWFHiUD7f3QDeYKsxVifEWPcIVxIhuE0= X-Google-DKIM-Signature: v=1; a=rsa-sha256; c=relaxed/relaxed; d=1e100.net; s=20230601; t=1744148532; x=1744753332; h=references:in-reply-to:cc:to:from:subject:message-id:date :x-gm-message-state:from:to:cc:subject:date:message-id:reply-to; bh=7kIUckMzz/vlB4ROK1ulnDMASbE6Wgxz/rMsi2Xygx8=; b=dtAMv3CGmKyaqBGvMfnY5C/K352aT1SmCruxe9JjwQovnhORB7F/bcz+pvASNfqj3P ndWkSfz7KLnXA5NgWnH0k6fNiq/axDe+7ywFyTRzcTMsbp9b4F9sa5eL+wkSnW9sUJwq 8S+1zH4DORHJeiZ+APaPpy1dmbj/848Ptf90XLgxHq+7yRReFZJ0R8+O1EcbPsKt0T90 FupPZC7PBKKoEo9nBMB2M+IKSOgYNpikFSsvmZHeO5emz3BU7QH9tbmGatrj+jIVxlwp yblZ68yby7RtQS30B5AlgD0rTmwFAZve7iyzq565NfQJYX1d5XF1ETwcAoau+nxKcmRt 8C0A== X-Gm-Message-State: AOJu0YwfsK9btsPp8akRT7/utvmFLJ+GV7VXZRqLZCvYVyaE/5QGzdvP 98J+HtTlaOhcV3BjuqzKzTNxWdixraxzotkGO5LKzkn5ni4bxGyrTGF7bHPzy+ukvaI8uJmL9ko SDLp2QtSf5a7/FePl5/O6VP1p0XhvrHQhZ2kTWNU2iPzi8IJ0axpoqSng X-Gm-Gg: ASbGncuedTsJBUtBbCVK5gzHWsXoBM2P8rSMxBvKiKR5jwz/6R1J+v3Fu5IFqXoFNIm /2+rTaNq3gP0cgAaRAWKRbkxJFtFxmAu0v3DfWnMJOWQb0grnh+HUdzOyyGkEo34V84VhQWgmHG vGWZ7jvUlhTjlhwwAq0R2nd3lghWY3nJDAERJ5+YO1z06R5LGVx1ETkzyGeF9mTJWAGS2zKRyTV X1m9aLApPsvcaAfiNExAXHZXPlMIQ9FqKQXoD6ObLor+lPFu5lfRmuA7yW11xsp8WVDfRixsg1W qLesqXMPvpuK3gddAyZDifbK9kdj2qt+j96XlczE7ydlHs7JYx3x X-Google-Smtp-Source: AGHT+IEQZp5ZuWQB1LgFVN2bhxiIG79ng5vfcRAUJGpD/uut7IOiPieuzMaNdusSibsU8tN5ntwMcOmvEgsE X-Received: by 2002:a05:6214:21ce:b0:6e4:269f:60fd with SMTP id 6a1803df08f44-6f0dbbdac99mr14171826d6.23.1744148532670; Tue, 08 Apr 2025 14:42:12 -0700 (PDT) Received: from postal.iol.unh.edu (postal.iol.unh.edu. [2606:4100:3880:1234::84]) by smtp-relay.gmail.com with ESMTPS id 6a1803df08f44-6f0dd58e4f2sm28526d6.54.2025.04.08.14.42.12 (version=TLS1_2 cipher=ECDHE-ECDSA-AES128-GCM-SHA256 bits=128/128); Tue, 08 Apr 2025 14:42:12 -0700 (PDT) X-Relaying-Domain: iol.unh.edu Date: Tue, 08 Apr 2025 14:42:12 -0700 (PDT) Message-ID: <67f59834.d40a0220.182456.0103SMTPIN_ADDED_MISSING@mx.google.com> Received: from [172.21.0.5] (unknown [172.18.0.240]) by postal.iol.unh.edu (Postfix) with ESMTP id 63CD26052471; Tue, 8 Apr 2025 17:42:12 -0400 (EDT) Subject: |SUCCESS| pw152824 [PATCH] cryptodev: add SNOW-V algorithms From: dpdklab@iol.unh.edu To: Test Report Cc: dpdk-test-reports@iol.unh.edu In-Reply-To: <20250408110851.2952910-1-radu.nicolau@intel.com> References: <20250408110851.2952910-1-radu.nicolau@intel.com> Content-Type: text/plain X-BeenThere: test-report@dpdk.org X-Mailman-Version: 2.1.29 Precedence: list List-Id: automatic DPDK test reports List-Unsubscribe: , List-Archive: List-Post: List-Help: List-Subscribe: , Errors-To: test-report-bounces@dpdk.org Test-Label: iol-compile-arm64-testing Test-Status: SUCCESS http://dpdk.org/patch/152824 _Testing PASS_ Submitter: Radu Nicolau Date: Tuesday, April 08 2025 11:08:51 DPDK git baseline: Repo:dpdk Branch: master CommitID:e30e194c4d06cf9b0e93f9f0f2a289bef96abc1a 152824 --> testing pass Upstream job id: Generic-DPDK-Compile-Meson#378225 Test environment and result as below: +----------------------------------------+--------------------+ | Environment | dpdk_meson_compile | +========================================+====================+ | RHEL9 (ARM) | PASS | +----------------------------------------+--------------------+ | Ubuntu 20.04 ARM SVE | PASS | +----------------------------------------+--------------------+ | Ubuntu 20.04 ARM GCC Cross Compile | PASS | +----------------------------------------+--------------------+ | Fedora 40 (ARM) | PASS | +----------------------------------------+--------------------+ | Fedora 40 (ARM Clang) | PASS | +----------------------------------------+--------------------+ | Fedora 41 (ARM) | PASS | +----------------------------------------+--------------------+ | Fedora 41 (ARM Clang) | PASS | +----------------------------------------+--------------------+ | Ubuntu 20.04 (ARM) | PASS | +----------------------------------------+--------------------+ | Ubuntu 24.04 (ARM) | PASS | +----------------------------------------+--------------------+ | CentOS Stream 9 (ARM) | PASS | +----------------------------------------+--------------------+ | Debian 12 (arm) | PASS | +----------------------------------------+--------------------+ | Ubuntu 20.04 ARM Clang Cross Compile | PASS | +----------------------------------------+--------------------+ | CentOS Stream 10 (ARM) | PASS | +----------------------------------------+--------------------+ | Ubuntu 20.04 aarch32 GCC Cross Compile | PASS | +----------------------------------------+--------------------+ | Debian 12 with MUSDK | PASS | +----------------------------------------+--------------------+ | Ubuntu 22.04 (ARM) | PASS | +----------------------------------------+--------------------+ RHEL9 (ARM) Kernel: Depends on container host Compiler: gcc 11.5.0 20240719 (Red Hat 11.5.0-2) Ubuntu 20.04 ARM SVE Kernel: Depends on container host Compiler: gcc (Ubuntu 10.5.0-1ubuntu1~20.04) 10.5.0 Ubuntu 20.04 ARM GCC Cross Compile Kernel: Depends on container host Compiler: aarch64-linux-gnu-gcc (Ubuntu 9.4.0-1ubuntu1~20.04.2) 9.4.0 Fedora 40 (ARM) Kernel: Depends on container host Compiler: gcc 14.2.1 20240912 (Red Hat 14.2.1-3) Fedora 40 (ARM Clang) Kernel: Depends on container host Compiler: clang 18.1.8 (Fedora 18.1.8-1.fc40) Fedora 41 (ARM) Kernel: Depends on container host Compiler: gcc 14.2.1 20240912 (Red Hat 14.2.1-3) Fedora 41 (ARM Clang) Kernel: Depends on container host Compiler: clang 19.1.5 (Fedora 19.1.5-1.fc41) Ubuntu 20.04 (ARM) Kernel: Depends on container host Compiler: gcc (Ubuntu 9.4.0-1ubuntu1~20.04.2) 9.4.0 Ubuntu 24.04 (ARM) Kernel: Depends on container host Compiler: gcc (Ubuntu 13.3.0-6ubuntu2~24.04) 13.3.0 CentOS Stream 9 (ARM) Kernel: Depends on container host Compiler: gcc 11.5.0 20240719 (Red Hat 11.5.0-2) Debian 12 (arm) Kernel: Depends on container host Compiler: gcc (Debian 12.2.0-14) 12.2.0 Ubuntu 20.04 ARM Clang Cross Compile Kernel: Depends on container host Compiler: clang 10.0.0-4ubuntu1 CentOS Stream 10 (ARM) Kernel: Depends on container host Compiler: gcc 14.2.1 20241104 (Red Hat 14.2.1-6) Ubuntu 20.04 aarch32 GCC Cross Compile Kernel: Depends on container host Compiler: gcc 9.4.0 Debian 12 with MUSDK Kernel: Depends on container host Compiler: gcc (Debian 12.2.0-14) 12.2.0 Ubuntu 22.04 (ARM) Kernel: Depends on container host Compiler: gcc (Ubuntu 11.4.0-1ubuntu1~22.04) 11.4.0 To view detailed results, visit: https://lab.dpdk.org/results/dashboard/patchsets/32963/ UNH-IOL DPDK Community Lab To manage your email subscriptions, visit: https://lab.dpdk.org/results/dashboard/preferences/subscriptions/