From mboxrd@z Thu Jan  1 00:00:00 1970
Return-Path: <test-report-bounces@dpdk.org>
Received: from mails.dpdk.org (mails.dpdk.org [217.70.189.124])
	by inbox.dpdk.org (Postfix) with ESMTP id 153D346538
	for <public@inbox.dpdk.org>; Tue,  8 Apr 2025 23:52:17 +0200 (CEST)
Received: from mails.dpdk.org (localhost [127.0.0.1])
	by mails.dpdk.org (Postfix) with ESMTP id 0F3E8402ED;
	Tue,  8 Apr 2025 23:52:17 +0200 (CEST)
Received: from mail-io1-f100.google.com (mail-io1-f100.google.com
 [209.85.166.100])
 by mails.dpdk.org (Postfix) with ESMTP id 70F7C40265
 for <test-report@dpdk.org>; Tue,  8 Apr 2025 23:52:15 +0200 (CEST)
Received: by mail-io1-f100.google.com with SMTP id
 ca18e2360f4ac-85b3f92c8dfso200747939f.2
 for <test-report@dpdk.org>; Tue, 08 Apr 2025 14:52:15 -0700 (PDT)
DKIM-Signature: v=1; a=rsa-sha256; c=relaxed/relaxed;
 d=iol.unh.edu; s=unh-iol; t=1744149134; x=1744753934; darn=dpdk.org;
 h=cc:to:from:subject:message-id:date:from:to:cc:subject:date
 :message-id:reply-to;
 bh=HG9B8acSwEKUrwoIT76AKtWrTZCM9vHvAQi7K6ebhz8=;
 b=dCRt/P8rXPwqXDDNghSDD79pVrEfWAar1gxeZ5z/5HNtOKPWFhOk8/xcp2O79aCYVu
 kfsKeutC7NfUErqrPqlNQcfp9xTEJ/dlsAv3rNpfRh+1Iqneu7690lejrxK2Z0QLcee3
 AIsmB9Eh7Dqj4HQ8LnCBmjApzl9Ypbg7SXvJc=
X-Google-DKIM-Signature: v=1; a=rsa-sha256; c=relaxed/relaxed;
 d=1e100.net; s=20230601; t=1744149134; x=1744753934;
 h=cc:to:from:subject:message-id:date:x-gm-message-state:from:to:cc
 :subject:date:message-id:reply-to;
 bh=HG9B8acSwEKUrwoIT76AKtWrTZCM9vHvAQi7K6ebhz8=;
 b=rOzI99KldOI5k2B8qyQecOGDNavhyNGShb+R/MXOXo2h1FcbnFVKOmSqs82saV+hYM
 GDL36FTGh1eRjskAiXD9VeJtBB/4xly9RsJK+8OlMINieVaJGozN+jHbXYPmEv6/4xl3
 QI3tjKmw156Azeds1o83bHLHUzQ8xupTTKJeXlSy4gqDXecSHXcsz07siiMsLvV0i846
 iVYVJI8UrDMonoE0Cl+yiAnF2ZO6U6meOEmRjMip4NmcYECIiO7iApSqGG+6MmltH1RZ
 oJ94tiTv3FocIrupcmxLdB+e10z/2ec+ee8U/YbZ/suPvMT9M2tJUOnklMS7pOaP8wp9
 OsbQ==
X-Gm-Message-State: AOJu0Yxulru7nofmrHIrjxyyxLI4fNL2sYnkKgnBgeVEVg0X70iQORkx
 aFw8xmDjxc7G+J0ogE8o/pP18xdUeEoevhDjQ1ShkupttLigng2E7n+YhR+ginbhjEjZvTXS405
 p/QtI4Cc9DNbfF06YKylihKSKLDgBdYnUnu7UJIA6ZlEodO64RiY0IQwn
X-Gm-Gg: ASbGncufrPQOP+yWiEApxPmDuS3CJbi8UvjXj4/NJTUeEoHjRg/mdF1DSFfaYTdVpFX
 2I8z0Hl7YafsPsC9m6RViHmxdIg7rEEah6YdSB1hFvBEtt0yE3/MCY0iQs39bkm6wuwzycioYQS
 pueUmVws1CCLaOUZAbRFA/uz51dZw4rqiax2uW+RQWev0DYbMeEnZhyT+OgjQkWTtlcj5wm71xY
 rYaxdAxtQFzaFsYARAvSvlxnS3P5SnRvM8ZLbaj/2T50nJSFQSmtVF1FdeWC82qeH3LDrXYqG1u
 bWu6m1kQUnvj8bYWLilyXbNh+jia0LOrvqGB5/x653StiUpesh/m
X-Google-Smtp-Source: AGHT+IGq/mKgvXD3LkpPOW1KrJChlFMnBZ7abTD3ZblWI/nElaxe5G8oHQQ8lhDzDUGgiH0lcihzLymhN4Sa
X-Received: by 2002:a05:6e02:1607:b0:3d4:6f37:3724 with SMTP id
 e9e14a558f8ab-3d77c2addbamr7138175ab.18.1744149134669; 
 Tue, 08 Apr 2025 14:52:14 -0700 (PDT)
Received: from postal.iol.unh.edu (postal.iol.unh.edu.
 [2606:4100:3880:1234::84]) by smtp-relay.gmail.com with ESMTPS id
 e9e14a558f8ab-3d703b6c937sm1816635ab.7.2025.04.08.14.52.14
 (version=TLS1_2 cipher=ECDHE-ECDSA-AES128-GCM-SHA256 bits=128/128);
 Tue, 08 Apr 2025 14:52:14 -0700 (PDT)
X-Relaying-Domain: iol.unh.edu
Date: Tue, 08 Apr 2025 14:52:14 -0700 (PDT)
Message-ID: <67f59a8e.050a0220.1a3272.9094SMTPIN_ADDED_MISSING@mx.google.com>
Received: from [172.17.0.3] (unknown [172.18.0.217])
 by postal.iol.unh.edu (Postfix) with ESMTP id 4D2C16052471;
 Tue,  8 Apr 2025 17:52:14 -0400 (EDT)
Subject: |SUCCESS| [GIT MASTER] e30e194c4d06cf9b0e93f9f0f2a289bef96abc1a
From: dpdklab@iol.unh.edu
To: Test Report <test-report@dpdk.org>
Cc: dpdk-test-reports@iol.unh.edu, Akhil Goyal <gakhil@marvell.com>
Content-Type: text/plain
X-BeenThere: test-report@dpdk.org
X-Mailman-Version: 2.1.29
Precedence: list
List-Id: automatic DPDK test reports <test-report.dpdk.org>
List-Unsubscribe: <https://mails.dpdk.org/options/test-report>,
 <mailto:test-report-request@dpdk.org?subject=unsubscribe>
List-Archive: <http://mails.dpdk.org/archives/test-report/>
List-Post: <mailto:test-report@dpdk.org>
List-Help: <mailto:test-report-request@dpdk.org?subject=help>
List-Subscribe: <https://mails.dpdk.org/listinfo/test-report>,
 <mailto:test-report-request@dpdk.org?subject=subscribe>
Errors-To: test-report-bounces@dpdk.org

_Testing PASS_

Branch: dpdk-next-crypto

e30e194c4d06cf9b0e93f9f0f2a289bef96abc1a --> testing pass

Upstream job id: Windows-Compile-DPDK-Native#27759

Test environment and result as below:

+-----------------------------------+--------------------+-------------------+------------------+-------------------------+-------------------+----------------------+
|            Environment            | dpdk_meson_compile | dpdk_compile_spdk | dpdk_compile_ovs | dpdk_llvm_clang_compile | dpdk_msvc_compile | dpdk_mingw64_compile |
+===================================+====================+===================+==================+=========================+===================+======================+
| CentOS Stream 9                   | PASS               | PASS              | SKIPPED          | SKIPPED                 | SKIPPED           | SKIPPED              |
+-----------------------------------+--------------------+-------------------+------------------+-------------------------+-------------------+----------------------+
| CentOS Stream 10                  | PASS               | SKIPPED           | SKIPPED          | SKIPPED                 | SKIPPED           | SKIPPED              |
+-----------------------------------+--------------------+-------------------+------------------+-------------------------+-------------------+----------------------+
| Debian 12                         | PASS               | PASS              | SKIPPED          | SKIPPED                 | SKIPPED           | SKIPPED              |
+-----------------------------------+--------------------+-------------------+------------------+-------------------------+-------------------+----------------------+
| Fedora 40 (Clang)                 | PASS               | PASS              | SKIPPED          | SKIPPED                 | SKIPPED           | SKIPPED              |
+-----------------------------------+--------------------+-------------------+------------------+-------------------------+-------------------+----------------------+
| Fedora 40                         | PASS               | PASS              | SKIPPED          | SKIPPED                 | SKIPPED           | SKIPPED              |
+-----------------------------------+--------------------+-------------------+------------------+-------------------------+-------------------+----------------------+
| Fedora 41 (Clang)                 | PASS               | PASS              | PASS             | SKIPPED                 | SKIPPED           | SKIPPED              |
+-----------------------------------+--------------------+-------------------+------------------+-------------------------+-------------------+----------------------+
| Fedora 41                         | PASS               | PASS              | PASS             | SKIPPED                 | SKIPPED           | SKIPPED              |
+-----------------------------------+--------------------+-------------------+------------------+-------------------------+-------------------+----------------------+
| openSUSE Leap 15                  | PASS               | SKIPPED           | SKIPPED          | SKIPPED                 | SKIPPED           | SKIPPED              |
+-----------------------------------+--------------------+-------------------+------------------+-------------------------+-------------------+----------------------+
| RHEL8                             | PASS               | SKIPPED           | SKIPPED          | SKIPPED                 | SKIPPED           | SKIPPED              |
+-----------------------------------+--------------------+-------------------+------------------+-------------------------+-------------------+----------------------+
| Ubuntu 20.04                      | PASS               | SKIPPED           | SKIPPED          | SKIPPED                 | SKIPPED           | SKIPPED              |
+-----------------------------------+--------------------+-------------------+------------------+-------------------------+-------------------+----------------------+
| RHEL9                             | PASS               | SKIPPED           | SKIPPED          | SKIPPED                 | SKIPPED           | SKIPPED              |
+-----------------------------------+--------------------+-------------------+------------------+-------------------------+-------------------+----------------------+
| FreeBSD 13.5                      | PASS               | SKIPPED           | SKIPPED          | SKIPPED                 | SKIPPED           | SKIPPED              |
+-----------------------------------+--------------------+-------------------+------------------+-------------------------+-------------------+----------------------+
| Ubuntu 22.04                      | PASS               | PASS              | SKIPPED          | SKIPPED                 | SKIPPED           | SKIPPED              |
+-----------------------------------+--------------------+-------------------+------------------+-------------------------+-------------------+----------------------+
| Ubuntu 24.04                      | PASS               | PASS              | PASS             | SKIPPED                 | SKIPPED           | SKIPPED              |
+-----------------------------------+--------------------+-------------------+------------------+-------------------------+-------------------+----------------------+
| Alpine                            | PASS               | SKIPPED           | SKIPPED          | SKIPPED                 | SKIPPED           | SKIPPED              |
+-----------------------------------+--------------------+-------------------+------------------+-------------------------+-------------------+----------------------+
| Ubuntu 24.04 32 Bit Cross Compile | PASS               | SKIPPED           | SKIPPED          | SKIPPED                 | SKIPPED           | SKIPPED              |
+-----------------------------------+--------------------+-------------------+------------------+-------------------------+-------------------+----------------------+
| FreeBSD 14.2                      | PASS               | SKIPPED           | SKIPPED          | SKIPPED                 | SKIPPED           | SKIPPED              |
+-----------------------------------+--------------------+-------------------+------------------+-------------------------+-------------------+----------------------+
| Windows Server 2022               | SKIPPED            | SKIPPED           | SKIPPED          | PASS                    | PASS              | PASS                 |
+-----------------------------------+--------------------+-------------------+------------------+-------------------------+-------------------+----------------------+


CentOS Stream 9
	Kernel: Depends on container host
	Compiler: gcc 11.5.0 20240719 (Red Hat 11.5.0-2)

CentOS Stream 10
	Kernel: Depends on container host
	Compiler: gcc 14.2.1 20241104 (Red Hat 14.2.1-6)

Debian 12
	Kernel: Depends on container host
	Compiler: gcc (Debian 12.2.0-14) 12.2.0

Fedora 40 (Clang)
	Kernel: Depends on container host
	Compiler: clang 18.1.8 (Fedora 18.1.8-1.fc40)

Fedora 40
	Kernel: Depends on container host
	Compiler: gcc 14.2.1 20240912 (Red Hat 14.2.1-3)

Fedora 41 (Clang)
	Kernel: Depends on container host
	Compiler: clang 19.1.5 (Fedora 19.1.5-1.fc41)

Fedora 41
	Kernel: Depends on container host
	Compiler: gcc 14.2.1 20240912 (Red Hat 14.2.1-3)

openSUSE Leap 15
	Kernel: Depends on container host
	Compiler: gcc (SUSE Linux) 7.5.0

RHEL8
	Kernel: Depends on container host
	Compiler: gcc 8.5.0 20210514 (Red Hat 8.5.0-22)

Ubuntu 20.04
	Kernel: 4.19.325-0419325-generic
	Compiler: gcc (Ubuntu 9.4.0-1ubuntu1~20.04.2) 9.4.0

RHEL9
	Kernel: Depends on container host
	Compiler: gcc 11.5.0 20240719 (Red Hat 11.5.0-2)

FreeBSD 13.5
	Kernel: 13.5-RELEASE
	Compiler: clang 19.1.7

Ubuntu 22.04
	Kernel: Depends on container host
	Compiler: gcc (Ubuntu 11.4.0-1ubuntu1~22.04) 11.4.0

Ubuntu 24.04
	Kernel: Depends on container host
	Compiler: gcc (Ubuntu 13.3.0-6ubuntu2~24.04) 13.3.0

Alpine
	Kernel: Depends on container host
	Compiler: gcc (Alpine 14.2.0) 14.2.0

Ubuntu 24.04 32 Bit Cross Compile
	Kernel: Depends on container host
	Compiler: gcc (Ubuntu 13.3.0-6ubuntu2~24.04) 13.3.0

FreeBSD 14.2
	Kernel: 14.2-RELEASE
	Compiler: clang 18.1.6

Windows Server 2022
	Kernel: 10.0.20348.2031
	Compiler: clang 15.0.7, gcc 14.1.0 (MinGW), and MSVC VS 19.39.33521

To view detailed results, visit:
https://lab.dpdk.org/results/dashboard/tarballs/33186/

UNH-IOL DPDK Community Lab

To manage your email subscriptions, visit: 
https://lab.dpdk.org/results/dashboard/preferences/subscriptions/