From mboxrd@z Thu Jan 1 00:00:00 1970 Return-Path: Received: from mails.dpdk.org (mails.dpdk.org [217.70.189.124]) by inbox.dpdk.org (Postfix) with ESMTP id 342E146538 for ; Tue, 8 Apr 2025 23:53:04 +0200 (CEST) Received: from mails.dpdk.org (localhost [127.0.0.1]) by mails.dpdk.org (Postfix) with ESMTP id 2F9B5402ED; Tue, 8 Apr 2025 23:53:04 +0200 (CEST) Received: from mail-pl1-f226.google.com (mail-pl1-f226.google.com [209.85.214.226]) by mails.dpdk.org (Postfix) with ESMTP id 3B34640265 for ; Tue, 8 Apr 2025 23:53:03 +0200 (CEST) Received: by mail-pl1-f226.google.com with SMTP id d9443c01a7336-227d6b530d8so54957175ad.3 for ; Tue, 08 Apr 2025 14:53:03 -0700 (PDT) DKIM-Signature: v=1; a=rsa-sha256; c=relaxed/relaxed; d=iol.unh.edu; s=unh-iol; t=1744149182; x=1744753982; darn=dpdk.org; h=cc:to:from:subject:message-id:date:from:to:cc:subject:date :message-id:reply-to; bh=dszOfncIxs7ZfPBKEMhq4/Qdx4aeDZiu8T5TQc63r2I=; b=UnjnuNgrBjot98e08WbWAd9J7J91Qg/X7zmB7rua21kmsIzYfnvrdYc6ucw6oNAvC4 fAt7Hyv3HIHxxp5NB6LZkK1ZWzdHmy2efNgnf/U5InAT4TBAFMXfDpsllQv7bgVLVTJW +pc+SRNt0aPYfotU4h6rfGca/82dBFY6S4qIQ= X-Google-DKIM-Signature: v=1; a=rsa-sha256; c=relaxed/relaxed; d=1e100.net; s=20230601; t=1744149182; x=1744753982; h=cc:to:from:subject:message-id:date:x-gm-message-state:from:to:cc :subject:date:message-id:reply-to; bh=dszOfncIxs7ZfPBKEMhq4/Qdx4aeDZiu8T5TQc63r2I=; b=o8fMdSlL5rk+DfaAZzPDyBvGBAPMJykPzUJql1U6X5sO7MKKrKLvLtbbb4BmfKFLHA +6nnbIlrGq7qAbzVG+WUtkCTjRwzsK2Z80aMDcsQiQtdthcGl9CVggxtJQJmrruyUZlg 9uLxYgrInYgSG0tS7KgtrFj1y1uey/P9R5FQU8LAKJUPp9/uZm8jG/uqXARBPCDeo8+T ArUBodBQRJ7T5O0dH8PkLXsFgjhiWvmZrtQTFwnnchJ4pN9Ik1Mdi6qoboI3VU2k9fz4 OZtKJ3s0+3G4n8ncweRwXf0RdJfL1G98aJbsBZh+rOgV2psnNERi9grkFoPdjEb3Zh8e DYzQ== X-Gm-Message-State: AOJu0Yw3hGE8e/868iJCrSFk9gWgXUYq0wxXnsxcxG3Ib2m+j7TsxDrO 14jzEDMl2s9jwUeNwXIwbU2F3Df7dGXlxhMNC4agOFYwJFHCKI3cIO1iFtP49i/CJLKFT/jr5RP RhjomqD1ZEtEO0xkU7hfqpv31LetnfOCtlyJptKMa X-Gm-Gg: ASbGncs47RIU4ym7JycO7ORwuPgslvgsV3ca4mHjJl0PqSk2GpQym0iVCpdgChynYEN XCGNkzVEs7VPmipuGAKcbuOh0D+mCD/ZI3bxK9ZoCA2nMaGYL+vtDi8TjwBwdf2FU2//Ud73UrI bPoO8A7bQdj8lvVxUcN5hBVcI6OkRkrHsJsdA/ni+nmX6yplre/Li5u4XTN2OzZaY9Ro6YFvgrM Dn0InYehDkeXFE2kwyA9whyE85OGZgg+il1LDR7j+e8Y59enkr4fBvTNBuf7nSbcGgxy/qOQwSp 6GU2rHvhjNJeerteGGq3HlFndrpY7G3tFkHZkgfZ X-Google-Smtp-Source: AGHT+IEcz4sXo+dZ15NpuXk09XI0g1jn4laAg6nNfvuJSPw+xcovyuKLi34EWknHl343hjPr752NUbcQGqe2 X-Received: by 2002:a17:903:903:b0:223:fb3a:8631 with SMTP id d9443c01a7336-22ac29ade68mr14229155ad.24.1744149182425; Tue, 08 Apr 2025 14:53:02 -0700 (PDT) Received: from postal.iol.unh.edu (postal.iol.unh.edu. [132.177.123.84]) by smtp-relay.gmail.com with ESMTPS id d9443c01a7336-22978a3c80fsm9654135ad.108.2025.04.08.14.53.02 (version=TLS1_2 cipher=ECDHE-ECDSA-AES128-GCM-SHA256 bits=128/128); Tue, 08 Apr 2025 14:53:02 -0700 (PDT) X-Relaying-Domain: iol.unh.edu Date: Tue, 08 Apr 2025 14:53:02 -0700 (PDT) Message-ID: <67f59abe.170a0220.42a93.2a8eSMTPIN_ADDED_MISSING@mx.google.com> Received: from [172.21.0.7] (unknown [172.18.0.240]) by postal.iol.unh.edu (Postfix) with ESMTP id 9695B6052471; Tue, 8 Apr 2025 17:53:01 -0400 (EDT) Subject: |SUCCESS| [GIT MASTER] e30e194c4d06cf9b0e93f9f0f2a289bef96abc1a From: dpdklab@iol.unh.edu To: Test Report Cc: dpdk-test-reports@iol.unh.edu, Akhil Goyal Content-Type: text/plain X-BeenThere: test-report@dpdk.org X-Mailman-Version: 2.1.29 Precedence: list List-Id: automatic DPDK test reports List-Unsubscribe: , List-Archive: List-Post: List-Help: List-Subscribe: , Errors-To: test-report-bounces@dpdk.org _Testing PASS_ Branch: dpdk-next-crypto e30e194c4d06cf9b0e93f9f0f2a289bef96abc1a --> testing pass Upstream job id: Generic-DPDK-Compile-Meson#378282 Test environment and result as below: +-----------------------------------+--------------------+-------------------+------------------+-------------------------+-------------------+----------------------+ | Environment | dpdk_meson_compile | dpdk_compile_spdk | dpdk_compile_ovs | dpdk_llvm_clang_compile | dpdk_msvc_compile | dpdk_mingw64_compile | +===================================+====================+===================+==================+=========================+===================+======================+ | CentOS Stream 9 | PASS | PASS | SKIPPED | SKIPPED | SKIPPED | SKIPPED | +-----------------------------------+--------------------+-------------------+------------------+-------------------------+-------------------+----------------------+ | CentOS Stream 10 | PASS | SKIPPED | SKIPPED | SKIPPED | SKIPPED | SKIPPED | +-----------------------------------+--------------------+-------------------+------------------+-------------------------+-------------------+----------------------+ | Debian 12 | PASS | PASS | SKIPPED | SKIPPED | SKIPPED | SKIPPED | +-----------------------------------+--------------------+-------------------+------------------+-------------------------+-------------------+----------------------+ | Fedora 40 (Clang) | PASS | PASS | SKIPPED | SKIPPED | SKIPPED | SKIPPED | +-----------------------------------+--------------------+-------------------+------------------+-------------------------+-------------------+----------------------+ | Fedora 40 | PASS | PASS | SKIPPED | SKIPPED | SKIPPED | SKIPPED | +-----------------------------------+--------------------+-------------------+------------------+-------------------------+-------------------+----------------------+ | Fedora 41 (Clang) | PASS | PASS | PASS | SKIPPED | SKIPPED | SKIPPED | +-----------------------------------+--------------------+-------------------+------------------+-------------------------+-------------------+----------------------+ | Fedora 41 | PASS | PASS | PASS | SKIPPED | SKIPPED | SKIPPED | +-----------------------------------+--------------------+-------------------+------------------+-------------------------+-------------------+----------------------+ | openSUSE Leap 15 | PASS | SKIPPED | SKIPPED | SKIPPED | SKIPPED | SKIPPED | +-----------------------------------+--------------------+-------------------+------------------+-------------------------+-------------------+----------------------+ | RHEL8 | PASS | SKIPPED | SKIPPED | SKIPPED | SKIPPED | SKIPPED | +-----------------------------------+--------------------+-------------------+------------------+-------------------------+-------------------+----------------------+ | Ubuntu 20.04 | PASS | SKIPPED | SKIPPED | SKIPPED | SKIPPED | SKIPPED | +-----------------------------------+--------------------+-------------------+------------------+-------------------------+-------------------+----------------------+ | RHEL9 | PASS | SKIPPED | SKIPPED | SKIPPED | SKIPPED | SKIPPED | +-----------------------------------+--------------------+-------------------+------------------+-------------------------+-------------------+----------------------+ | FreeBSD 13.5 | PASS | SKIPPED | SKIPPED | SKIPPED | SKIPPED | SKIPPED | +-----------------------------------+--------------------+-------------------+------------------+-------------------------+-------------------+----------------------+ | Ubuntu 22.04 | PASS | PASS | SKIPPED | SKIPPED | SKIPPED | SKIPPED | +-----------------------------------+--------------------+-------------------+------------------+-------------------------+-------------------+----------------------+ | Ubuntu 24.04 | PASS | PASS | PASS | SKIPPED | SKIPPED | SKIPPED | +-----------------------------------+--------------------+-------------------+------------------+-------------------------+-------------------+----------------------+ | Alpine | PASS | SKIPPED | SKIPPED | SKIPPED | SKIPPED | SKIPPED | +-----------------------------------+--------------------+-------------------+------------------+-------------------------+-------------------+----------------------+ | Ubuntu 24.04 32 Bit Cross Compile | PASS | SKIPPED | SKIPPED | SKIPPED | SKIPPED | SKIPPED | +-----------------------------------+--------------------+-------------------+------------------+-------------------------+-------------------+----------------------+ | FreeBSD 14.2 | PASS | SKIPPED | SKIPPED | SKIPPED | SKIPPED | SKIPPED | +-----------------------------------+--------------------+-------------------+------------------+-------------------------+-------------------+----------------------+ | Windows Server 2022 | SKIPPED | SKIPPED | SKIPPED | PASS | PASS | PASS | +-----------------------------------+--------------------+-------------------+------------------+-------------------------+-------------------+----------------------+ CentOS Stream 9 Kernel: Depends on container host Compiler: gcc 11.5.0 20240719 (Red Hat 11.5.0-2) CentOS Stream 10 Kernel: Depends on container host Compiler: gcc 14.2.1 20241104 (Red Hat 14.2.1-6) Debian 12 Kernel: Depends on container host Compiler: gcc (Debian 12.2.0-14) 12.2.0 Fedora 40 (Clang) Kernel: Depends on container host Compiler: clang 18.1.8 (Fedora 18.1.8-1.fc40) Fedora 40 Kernel: Depends on container host Compiler: gcc 14.2.1 20240912 (Red Hat 14.2.1-3) Fedora 41 (Clang) Kernel: Depends on container host Compiler: clang 19.1.5 (Fedora 19.1.5-1.fc41) Fedora 41 Kernel: Depends on container host Compiler: gcc 14.2.1 20240912 (Red Hat 14.2.1-3) openSUSE Leap 15 Kernel: Depends on container host Compiler: gcc (SUSE Linux) 7.5.0 RHEL8 Kernel: Depends on container host Compiler: gcc 8.5.0 20210514 (Red Hat 8.5.0-22) Ubuntu 20.04 Kernel: 4.19.325-0419325-generic Compiler: gcc (Ubuntu 9.4.0-1ubuntu1~20.04.2) 9.4.0 RHEL9 Kernel: Depends on container host Compiler: gcc 11.5.0 20240719 (Red Hat 11.5.0-2) FreeBSD 13.5 Kernel: 13.5-RELEASE Compiler: clang 19.1.7 Ubuntu 22.04 Kernel: Depends on container host Compiler: gcc (Ubuntu 11.4.0-1ubuntu1~22.04) 11.4.0 Ubuntu 24.04 Kernel: Depends on container host Compiler: gcc (Ubuntu 13.3.0-6ubuntu2~24.04) 13.3.0 Alpine Kernel: Depends on container host Compiler: gcc (Alpine 14.2.0) 14.2.0 Ubuntu 24.04 32 Bit Cross Compile Kernel: Depends on container host Compiler: gcc (Ubuntu 13.3.0-6ubuntu2~24.04) 13.3.0 FreeBSD 14.2 Kernel: 14.2-RELEASE Compiler: clang 18.1.6 Windows Server 2022 Kernel: 10.0.20348.2031 Compiler: clang 15.0.7, gcc 14.1.0 (MinGW), and MSVC VS 19.39.33521 To view detailed results, visit: https://lab.dpdk.org/results/dashboard/tarballs/33186/ UNH-IOL DPDK Community Lab To manage your email subscriptions, visit: https://lab.dpdk.org/results/dashboard/preferences/subscriptions/