From mboxrd@z Thu Jan 1 00:00:00 1970 Return-Path: Received: from mails.dpdk.org (mails.dpdk.org [217.70.189.124]) by inbox.dpdk.org (Postfix) with ESMTP id 472BB46538 for ; Tue, 8 Apr 2025 23:53:31 +0200 (CEST) Received: from mails.dpdk.org (localhost [127.0.0.1]) by mails.dpdk.org (Postfix) with ESMTP id 41A72402ED; Tue, 8 Apr 2025 23:53:31 +0200 (CEST) Received: from mail-io1-f98.google.com (mail-io1-f98.google.com [209.85.166.98]) by mails.dpdk.org (Postfix) with ESMTP id 8727A40265 for ; Tue, 8 Apr 2025 23:53:29 +0200 (CEST) Received: by mail-io1-f98.google.com with SMTP id ca18e2360f4ac-86117e5adb3so151722739f.2 for ; Tue, 08 Apr 2025 14:53:29 -0700 (PDT) DKIM-Signature: v=1; a=rsa-sha256; c=relaxed/relaxed; d=iol.unh.edu; s=unh-iol; t=1744149209; x=1744754009; darn=dpdk.org; h=references:in-reply-to:cc:to:from:subject:message-id:date:from:to :cc:subject:date:message-id:reply-to; bh=ukQY1I6f1CJBi67P008d9T9gqBCWzZQMhcWo6RxHbfQ=; b=SCYQ7HDT75BLy1CyObjWNdry4+hKS81Y1vvBCMnEvkfa23NdiDmrzR9jqGBkqvrwta D6cLFUgp0CH/T6fw8ydQs0JwOIR3nEKpdnEfP/ZDI/LjtdQt3zAdU49vkHX4X32bKzEe rEQhd9Rm5JKF40/ao4CN2hXjhmU28YOsipSxE= X-Google-DKIM-Signature: v=1; a=rsa-sha256; c=relaxed/relaxed; d=1e100.net; s=20230601; t=1744149209; x=1744754009; h=references:in-reply-to:cc:to:from:subject:message-id:date :x-gm-message-state:from:to:cc:subject:date:message-id:reply-to; bh=ukQY1I6f1CJBi67P008d9T9gqBCWzZQMhcWo6RxHbfQ=; b=NzNWbJ8a6bHj+KVQqh841SxOVm5I0BicLPndHgMF/t8kXydgfgYIUm5GdwwLToi67x BIlCmzrzzYKjOwmWLY5NbDOCE7e98fq3t+qaGawY/Rnl23O7QJ8DYxmux1mPSTMvp+Lv OOISBGQ9na9SduEwiMvWJTYmVLqiUH4yPizdsQhGSk12i3+ez0SeW6kmgQbMtqS0LR1s riN0an34OYouodUG3JJvgK14hWVMKT1qdo6pD/UMAHt5z/3QxfhXOcrvGFK9/gmNamqC Wzu1QIgZuUgPR3xpAclXp8C56VWdRUDRsutmueD6VdKactRQ6ZMLEOGmnagVOt+UX/D8 1ouw== X-Gm-Message-State: AOJu0Yza6G77WDyUf73Dal49eh1Tn18I1dzw2amr8TqNW8lBUfjZPBJS ryhNah+FWdb6lR60pfNxIja6hlUU8CzF3XTK+3eFvXeUo83ukv3HRADPO1UjrSMln+5gcQHQMM9 Ht9XlyEYTrdrcPQ90PmRfUd+sPcgXB0Tg34+vsgrc X-Gm-Gg: ASbGncuJ5XoaHMmTHX6WijiR5EdSjteeYliRbhmbakVZoAj3NXziX6EB1NZ5nzkb8wW akxS9V8L7sAe4Cvwn9n9IPzjAYPhJG8ccnkJQz/RRLn+5GHntu87ejWz7n3QW6TOfv5v2scngBs AjgdDDRvUiOPKYSAcv3kLjP66x3xgQivjbTV86s+YR7MyBMxdO9NbU+1QBLcw7l4RRlzTr/IvqB oBL7i8yDPxYo3538luAAyT6RyE1q4qYcvtG359Mt/ePEvDokJc6MoQ+Yjftl2c0jc/U/oSP3nM+ VPSbREfiGeZ1mEHPMM4ziPYu+BAokg2ChrDywKqy X-Google-Smtp-Source: AGHT+IGmVuyC+KDszhyfI7aSa4WfIQR1YkDZNM38lvo5/an0IA13pbUtJxRNfDxTf2HqyVZfbiewGrZQ09sZ X-Received: by 2002:a05:6e02:1564:b0:3d4:337f:121c with SMTP id e9e14a558f8ab-3d7b460e7c2mr1897295ab.10.1744149208793; Tue, 08 Apr 2025 14:53:28 -0700 (PDT) Received: from postal.iol.unh.edu (postal.iol.unh.edu. [132.177.123.84]) by smtp-relay.gmail.com with ESMTPS id e9e14a558f8ab-3d703b6c9ecsm1843625ab.2.2025.04.08.14.53.28 (version=TLS1_2 cipher=ECDHE-ECDSA-AES128-GCM-SHA256 bits=128/128); Tue, 08 Apr 2025 14:53:28 -0700 (PDT) X-Relaying-Domain: iol.unh.edu Date: Tue, 08 Apr 2025 14:53:28 -0700 (PDT) Message-ID: <67f59ad8.050a0220.e507.959fSMTPIN_ADDED_MISSING@mx.google.com> Received: from [172.17.0.3] (unknown [172.18.0.217]) by postal.iol.unh.edu (Postfix) with ESMTP id 0671C6052471; Tue, 8 Apr 2025 17:53:28 -0400 (EDT) Subject: |SUCCESS| pw152833 [PATCH] net/ice: fix Rx of large packets From: dpdklab@iol.unh.edu To: Test Report Cc: dpdk-test-reports@iol.unh.edu In-Reply-To: <20250408155736.2739406-1-bruce.richardson@intel.com> References: <20250408155736.2739406-1-bruce.richardson@intel.com> Content-Type: text/plain X-BeenThere: test-report@dpdk.org X-Mailman-Version: 2.1.29 Precedence: list List-Id: automatic DPDK test reports List-Unsubscribe: , List-Archive: List-Post: List-Help: List-Subscribe: , Errors-To: test-report-bounces@dpdk.org Test-Label: iol-compile-arm64-testing Test-Status: SUCCESS http://dpdk.org/patch/152833 _Testing PASS_ Submitter: Bruce Richardson Date: Tuesday, April 08 2025 15:57:36 DPDK git baseline: Repo:dpdk Branch: master CommitID:d7817c378fecd07c59360667f93c25dff4b1a145 152833 --> testing pass Upstream job id: Generic-DPDK-Compile-Meson#378236 Test environment and result as below: +----------------------------------------+--------------------+ | Environment | dpdk_meson_compile | +========================================+====================+ | RHEL9 (ARM) | PASS | +----------------------------------------+--------------------+ | Debian 12 with MUSDK | PASS | +----------------------------------------+--------------------+ | Ubuntu 20.04 ARM GCC Cross Compile | PASS | +----------------------------------------+--------------------+ | Ubuntu 20.04 ARM SVE | PASS | +----------------------------------------+--------------------+ | Ubuntu 22.04 (ARM) | PASS | +----------------------------------------+--------------------+ | CentOS Stream 9 (ARM) | PASS | +----------------------------------------+--------------------+ | Fedora 40 (ARM) | PASS | +----------------------------------------+--------------------+ | Fedora 40 (ARM Clang) | PASS | +----------------------------------------+--------------------+ | CentOS Stream 10 (ARM) | PASS | +----------------------------------------+--------------------+ | Fedora 41 (ARM Clang) | PASS | +----------------------------------------+--------------------+ | Ubuntu 20.04 (ARM) | PASS | +----------------------------------------+--------------------+ | Debian 12 (arm) | PASS | +----------------------------------------+--------------------+ | Ubuntu 20.04 aarch32 GCC Cross Compile | PASS | +----------------------------------------+--------------------+ | Ubuntu 20.04 ARM Clang Cross Compile | PASS | +----------------------------------------+--------------------+ | Fedora 41 (ARM) | PASS | +----------------------------------------+--------------------+ | Ubuntu 24.04 (ARM) | PASS | +----------------------------------------+--------------------+ RHEL9 (ARM) Kernel: Depends on container host Compiler: gcc 11.5.0 20240719 (Red Hat 11.5.0-2) Debian 12 with MUSDK Kernel: Depends on container host Compiler: gcc (Debian 12.2.0-14) 12.2.0 Ubuntu 20.04 ARM GCC Cross Compile Kernel: Depends on container host Compiler: aarch64-linux-gnu-gcc (Ubuntu 9.4.0-1ubuntu1~20.04.2) 9.4.0 Ubuntu 20.04 ARM SVE Kernel: Depends on container host Compiler: gcc (Ubuntu 10.5.0-1ubuntu1~20.04) 10.5.0 Ubuntu 22.04 (ARM) Kernel: Depends on container host Compiler: gcc (Ubuntu 11.4.0-1ubuntu1~22.04) 11.4.0 CentOS Stream 9 (ARM) Kernel: Depends on container host Compiler: gcc 11.5.0 20240719 (Red Hat 11.5.0-2) Fedora 40 (ARM) Kernel: Depends on container host Compiler: gcc 14.2.1 20240912 (Red Hat 14.2.1-3) Fedora 40 (ARM Clang) Kernel: Depends on container host Compiler: clang 18.1.8 (Fedora 18.1.8-1.fc40) CentOS Stream 10 (ARM) Kernel: Depends on container host Compiler: gcc 14.2.1 20241104 (Red Hat 14.2.1-6) Fedora 41 (ARM Clang) Kernel: Depends on container host Compiler: clang 19.1.5 (Fedora 19.1.5-1.fc41) Ubuntu 20.04 (ARM) Kernel: Depends on container host Compiler: gcc (Ubuntu 9.4.0-1ubuntu1~20.04.2) 9.4.0 Debian 12 (arm) Kernel: Depends on container host Compiler: gcc (Debian 12.2.0-14) 12.2.0 Ubuntu 20.04 aarch32 GCC Cross Compile Kernel: Depends on container host Compiler: gcc 9.4.0 Ubuntu 20.04 ARM Clang Cross Compile Kernel: Depends on container host Compiler: clang 10.0.0-4ubuntu1 Fedora 41 (ARM) Kernel: Depends on container host Compiler: gcc 14.2.1 20240912 (Red Hat 14.2.1-3) Ubuntu 24.04 (ARM) Kernel: Depends on container host Compiler: gcc (Ubuntu 13.3.0-6ubuntu2~24.04) 13.3.0 To view detailed results, visit: https://lab.dpdk.org/results/dashboard/patchsets/32968/ UNH-IOL DPDK Community Lab To manage your email subscriptions, visit: https://lab.dpdk.org/results/dashboard/preferences/subscriptions/