From mboxrd@z Thu Jan 1 00:00:00 1970 Return-Path: Received: from mails.dpdk.org (mails.dpdk.org [217.70.189.124]) by inbox.dpdk.org (Postfix) with ESMTP id EFE3946538 for ; Wed, 9 Apr 2025 00:12:18 +0200 (CEST) Received: from mails.dpdk.org (localhost [127.0.0.1]) by mails.dpdk.org (Postfix) with ESMTP id EB769402C5; Wed, 9 Apr 2025 00:12:18 +0200 (CEST) Received: from mail-pl1-f226.google.com (mail-pl1-f226.google.com [209.85.214.226]) by mails.dpdk.org (Postfix) with ESMTP id 5F52E40265 for ; Wed, 9 Apr 2025 00:12:17 +0200 (CEST) Received: by mail-pl1-f226.google.com with SMTP id d9443c01a7336-2264aefc45dso78093895ad.0 for ; Tue, 08 Apr 2025 15:12:17 -0700 (PDT) DKIM-Signature: v=1; a=rsa-sha256; c=relaxed/relaxed; d=iol.unh.edu; s=unh-iol; t=1744150336; x=1744755136; darn=dpdk.org; h=references:in-reply-to:cc:to:from:subject:message-id:date:from:to :cc:subject:date:message-id:reply-to; bh=k0z86jpWRP7ec6J8UtkkejmetdfRa0bL2TY27ugkCVE=; b=fsSylojtGk88viw2X6+mBDVNJvkV4fqM054h1XrXMHaQ16xxDNXsynM79quihUs2vV 9nZFy2AwG8EQmm1Xiw8misFg0Bqw8XWLZoaxKZwSuV1HuAvydC+TPoBy2phhicBFJr9v USVP861cuJTsdCdnv0nZwZDbKWBWSbop1/zWk= X-Google-DKIM-Signature: v=1; a=rsa-sha256; c=relaxed/relaxed; d=1e100.net; s=20230601; t=1744150336; x=1744755136; h=references:in-reply-to:cc:to:from:subject:message-id:date :x-gm-message-state:from:to:cc:subject:date:message-id:reply-to; bh=k0z86jpWRP7ec6J8UtkkejmetdfRa0bL2TY27ugkCVE=; b=HT7+l2OFdh2nlDtnc4k6/xP2SwYinhjTgGsQVR65wK4TKTe3i6TYmC5JCfjlrd9zxY 52IcrbluPAr4eVOiEsd8JEDmbbx8mLcEX2Jlr1zhXU9J+aT2H8/qv5wtz2Lcn9uQ8idq /hCdYRFva3p3Gr0Dfzuk0TKiCMYBCWdPlyuj75wMINqkzZI2/470lgu2FyfRD/iJUmmH Sh6Ej6EAgao1q+nmeD5w1l9M9WvgDr2/zuunJBXShd7bTXBeGW7aQY2qFsdUIRvx+1ns qkYmftEx5/pigmy2ExmWc1rBGoj/RoQz+PBdRuZCPebpdDzSfd+ZcvDQ/cluzFvq7UkB 1Ulw== X-Gm-Message-State: AOJu0Ywj2R7tf8JFErXsIyvsq5PP1YgikYXPNkik1s3Tkta6nlKrsLJS O2y5i4k9o2Y58bhZERYLTGpamRipwMgxCQfikCoNzC+177cet5LHkkqRUaowsrffSgBv63sRglG 4s+LtjUIwOZDRM9wVX0KBkoBKG7TzRFnESjSw47wv X-Gm-Gg: ASbGncuc1bsNIBfIH/ZlG+Ja+WuII9y66RZEn1dN22qoTSvAYLQ0LdsX06nFrjCTzhE cOrXZUrnuHapZrkhjbG423rzA3WIMNjpudB7c2obeDD9v0ZZN+Ot4WBPhuUlmYG16RSDozyK5ye D36VUU4Vycq02ZDZo65QB+vp3kYlYlfslwicvzrCqmxKgohHNhiEaMtYgkq7QirIJSTcG0nzvVl jv27jKNVEkS4s2qBMFE6OnrvPD6KWjh/fLCOap0GUxcmbHMd/PJ9vfIPPc6QnEZZSgSFyQXNp+r jIMxGYURAcJCy0E5b3UVEXEO1VL6IVczz83eDhR+ X-Google-Smtp-Source: AGHT+IEo1wBw6gjPZU4a/Tfwidfb8neeUnaPR+Dl9XouX29QCl+NjigYPG9D4mg7wDQLvuCvgag+E4T4AX8r X-Received: by 2002:a17:902:d505:b0:223:4b88:780f with SMTP id d9443c01a7336-22ac2991b0cmr8970655ad.17.1744150336579; Tue, 08 Apr 2025 15:12:16 -0700 (PDT) Received: from postal.iol.unh.edu (postal.iol.unh.edu. [132.177.123.84]) by smtp-relay.gmail.com with ESMTPS id d9443c01a7336-22978a29b44sm9531715ad.77.2025.04.08.15.12.16 (version=TLS1_2 cipher=ECDHE-ECDSA-AES128-GCM-SHA256 bits=128/128); Tue, 08 Apr 2025 15:12:16 -0700 (PDT) X-Relaying-Domain: iol.unh.edu Date: Tue, 08 Apr 2025 15:12:16 -0700 (PDT) Message-ID: <67f59f40.170a0220.5a040.123eSMTPIN_ADDED_MISSING@mx.google.com> Received: from [172.21.0.5] (unknown [172.18.0.240]) by postal.iol.unh.edu (Postfix) with ESMTP id C36B16052471; Tue, 8 Apr 2025 18:12:15 -0400 (EDT) Subject: |SUCCESS| pw152819-152823 [PATCH] [7/7] net/hns3: fix unrelease some From: dpdklab@iol.unh.edu To: Test Report Cc: dpdk-test-reports@iol.unh.edu In-Reply-To: <20250408083100.2845040-8-huangdengdui@huawei.com> References: <20250408083100.2845040-8-huangdengdui@huawei.com> Content-Type: text/plain X-BeenThere: test-report@dpdk.org X-Mailman-Version: 2.1.29 Precedence: list List-Id: automatic DPDK test reports List-Unsubscribe: , List-Archive: List-Post: List-Help: List-Subscribe: , Errors-To: test-report-bounces@dpdk.org Test-Label: iol-unit-amd64-testing Test-Status: SUCCESS http://dpdk.org/patch/152823 _Testing PASS_ Submitter: Dengdui Huang Date: Tuesday, April 08 2025 08:31:00 DPDK git baseline: Repo:dpdk Branch: master CommitID:0b2f016cd76d4fb382eea54b8a6aaf9474586fbc 152819-152823 --> testing pass Upstream job id: Generic-Unit-Test-DPDK#329577 Test environment and result as below: +-------------------+----------------+ | Environment | dpdk_unit_test | +===================+================+ | CentOS Stream 10 | PASS | +-------------------+----------------+ | CentOS Stream 9 | PASS | +-------------------+----------------+ | Debian 12 | PASS | +-------------------+----------------+ | Fedora 41 | PASS | +-------------------+----------------+ | Ubuntu 20.04 | PASS | +-------------------+----------------+ | Ubuntu 24.04 | PASS | +-------------------+----------------+ | Fedora 41 (Clang) | PASS | +-------------------+----------------+ | Fedora 40 | PASS | +-------------------+----------------+ | Fedora 40 (Clang) | PASS | +-------------------+----------------+ | RHEL9 | PASS | +-------------------+----------------+ | RHEL8 | PASS | +-------------------+----------------+ | Ubuntu 22.04 | PASS | +-------------------+----------------+ CentOS Stream 10 Kernel: Depends on container host Compiler: gcc 14.2.1 20241104 (Red Hat 14.2.1-6) CentOS Stream 9 Kernel: Depends on container host Compiler: gcc 11.5.0 20240719 (Red Hat 11.5.0-2) Debian 12 Kernel: Depends on container host Compiler: gcc (Debian 12.2.0-14) 12.2.0 Fedora 41 Kernel: Depends on container host Compiler: gcc 14.2.1 20240912 (Red Hat 14.2.1-3) Ubuntu 20.04 Kernel: Depends on container host Compiler: gcc (Ubuntu 9.4.0-1ubuntu1~20.04.2) 9.4.0 Ubuntu 24.04 Kernel: Depends on container host Compiler: gcc (Ubuntu 13.3.0-6ubuntu2~24.04) 13.3.0 Fedora 41 (Clang) Kernel: Depends on container host Compiler: clang 19.1.5 (Fedora 19.1.5-1.fc41) Fedora 40 Kernel: Depends on container host Compiler: gcc 14.2.1 20240912 (Red Hat 14.2.1-3) Fedora 40 (Clang) Kernel: Depends on container host Compiler: clang 18.1.8 (Fedora 18.1.8-1.fc40) RHEL9 Kernel: Depends on container host Compiler: gcc 11.5.0 20240719 (Red Hat 11.5.0-2) RHEL8 Kernel: Depends on container host Compiler: gcc 8.5.0 20210514 (Red Hat 8.5.0-22) Ubuntu 22.04 Kernel: Depends on container host Compiler: gcc (Ubuntu 11.4.0-1ubuntu1~22.04) 11.4.0 To view detailed results, visit: https://lab.dpdk.org/results/dashboard/patchsets/32962/ UNH-IOL DPDK Community Lab To manage your email subscriptions, visit: https://lab.dpdk.org/results/dashboard/preferences/subscriptions/