From mboxrd@z Thu Jan  1 00:00:00 1970
Return-Path: <test-report-bounces@dpdk.org>
Received: from mails.dpdk.org (mails.dpdk.org [217.70.189.124])
	by inbox.dpdk.org (Postfix) with ESMTP id 47B5D46538
	for <public@inbox.dpdk.org>; Wed,  9 Apr 2025 00:23:14 +0200 (CEST)
Received: from mails.dpdk.org (localhost [127.0.0.1])
	by mails.dpdk.org (Postfix) with ESMTP id 1FB5040267;
	Wed,  9 Apr 2025 00:23:14 +0200 (CEST)
Received: from mail-pj1-f98.google.com (mail-pj1-f98.google.com
 [209.85.216.98]) by mails.dpdk.org (Postfix) with ESMTP id 6BB3940265
 for <test-report@dpdk.org>; Wed,  9 Apr 2025 00:23:12 +0200 (CEST)
Received: by mail-pj1-f98.google.com with SMTP id
 98e67ed59e1d1-2ff6a98c638so6254560a91.0
 for <test-report@dpdk.org>; Tue, 08 Apr 2025 15:23:12 -0700 (PDT)
DKIM-Signature: v=1; a=rsa-sha256; c=relaxed/relaxed;
 d=iol.unh.edu; s=unh-iol; t=1744150991; x=1744755791; darn=dpdk.org;
 h=cc:to:from:subject:message-id:date:from:to:cc:subject:date
 :message-id:reply-to;
 bh=Q4itdQaL39Oab56OpIr0SjtXzzr94glSjono6GEFQNs=;
 b=SfoIOsHJjonPx/MCe6bgh3Xcrx5m7X1wN6dSnvYisdtkNNOEEq3oWxzMUy3cWk2Tsq
 2tJVM/4BRBOqyVE9QWA3xftOUv/+tQ7t6aU7WM9wKu3R5EjNmT/CW8z/Q6ZZyE0XGDEH
 ciyneHudW4+bnSAAr6n2Mcpc83Gdl8DNLOMbE=
X-Google-DKIM-Signature: v=1; a=rsa-sha256; c=relaxed/relaxed;
 d=1e100.net; s=20230601; t=1744150991; x=1744755791;
 h=cc:to:from:subject:message-id:date:x-gm-message-state:from:to:cc
 :subject:date:message-id:reply-to;
 bh=Q4itdQaL39Oab56OpIr0SjtXzzr94glSjono6GEFQNs=;
 b=Fm1Smr56AL38bq6bV4RLW9LClVaKOD0Bw2jweJkdrNN7drMYuRkPivGwZRgpP1rLhU
 ygb+QvFZwsTpcxj+UBY0YTQ4bT7TeyMiVlUdzl+chRfiOgsYDiGs8aN7ZLEEi8UWOgwg
 hUMlC+ca1eJX9q3TI55vX/95Uh0S1k6BhiwFmkU9SE8GzV9U55T3gqQ2nhFm36OukXTf
 h3ASg2fjTLkW0k9cynZ7neAzLB3u+NkmarmwNsSYUwHaG4Zrv3mWSZA4ku5MN0+MUqTB
 dwBwaKmJ7/ez/CcgUQUmd/Y3AOFW55FPyGnxVwLrmvglYhTQ7NQEsv0iU73+K8N5T1hX
 bEqQ==
X-Gm-Message-State: AOJu0YxHfBGvZzsasdBxAFwYkKKEUMAiTJXirsJosQ/ZXJmQdAGPqLP5
 F97+1WyTp7APXkhH0wQGxZkAAyN0jgKyXiiNJ8KK9VPgYKdWNS84eZ9PcO6xSlO/BDzWk86YuOc
 pgOGNu9TP6etPmjU4MMb1CMz6w+mdWbaQT/z0MYQa
X-Gm-Gg: ASbGncu4Sc8fK6taE2lNJ8UYZWFn3VZRVBLtlHjENeVq8DnzwA9FqAcSzWF6HV7grau
 SQqAj+LeH8cf8URc83ythuEz9yV4BD53/qpqDNP+3P9rqC7VHsargYPMjeG8qJP0tyFPT4dUmB5
 toQaXs0KiX3Jsn9IX4jDHqVeD7XlC9S0JnZ+7yQg+vYHQmI3w6bCN9iPck8hQztMox9GmNcD2Ds
 BLpV7EfWDOPr5vAgS5tZJauz9Pz+TSkXNCUTfUPART/Qc4iGebLNMoNAbptZffXbnQtOg71DbIG
 N4WeBILA+9EkE0qCyI34b6ssx6e3eI2W/vI2Gwfs
X-Google-Smtp-Source: AGHT+IHIsfXgMMyAQ8oEGa+Dk+uJgymseSr6Wb7HJ0FO98UxWb2S/p5Q75YJauSUb/q3cO2JhnzZeXapYLv+
X-Received: by 2002:a17:90b:4a4c:b0:301:1c11:aa83 with SMTP id
 98e67ed59e1d1-306dd5528a2mr221571a91.28.1744150991587; 
 Tue, 08 Apr 2025 15:23:11 -0700 (PDT)
Received: from postal.iol.unh.edu (postal.iol.unh.edu. [132.177.123.84])
 by smtp-relay.gmail.com with ESMTPS id
 98e67ed59e1d1-306dd184029sm20402a91.15.2025.04.08.15.23.11
 (version=TLS1_2 cipher=ECDHE-ECDSA-AES128-GCM-SHA256 bits=128/128);
 Tue, 08 Apr 2025 15:23:11 -0700 (PDT)
X-Relaying-Domain: iol.unh.edu
Date: Tue, 08 Apr 2025 15:23:11 -0700 (PDT)
Message-ID: <67f5a1cf.170a0220.2be81.06c5SMTPIN_ADDED_MISSING@mx.google.com>
Received: from [172.21.0.5] (unknown [172.18.0.240])
 by postal.iol.unh.edu (Postfix) with ESMTP id C727E6052471;
 Tue,  8 Apr 2025 18:23:10 -0400 (EDT)
Subject: |SUCCESS| [GIT MASTER] e30e194c4d06cf9b0e93f9f0f2a289bef96abc1a
From: dpdklab@iol.unh.edu
To: Test Report <test-report@dpdk.org>
Cc: dpdk-test-reports@iol.unh.edu, Akhil Goyal <gakhil@marvell.com>
Content-Type: text/plain
X-BeenThere: test-report@dpdk.org
X-Mailman-Version: 2.1.29
Precedence: list
List-Id: automatic DPDK test reports <test-report.dpdk.org>
List-Unsubscribe: <https://mails.dpdk.org/options/test-report>,
 <mailto:test-report-request@dpdk.org?subject=unsubscribe>
List-Archive: <http://mails.dpdk.org/archives/test-report/>
List-Post: <mailto:test-report@dpdk.org>
List-Help: <mailto:test-report-request@dpdk.org?subject=help>
List-Subscribe: <https://mails.dpdk.org/listinfo/test-report>,
 <mailto:test-report-request@dpdk.org?subject=subscribe>
Errors-To: test-report-bounces@dpdk.org

_Testing PASS_

Branch: dpdk-next-crypto

e30e194c4d06cf9b0e93f9f0f2a289bef96abc1a --> testing pass

Upstream job id: ACVP-FIPS-testing#9480

Test environment and result as below:

+--------------------+----------------------+----------------------+
|    Environment     | compressdev_zlib_pmd | dpdk_fips_validation |
+====================+======================+======================+
| Ubuntu 22.04 (ARM) | PASS                 | SKIPPED              |
+--------------------+----------------------+----------------------+
| Ubuntu 22.04       | PASS                 | SKIPPED              |
+--------------------+----------------------+----------------------+
| Ubuntu 20.04       | SKIPPED              | PASS                 |
+--------------------+----------------------+----------------------+


Ubuntu 22.04 (ARM)
	Kernel: 5.15.0-97-generic
	Compiler: gcc gcc (Ubuntu 11.4.0-1ubuntu1~22.04) 11.4.0

Ubuntu 22.04
	Kernel: 5.15.0-100-generic
	Compiler: gcc gcc (Ubuntu 11.4.0-1ubuntu1~22.04) 11.4.0

Ubuntu 20.04
	Kernel: Depends on container host
	Compiler: gcc (Ubuntu 9.4.0-1ubuntu1~20.04.2) 9.4.0

To view detailed results, visit:
https://lab.dpdk.org/results/dashboard/tarballs/33186/

UNH-IOL DPDK Community Lab

To manage your email subscriptions, visit: 
https://lab.dpdk.org/results/dashboard/preferences/subscriptions/