From mboxrd@z Thu Jan 1 00:00:00 1970 Return-Path: Received: from mails.dpdk.org (mails.dpdk.org [217.70.189.124]) by inbox.dpdk.org (Postfix) with ESMTP id 8372F46538 for ; Wed, 9 Apr 2025 00:51:55 +0200 (CEST) Received: from mails.dpdk.org (localhost [127.0.0.1]) by mails.dpdk.org (Postfix) with ESMTP id 7DAE5402C5; Wed, 9 Apr 2025 00:51:55 +0200 (CEST) Received: from mail-pl1-f228.google.com (mail-pl1-f228.google.com [209.85.214.228]) by mails.dpdk.org (Postfix) with ESMTP id CD3CF40265 for ; Wed, 9 Apr 2025 00:51:53 +0200 (CEST) Received: by mail-pl1-f228.google.com with SMTP id d9443c01a7336-227d6b530d8so55234835ad.3 for ; Tue, 08 Apr 2025 15:51:53 -0700 (PDT) DKIM-Signature: v=1; a=rsa-sha256; c=relaxed/relaxed; d=iol.unh.edu; s=unh-iol; t=1744152713; x=1744757513; darn=dpdk.org; h=cc:to:from:subject:message-id:date:from:to:cc:subject:date :message-id:reply-to; bh=wNe4gt+gNY3K5XBmLTpmLVCeyIeEaupenWjvpvgZfZQ=; b=Ez4QJV7bO9GxE65/Hc3o2vU4iRKpvH+P1YVg4x/7qxPAFeZi+SGr9+ERxi5nWsL5EL xEC1iqjTyZAYtkeyVMFlUnQBeBDxFopShSHUZ2HfD5JHqY7MJ4sgk7NLZsnKX7y0JDEf fZSHjKeTpY4tr/c9BwgGZ98ApmW1f2+vvJFGY= X-Google-DKIM-Signature: v=1; a=rsa-sha256; c=relaxed/relaxed; d=1e100.net; s=20230601; t=1744152713; x=1744757513; h=cc:to:from:subject:message-id:date:x-gm-message-state:from:to:cc :subject:date:message-id:reply-to; bh=wNe4gt+gNY3K5XBmLTpmLVCeyIeEaupenWjvpvgZfZQ=; b=EnFES/jCYDu3naCLcF0u23bvAT4OxvXedaQyB4ZMiwy/YIyi8A69GqYA1gPsYU3hbC NDf7ItOAmIqyqyU0IkG0+MckC2lZqVzcQVYPrM/5FbB941yBiYHo/sBpqwhgQeuqpIcr sySSrqX9MKwShPxambehF2dUwPEynpK7G+dZR7hFl33+eLI1vSEMqoX+DkV5Jn5uYnpT fnk80Vk5/kTxNTuWYcnCi01trakcHdBbXtbN+fbA7+5JcQUCGr7mtemwyRlaS0Gc9RP4 6C/DZdFFVblPyjj9+id1KkWFcOHmbTJWiAHpWdFttIlzz0EjzzJK0Iag5oXoCG1raj2C unCA== X-Gm-Message-State: AOJu0YxrWoMaB+EWEYVseQyPaQ2bnstw1qVBYJ8+Jh7mMNhnMnTPt58d jgFyBKKPdqzYq2WyMJXzcCfAZOwI5e+byqdyr/Y/67SEx1zfMeJ7WB+Q0A3DdOJYX42NAj+/Hit QZlle0ABaAqXKfwDmCbvhabAkigMze4XHUvHxhkiCMXtQM0tBGb6wWCBc X-Gm-Gg: ASbGnctZZMYApU7vofHbqrMmCxcjLbpEdMB1mjpXA0eY9QXB/Q3aahfe0el1hSUtHjB OgfLSCieCKXK0cwfwVA5L0coC3uQ6bBK3+Xf4VoJWTaHpzoYMUOnICDKKZz6wryXrVoVvDuNjcH 70Lv328pnrXS2BcnbuqAeupnskk7J77Pd1aJygSHnqX906DTzLIlOdecokdb8sC83rQB7SXNlQg qhfbO9rfSVxXXpIJdAqkrN2GRFa3uGfTqPD0sKMaBPGKaFC1kjrt0LIA4aLjJv3SDIqqPd7gyS2 LGMOURbNvrGXAJet2LPns0vuQeJBK5QL2gG+4wse/uJZobo5R86x X-Google-Smtp-Source: AGHT+IFRSml/96ZF+zdP2XG2A2cjs8LpXx9Mz36adzlotPnd6748K4kiGuRZWvx26txCGMNuN4LF4a9f50H1 X-Received: by 2002:a17:903:3d0d:b0:224:2717:798d with SMTP id d9443c01a7336-22ac2c2eb98mr11723625ad.50.1744152713017; Tue, 08 Apr 2025 15:51:53 -0700 (PDT) Received: from postal.iol.unh.edu (postal.iol.unh.edu. [2606:4100:3880:1234::84]) by smtp-relay.gmail.com with ESMTPS id d9443c01a7336-22978a2b259sm9644205ad.95.2025.04.08.15.51.52 (version=TLS1_2 cipher=ECDHE-ECDSA-AES128-GCM-SHA256 bits=128/128); Tue, 08 Apr 2025 15:51:53 -0700 (PDT) X-Relaying-Domain: iol.unh.edu Date: Tue, 08 Apr 2025 15:51:53 -0700 (PDT) Message-ID: <67f5a889.170a0220.5ec4c.2773SMTPIN_ADDED_MISSING@mx.google.com> Received: from [172.21.0.5] (unknown [172.18.0.240]) by postal.iol.unh.edu (Postfix) with ESMTP id 374366052471; Tue, 8 Apr 2025 18:51:52 -0400 (EDT) Subject: |SUCCESS| [GIT MASTER] e30e194c4d06cf9b0e93f9f0f2a289bef96abc1a From: dpdklab@iol.unh.edu To: Test Report Cc: dpdk-test-reports@iol.unh.edu, Akhil Goyal Content-Type: text/plain X-BeenThere: test-report@dpdk.org X-Mailman-Version: 2.1.29 Precedence: list List-Id: automatic DPDK test reports List-Unsubscribe: , List-Archive: List-Post: List-Help: List-Subscribe: , Errors-To: test-report-bounces@dpdk.org _Testing PASS_ Branch: dpdk-next-crypto e30e194c4d06cf9b0e93f9f0f2a289bef96abc1a --> testing pass Upstream job id: Generic-DPDK-Compile-Meson#378267 Test environment and result as below: +----------------------------------------+--------------------+ | Environment | dpdk_meson_compile | +========================================+====================+ | RHEL9 (ARM) | PASS | +----------------------------------------+--------------------+ | Ubuntu 20.04 ARM GCC Cross Compile | PASS | +----------------------------------------+--------------------+ | Fedora 40 (ARM) | PASS | +----------------------------------------+--------------------+ | Fedora 40 (ARM Clang) | PASS | +----------------------------------------+--------------------+ | Ubuntu 20.04 ARM SVE | PASS | +----------------------------------------+--------------------+ | Debian 12 with MUSDK | PASS | +----------------------------------------+--------------------+ | Fedora 41 (ARM) | PASS | +----------------------------------------+--------------------+ | Ubuntu 22.04 (ARM) | PASS | +----------------------------------------+--------------------+ | Fedora 41 (ARM Clang) | PASS | +----------------------------------------+--------------------+ | Ubuntu 24.04 (ARM) | PASS | +----------------------------------------+--------------------+ | CentOS Stream 10 (ARM) | PASS | +----------------------------------------+--------------------+ | CentOS Stream 9 (ARM) | PASS | +----------------------------------------+--------------------+ | Ubuntu 20.04 (ARM) | PASS | +----------------------------------------+--------------------+ | Debian 12 (arm) | PASS | +----------------------------------------+--------------------+ | Ubuntu 20.04 ARM Clang Cross Compile | PASS | +----------------------------------------+--------------------+ | Ubuntu 20.04 aarch32 GCC Cross Compile | PASS | +----------------------------------------+--------------------+ RHEL9 (ARM) Kernel: Depends on container host Compiler: gcc 11.5.0 20240719 (Red Hat 11.5.0-2) Ubuntu 20.04 ARM GCC Cross Compile Kernel: Depends on container host Compiler: aarch64-linux-gnu-gcc (Ubuntu 9.4.0-1ubuntu1~20.04.2) 9.4.0 Fedora 40 (ARM) Kernel: Depends on container host Compiler: gcc 14.2.1 20240912 (Red Hat 14.2.1-3) Fedora 40 (ARM Clang) Kernel: Depends on container host Compiler: clang 18.1.8 (Fedora 18.1.8-1.fc40) Ubuntu 20.04 ARM SVE Kernel: Depends on container host Compiler: gcc (Ubuntu 10.5.0-1ubuntu1~20.04) 10.5.0 Debian 12 with MUSDK Kernel: Depends on container host Compiler: gcc (Debian 12.2.0-14) 12.2.0 Fedora 41 (ARM) Kernel: Depends on container host Compiler: gcc 14.2.1 20240912 (Red Hat 14.2.1-3) Ubuntu 22.04 (ARM) Kernel: Depends on container host Compiler: gcc (Ubuntu 11.4.0-1ubuntu1~22.04) 11.4.0 Fedora 41 (ARM Clang) Kernel: Depends on container host Compiler: clang 19.1.5 (Fedora 19.1.5-1.fc41) Ubuntu 24.04 (ARM) Kernel: Depends on container host Compiler: gcc (Ubuntu 13.3.0-6ubuntu2~24.04) 13.3.0 CentOS Stream 10 (ARM) Kernel: Depends on container host Compiler: gcc 14.2.1 20241104 (Red Hat 14.2.1-6) CentOS Stream 9 (ARM) Kernel: Depends on container host Compiler: gcc 11.5.0 20240719 (Red Hat 11.5.0-2) Ubuntu 20.04 (ARM) Kernel: Depends on container host Compiler: gcc (Ubuntu 9.4.0-1ubuntu1~20.04.2) 9.4.0 Debian 12 (arm) Kernel: Depends on container host Compiler: gcc (Debian 12.2.0-14) 12.2.0 Ubuntu 20.04 ARM Clang Cross Compile Kernel: Depends on container host Compiler: clang 10.0.0-4ubuntu1 Ubuntu 20.04 aarch32 GCC Cross Compile Kernel: Depends on container host Compiler: gcc 9.4.0 To view detailed results, visit: https://lab.dpdk.org/results/dashboard/tarballs/33186/ UNH-IOL DPDK Community Lab To manage your email subscriptions, visit: https://lab.dpdk.org/results/dashboard/preferences/subscriptions/